Workbook

Sheet Data Angka
A1: No. | B1: Nama | C1: Jenis Kelamin | D1: Usia | E1: Pendidikan Terakhir | F1: Departemen | G1: Posisi Jabatan | H1: Jenis Pekerjaan | I1: Masa Kerja | J1: Status Pernikahan | K1: X1 | L1: X2 | M1: X3 | N1: X4 | O1: X5 | P1: X6 | Q1: X7 | R1: TOTAL X | S1: Y1 | T1: Y2 | U1: Y3 | V1: Y4 | W1: Y5 | X1: Y6 | Y1: Y7 | Z1: Y8 | AA1: Y9 | AB1: Y10 | AC1: Y11 | AD1: Y12 | AE1: Y13 | AF1: Y14 | AG1: Y15 | AH1: Y16 | AI1: Y17 | AJ1: Y18 | AK1: Y19 | AL1: TOTAL Y | AM1: TOTAL A1 | AN1: TOTAL A2 | AO1: TOTAL A3 | AP1: TOTAL A4 | AQ1: TOTAL B1 | AR1: TOTAL B2 | AS1: TOTAL B3
A2: 1. | B2: M. Nur Fatah | C2: Laki-laki | D2: 25 | E2: SMK | F2: Spinning 4 | G2: Operator | H2: Shift | I2: >5 tahun | J2: Belum menikah | K2: 3 | L2: 3 | M2: 3 | N2: 3 | O2: 3 | P2: 2 | Q2: 3 | R2: =SUM('Data Angka'!K2:Q2) -> 20 | S2: 3 | T2: 3 | U2: 3 | V2: 3 | W2: 3 | X2: 2 | Y2: 3 | Z2: 2 | AA2: 2 | AB2: 3 | AC2: 3 | AD2: 3 | AE2: 3 | AF2: 3 | AG2: 3 | AH2: 3 | AI2: 3 | AJ2: 3 | AK2: 3 | AL2: =SUM(S2:AK2) -> 54 | AM2: {=K2:K215+L2:L215} -> 6 | AN2: {=M2:M215+N2:N215} -> 6 | AO2: {=O2:O215+P2:P215} -> 5 | AP2: 3 | AQ2: {=S2:S215+T2:T215+U2:U215+V2:V215+W2:W215+X2:X215} -> 17 | AR2: {=Y2:Y215+Z2:Z215+AA2:AA215+AB2:AB215+AC2:AC215+AD2:AD215+AE2:AE215} -> 19 | AS2: {=AF2:AF215+AG2:AG215+AH2:AH215+AI2:AI215+AJ2:AJ215+AK2:AK215} -> 18
A3: 2. | B3: Marito | C3: Laki-laki | D3: 53 | E3: SMA | F3: Spinning 4 | G3: Operator | H3: Shift | I3: >5 tahun | J3: Menikah | K3: 4 | L3: 4 | M3: 4 | N3: 4 | O3: 3 | P3: 4 | Q3: 4 | R3: =SUM('Data Angka'!K3:Q3) -> 27 | S3: 3 | T3: 3 | U3: 3 | V3: 1 | W3: 1 | X3: 3 | Y3: 3 | Z3: 3 | AA3: 3 | AB3: 3 | AC3: 3 | AD3: 3 | AE3: 3 | AF3: 3 | AG3: 3 | AH3: 3 | AI3: 3 | AJ3: 3 | AK3: 3 | AL3: =SUM(S3:AK3) -> 53 | AM3: 8 | AN3: 8 | AO3: 7 | AP3: 4 | AQ3: 14 | AR3: 21 | AS3: 18
A4: 3. | B4: Danu Lupi Setiaji | C4: Laki-laki | D4: 31 | E4: SMA | F4: Spinning 4 | G4: Operator | H4: Shift | I4: >5 tahun | J4: Menikah | K4: 5 | L4: 5 | M4: 5 | N4: 5 | O4: 3 | P4: 3 | Q4: 5 | R4: =SUM('Data Angka'!K4:Q4) -> 31 | S4: 3 | T4: 3 | U4: 3 | V4: 3 | W4: 3 | X4: 3 | Y4: 2 | Z4: 2 | AA4: 2 | AB4: 2 | AC4: 2 | AD4: 1 | AE4: 2 | AF4: 1 | AG4: 1 | AH4: 1 | AI4: 1 | AJ4: 1 | AK4: 1 | AL4: =SUM(S4:AK4) -> 37 | AM4: 10 | AN4: 10 | AO4: 6 | AP4: 5 | AQ4: 18 | AR4: 13 | AS4: 6
A5: 4. | B5: Sukirman | C5: Laki-laki | D5: 48 | E5: SMA | F5: Spinning 4 | G5: Operator | H5: Shift | I5: >5 tahun | J5: Menikah | K5: 5 | L5: 5 | M5: 5 | N5: 5 | O5: 5 | P5: 4 | Q5: 5 | R5: =SUM('Data Angka'!K5:Q5) -> 34 | S5: 3 | T5: 3 | U5: 2 | V5: 1 | W5: 2 | X5: 2 | Y5: 3 | Z5: 3 | AA5: 1 | AB5: 2 | AC5: 2 | AD5: 1 | AE5: 3 | AF5: 1 | AG5: 1 | AH5: 1 | AI5: 1 | AJ5: 1 | AK5: 1 | AL5: =SUM(S5:AK5) -> 34 | AM5: 10 | AN5: 10 | AO5: 9 | AP5: 5 | AQ5: 13 | AR5: 15 | AS5: 6
A6: 5. | B6: Eko Andreyanto | C6: Laki-laki | D6: 30 | E6: SMA | F6: Spinning 4 | G6: Operator | H6: Shift | I6: >5 tahun | J6: Menikah | K6: 5 | L6: 5 | M6: 5 | N6: 5 | O6: 5 | P6: 5 | Q6: 5 | R6: =SUM('Data Angka'!K6:Q6) -> 35 | S6: 3 | T6: 2 | U6: 1 | V6: 1 | W6: 1 | X6: 1 | Y6: 1 | Z6: 1 | AA6: 1 | AB6: 1 | AC6: 1 | AD6: 1 | AE6: 3 | AF6: 1 | AG6: 1 | AH6: 1 | AI6: 1 | AJ6: 1 | AK6: 1 | AL6: =SUM(S6:AK6) -> 24 | AM6: 10 | AN6: 10 | AO6: 10 | AP6: 5 | AQ6: 9 | AR6: 9 | AS6: 6
A7: 6. | B7: Tutuk K. | C7: Laki-laki | D7: 28 | E7: SMK | F7: Spinning 4 | G7: Operator | H7: Shift | I7: >5 tahun | J7: Menikah | K7: 5 | L7: 5 | M7: 5 | N7: 5 | O7: 5 | P7: 5 | Q7: 5 | R7: =SUM('Data Angka'!K7:Q7) -> 35 | S7: 3 | T7: 2 | U7: 1 | V7: 1 | W7: 1 | X7: 1 | Y7: 1 | Z7: 1 | AA7: 1 | AB7: 1 | AC7: 1 | AD7: 1 | AE7: 3 | AF7: 1 | AG7: 1 | AH7: 1 | AI7: 1 | AJ7: 1 | AK7: 1 | AL7: =SUM(S7:AK7) -> 24 | AM7: 10 | AN7: 10 | AO7: 10 | AP7: 5 | AQ7: 9 | AR7: 9 | AS7: 6
A8: 7. | B8: Eko Pamardi | C8: Laki-laki | D8: 46 | E8: SMA | F8: Spinning 4 | G8: Operator | H8: Shift | I8: >5 tahun | J8: Menikah | K8: 4 | L8: 4 | M8: 4 | N8: 4 | O8: 4 | P8: 4 | Q8: 4 | R8: =SUM('Data Angka'!K8:Q8) -> 28 | S8: 3 | T8: 3 | U8: 2 | V8: 3 | W8: 2 | X8: 3 | Y8: 3 | Z8: 2 | AA8: 2 | AB8: 1 | AC8: 2 | AD8: 1 | AE8: 3 | AF8: 1 | AG8: 1 | AH8: 1 | AI8: 1 | AJ8: 1 | AK8: 1 | AL8: =SUM(S8:AK8) -> 36 | AM8: 8 | AN8: 8 | AO8: 8 | AP8: 4 | AQ8: 16 | AR8: 14 | AS8: 6
A9: 8. | B9: Nurul Huda | C9: Laki-laki | D9: 47 | E9: SMA | F9: Spinning 4 | G9: Operator | H9: Shift | I9: >5 tahun | J9: Menikah | K9: 5 | L9: 5 | M9: 5 | N9: 5 | O9: 5 | P9: 5 | Q9: 5 | R9: =SUM('Data Angka'!K9:Q9) -> 35 | S9: 3 | T9: 3 | U9: 2 | V9: 1 | W9: 1 | X9: 2 | Y9: 1 | Z9: 1 | AA9: 2 | AB9: 2 | AC9: 1 | AD9: 1 | AE9: 2 | AF9: 1 | AG9: 1 | AH9: 1 | AI9: 1 | AJ9: 1 | AK9: 1 | AL9: =SUM(S9:AK9) -> 28 | AM9: 10 | AN9: 10 | AO9: 10 | AP9: 5 | AQ9: 12 | AR9: 10 | AS9: 6
A10: 9. | B10: A. Nur Kholis | C10: Laki-laki | D10: 30 | E10: SMA | F10: Spinning 4 | G10: Operator | H10: Shift | I10: <1 tahun | J10: Belum menikah | K10: 4 | L10: 4 | M10: 4 | N10: 4 | O10: 3 | P10: 3 | Q10: 4 | R10: =SUM('Data Angka'!K10:Q10) -> 26 | S10: 2 | T10: 2 | U10: 3 | V10: 1 | W10: 1 | X10: 1 | Y10: 2 | Z10: 1 | AA10: 2 | AB10: 3 | AC10: 1 | AD10: 1 | AE10: 2 | AF10: 2 | AG10: 1 | AH10: 1 | AI10: 1 | AJ10: 2 | AK10: 1 | AL10: =SUM(S10:AK10) -> 30 | AM10: 8 | AN10: 8 | AO10: 6 | AP10: 4 | AQ10: 10 | AR10: 12 | AS10: 8
A11: 10. | B11: Aris Bakhok | C11: Laki-laki | D11: 36 | E11: SMK | F11: Spinning 4 | G11: Operator | H11: Shift | I11: >5 tahun | J11: Menikah | K11: 4 | L11: 4 | M11: 4 | N11: 3 | O11: 3 | P11: 4 | Q11: 4 | R11: =SUM('Data Angka'!K11:Q11) -> 26 | S11: 3 | T11: 3 | U11: 2 | V11: 1 | W11: 2 | X11: 1 | Y11: 3 | Z11: 2 | AA11: 2 | AB11: 2 | AC11: 2 | AD11: 2 | AE11: 3 | AF11: 2 | AG11: 1 | AH11: 1 | AI11: 1 | AJ11: 1 | AK11: 1 | AL11: =SUM(S11:AK11) -> 35 | AM11: 8 | AN11: 7 | AO11: 7 | AP11: 4 | AQ11: 12 | AR11: 16 | AS11: 7
A12: 11. | B12: Joni Nuryanto | C12: Laki-laki | D12: 30 | E12: SMK | F12: Spinning 4 | G12: Operator | H12: Shift | I12: >5 tahun | J12: Menikah | K12: 3 | L12: 3 | M12: 2 | N12: 2 | O12: 2 | P12: 3 | Q12: 2 | R12: =SUM('Data Angka'!K12:Q12) -> 17 | S12: 3 | T12: 2 | U12: 3 | V12: 2 | W12: 2 | X12: 2 | Y12: 2 | Z12: 2 | AA12: 2 | AB12: 3 | AC12: 3 | AD12: 3 | AE12: 2 | AF12: 3 | AG12: 3 | AH12: 3 | AI12: 3 | AJ12: 3 | AK12: 3 | AL12: =SUM(S12:AK12) -> 49 | AM12: 6 | AN12: 4 | AO12: 5 | AP12: 2 | AQ12: 14 | AR12: 17 | AS12: 18
A13: 12. | B13: Abdul Rozaq | C13: Laki-laki | D13: 37 | E13: SMK | F13: Spinning 4 | G13: Operator | H13: Shift | I13: >5 tahun | J13: Menikah | K13: 4 | L13: 4 | M13: 4 | N13: 3 | O13: 3 | P13: 3 | Q13: 4 | R13: =SUM('Data Angka'!K13:Q13) -> 25 | S13: 2 | T13: 2 | U13: 2 | V13: 2 | W13: 2 | X13: 2 | Y13: 2 | Z13: 2 | AA13: 2 | AB13: 2 | AC13: 2 | AD13: 2 | AE13: 2 | AF13: 2 | AG13: 3 | AH13: 2 | AI13: 3 | AJ13: 2 | AK13: 2 | AL13: =SUM(S13:AK13) -> 40 | AM13: 8 | AN13: 7 | AO13: 6 | AP13: 4 | AQ13: 12 | AR13: 14 | AS13: 14
A14: 13. | B14: Januar Iskhaq | C14: Laki-laki | D14: 32 | E14: SMK | F14: Spinning 4 | G14: Operator | H14: Shift | I14: >5 tahun | J14: Menikah | K14: 5 | L14: 5 | M14: 5 | N14: 5 | O14: 4 | P14: 5 | Q14: 5 | R14: =SUM('Data Angka'!K14:Q14) -> 34 | S14: 2 | T14: 2 | U14: 2 | V14: 2 | W14: 2 | X14: 1 | Y14: 1 | Z14: 2 | AA14: 3 | AB14: 1 | AC14: 3 | AD14: 2 | AE14: 3 | AF14: 1 | AG14: 1 | AH14: 1 | AI14: 2 | AJ14: 1 | AK14: 1 | AL14: =SUM(S14:AK14) -> 33 | AM14: 10 | AN14: 10 | AO14: 9 | AP14: 5 | AQ14: 11 | AR14: 15 | AS14: 7
... A215: 214. | B215: Handoko | C215: Laki-Laki | D215: 40 | E215: SMK | F215: TX 4 | G215: Operator | H215: Shift | I215: >5 tahun | J215: Menikah | K215: 5 | L215: 4 | M215: 4 | N215: 5 | O215: 5 | P215: 4 | Q215: 4 | R215: =SUM('Data Angka'!K215:Q215) -> 31 | S215: 3 | T215: 3 | U215: 2 | V215: 3 | W215: 2 | X215: 3 | Y215: 3 | Z215: 2 | AA215: 3 | AB215: 3 | AC215: 3 | AD215: 2 | AE215: 2 | AF215: 2 | AG215: 3 | AH215: 3 | AI215: 3 | AJ215: 2 | AK215: 2 | AL215: =SUM(S215:AK215) -> 49 | AM215: 9 | AN215: 9 | AO215: 9 | AP215: 4 | AQ215: 16 | AR215: 18 | AS215: 15

Sheet Kategorisasi
A1: No. | B1: TOTAL X | C1: KATEGORI X | E1: KATEGORISASI X | J1: TOTAL Y | K1: KATEGORI Y | M1: Frekuensi X | O1: Persentase X
A2: 1 | B2: 20 | C2: =IF(B2>=39,"Tinggi",IF(B2>=22,"Sedang","Rendah")) -> Rendah | E2: MEAN | F2: 30.46 | G2: RENDAH | H2: X < 22 | J2: 54 | K2: =IF(J2>=53,"Tinggi",IF(J2>=33,"Sedang","Rendah")) -> Tinggi | M2: Rendah | N2: 11 | O2: =N2/$N$5 -> 0.051401869
A3: 2 | B3: 27 | C3: =IF(B3>=39,"Tinggi",IF(B3>=22,"Sedang","Rendah")) -> Sedang | E3: SD | F3: 8.83 | G3: SEDANG | H3: 22 ≤ X < 39 | J3: 53 | K3: =IF(J3>=53,"Tinggi",IF(J3>=33,"Sedang","Rendah")) -> Tinggi | M3: Sedang | N3: 203 | O3: =N3/$N$5 -> 0.94859813
A4: 3 | B4: 31 | C4: =IF(B4>=39,"Tinggi",IF(B4>=22,"Sedang","Rendah")) -> Sedang | E4: M -1SD | F4: 22 | G4: TINGGI | H4: X > 39 | J4: 39 | K4: =IF(J4>=53,"Tinggi",IF(J4>=33,"Sedang","Rendah")) -> Sedang | M4: Tinggi | N4: 0 | O4: =N4/$N$5 -> 0
A5: 4 | B5: 34 | C5: =IF(B5>=39,"Tinggi",IF(B5>=22,"Sedang","Rendah")) -> Sedang | E5: M + 1SD | F5: 39 | J5: 36 | K5: =IF(J5>=53,"Tinggi",IF(J5>=33,"Sedang","Rendah")) -> Sedang | M5: Total | N5: =SUM(N2:N4) -> 214 | O5: =SUM(O2:O4) -> 1
A6: 5 | B6: 35 | C6: =IF(B6>=39,"Tinggi",IF(B6>=22,"Sedang","Rendah")) -> Sedang | J6: 28 | K6: =IF(J6>=53,"Tinggi",IF(J6>=33,"Sedang","Rendah")) -> Rendah
A7: 6 | B7: 35 | C7: =IF(B7>=39,"Tinggi",IF(B7>=22,"Sedang","Rendah")) -> Sedang | J7: 28 | K7: =IF(J7>=53,"Tinggi",IF(J7>=33,"Sedang","Rendah")) -> Rendah
A8: 7 | B8: 28 | C8: =IF(B8>=39,"Tinggi",IF(B8>=22,"Sedang","Rendah")) -> Sedang | E8: KATEGORISASI Y | J8: 40 | K8: =IF(J8>=53,"Tinggi",IF(J8>=33,"Sedang","Rendah")) -> Sedang | M8: Frekuensi Y | O8: Persentase Y
A9: 8 | B9: 35 | C9: =IF(B9>=39,"Tinggi",IF(B9>=22,"Sedang","Rendah")) -> Sedang | E9: MEAN | F9: 42.78 | G9: RENDAH | H9: Y < 33 | J9: 30 | K9: =IF(J9>=53,"Tinggi",IF(J9>=33,"Sedang","Rendah")) -> Rendah | M9: Rendah | N9: 29 | O9: =N9/N12 -> 0.13551402
A10: 9 | B10: 26 | C10: =IF(B10>=39,"Tinggi",IF(B10>=22,"Sedang","Rendah")) -> Sedang | E10: SD | F10: 10.22 | G10: SEDANG | H10: 33 ≤ Y < 53 | J10: 30 | K10: =IF(J10>=53,"Tinggi",IF(J10>=33,"Sedang","Rendah")) -> Rendah | M10: Sedang | N10: 144 | O10: =N10/N12 -> 0.6728972
A11: 10 | B11: 26 | C11: =IF(B11>=39,"Tinggi",IF(B11>=22,"Sedang","Rendah")) -> Sedang | E11: M -1SD | F11: 33 | G11: TINGGI | H11: Y > 53 | J11: 37 | K11: =IF(J11>=53,"Tinggi",IF(J11>=33,"Sedang","Rendah")) -> Sedang | M11: Tinggi | N11: 41 | O11: =N11/N12 -> 0.19158879
A12: 11 | B12: 17 | C12: =IF(B12>=39,"Tinggi",IF(B12>=22,"Sedang","Rendah")) -> Rendah | E12: M + 1SD | F12: 53 | J12: 49 | K12: =IF(J12>=53,"Tinggi",IF(J12>=33,"Sedang","Rendah")) -> Sedang | M12: Total | N12: =SUM(N9:N11) -> 214 | O12: =SUM(O9:O11) -> 1
A13: 12 | B13: 25 | C13: =IF(B13>=39,"Tinggi",IF(B13>=22,"Sedang","Rendah")) -> Sedang | J13: 42 | K13: =IF(J13>=53,"Tinggi",IF(J13>=33,"Sedang","Rendah")) -> Sedang
A14: 13 | B14: 34 | C14: =IF(B14>=39,"Tinggi",IF(B14>=22,"Sedang","Rendah")) -> Sedang | J14: 37 | K14: =IF(J14>=53,"Tinggi",IF(J14>=33,"Sedang","Rendah")) -> Sedang
A15: 14 | B15: 29 | C15: =IF(B15>=39,"Tinggi",IF(B15>=22,"Sedang","Rendah")) -> Sedang | J15: 61 | K15: =IF(J15>=53,"Tinggi",IF(J15>=33,"Sedang","Rendah")) -> Tinggi
A16: 15 | B16: 28 | C16: =IF(B16>=39,"Tinggi",IF(B16>=22,"Sedang","Rendah")) -> Sedang | J16: 33 | K16: =IF(J16>=53,"Tinggi",IF(J16>=33,"Sedang","Rendah")) -> Sedang
A17: 16 | B17: 33 | C17: =IF(B17>=39,"Tinggi",IF(B17>=22,"Sedang","Rendah")) -> Sedang | J17: 37 | K17: =IF(J17>=53,"Tinggi",IF(J17>=33,"Sedang","Rendah")) -> Sedang
A18: 17 | B18: 28 | C18: =IF(B18>=39,"Tinggi",IF(B18>=22,"Sedang","Rendah")) -> Sedang | J18: 37 | K18: =IF(J18>=53,"Tinggi",IF(J18>=33,"Sedang","Rendah")) -> Sedang
A19: 18 | B19: 33 | C19: =IF(B19>=39,"Tinggi",IF(B19>=22,"Sedang","Rendah")) -> Sedang | J19: 42 | K19: =IF(J19>=53,"Tinggi",IF(J19>=33,"Sedang","Rendah")) -> Sedang
A20: 19 | B20: 24 | C20: =IF(B20>=39,"Tinggi",IF(B20>=22,"Sedang","Rendah")) -> Sedang | J20: 47 | K20: =IF(J20>=53,"Tinggi",IF(J20>=33,"Sedang","Rendah")) -> Sedang
A21: 20 | B21: 31 | C21: =IF(B21>=39,"Tinggi",IF(B21>=22,"Sedang","Rendah")) -> Sedang | J21: 41 | K21: =IF(J21>=53,"Tinggi",IF(J21>=33,"Sedang","Rendah")) -> Sedang
A22: 21 | B22: 31 | C22: =IF(B22>=39,"Tinggi",IF(B22>=22,"Sedang","Rendah")) -> Sedang | J22: 52 | K22: =IF(J22>=53,"Tinggi",IF(J22>=33,"Sedang","Rendah")) -> Sedang
A23: 22 | B23: 28 | C23: =IF(B23>=39,"Tinggi",IF(B23>=22,"Sedang","Rendah")) -> Sedang | J23: 51 | K23: =IF(J23>=53,"Tinggi",IF(J23>=33,"Sedang","Rendah")) -> Sedang
A24: 23 | B24: 28 | C24: =IF(B24>=39,"Tinggi",IF(B24>=22,"Sedang","Rendah")) -> Sedang | J24: 65 | K24: =IF(J24>=53,"Tinggi",IF(J24>=33,"Sedang","Rendah")) -> Tinggi
... A215: 214 | B215: 31 | C215: =IF(B215>=39,"Tinggi",IF(B215>=22,"Sedang","Rendah")) -> Sedang | J215: 49 | K215: =IF(J215>=53,"Tinggi",IF(J215>=33,"Sedang","Rendah")) -> Sedang

Sheet Pendidikan
A3: Pendidikan | B3: Count of Jenis Kelamin
A4: D3 | B4: 1
A5: D4 | B5: 1
A6: S1 | B6: 6
A7: SMA | B7: 108
A8: SMK | B8: 97
A9: SMP | B9: 1
A10: (blank)
A11: Grand Total | B11: 214

Sheet Masa Kerja
A3: Masa kerja | B3: Count of Posisi Jabatan
A4: <1 tahun | B4: 31
A5: >5 tahun | B5: 150
A6: 1-5 tahun | B6: 33
A7: Grand Total | B7: 214

Sheet S.Pernikahan
A3: Row Labels | B3: Count of Masa Kerja
A4: Belum menikah | B4: 25
A5: Belum menikah | B5: 49
A6: Menikah | B6: 59
A7: Menikah | B7: 81
A8: (blank)
A9: Grand Total | B9: 214

Sheet J.Pekerjaan
A3: Row Labels | B3: Count of Status Pernikahan
A4: Non-shift | B4: 21
A5: Non-Shift | B5: 1
A6: Shft | B6: 1
A7: Shift | B7: 100
A8: Shift | B8: 91
A9: (blank)
A10: Grand Total | B10: 214

Sheet Demografis
A1: No. | B1: TOTAL X | C1: TOTAL Y | D1: Jenis Kelamin | E1: Usia | F1: Pendidikan Terakhir | G1: Departemen | H1: Posisi Jabatan | I1: Jenis Pekerjaan | J1: Masa Kerja | K1: Status Pernikahan
A2: 1. | B2: 20 | C2: 54 | D2: Laki-laki | E2: 25 | F2: SMK | G2: Spinning 4 | H2: Operator | I2: Shift | J2: >5 tahun | K2: Belum menikah
A3: 2. | B3: 27 | C3: 53 | D3: Laki-laki | E3: 53 | F3: SMA | G3: Spinning 4 | H3: Operator | I3: Shift | J3: >5 tahun | K3: Menikah
A4: 3. | B4: 31 | C4: 39 | D4: Laki-laki | E4: 31 | F4: SMA | G4: Spinning 4 | H4: Operator | I4: Shift | J4: >5 tahun | K4: Menikah
A5: 4. | B5: 34 | C5: 36 | D5: Laki-laki | E5: 48 | F5: SMA | G5: Spinning 4 | H5: Operator | I5: Shift | J5: >5 tahun | K5: Menikah
A6: 5. | B6: 35 | C6: 28 | D6: Laki-laki | E6: 30 | F6: SMA | G6: Spinning 4 | H6: Operator | I6: Shift | J6: >5 tahun | K6: Menikah
A7: 6. | B7: 35 | C7: 28 | D7: Laki-laki | E7: 28 | F7: SMK | G7: Spinning 4 | H7: Operator | I7: Shift | J7: >5 tahun | K7: Menikah
A8: 7. | B8: 28 | C8: 40 | D8: Laki-laki | E8: 46 | F8: SMA | G8: Spinning 4 | H8: Operator | I8: Shift | J8: >5 tahun | K8: Menikah
A9: 8. | B9: 35 | C9: 30 | D9: Laki-laki | E9: 47 | F9: SMA | G9: Spinning 4 | H9: Operator | I9: Shift | J9: >5 tahun | K9: Menikah
A10: 9. | B10: 26 | C10: 30 | D10: Laki-laki | E10: 30 | F10: SMA | G10: Spinning 4 | H10: Operator | I10: Shift | J10: <1 tahun | K10: Belum menikah
A11: 10. | B11: 26 | C11: 37 | D11: Laki-laki | E11: 36 | F11: SMK | G11: Spinning 4 | H11: Operator | I11: Shift | J11: >5 tahun | K11: Menikah
A12: 11. | B12: 17 | C12: 49 | D12: Laki-laki | E12: 30 | F12: SMK | G12: Spinning 4 | H12: Operator | I12: Shift | J12: >5 tahun | K12: Menikah
A13: 12. | B13: 25 | C13: 42 | D13: Laki-laki | E13: 37 | F13: SMK | G13: Spinning 4 | H13: Operator | I13: Shift | J13: >5 tahun | K13: Menikah
... A215: 214. | B215: 31 | C215: 49 | D215: Laki-Laki | E215: 40 | F215: SMK | G215: TX 4 | H215: Operator | I215: Shift | J215: >5 tahun | K215: Menikah

Sheet Total Jenis Kelamin
A3: Row Labels | B3: Count of Jenis Pekerjaan | C3: Persentase
A4: Laki-laki | B4: 204 | C4: =GETPIVOTDATA("Jenis Pekerjaan",$A$3,"Jenis Kelamin ","Laki-laki")/GETPIVOTDATA("Jenis Pekerjaan",$A$3) -> 0.95327103
A5: Perempuan | B5: 10 | C5: =GETPIVOTDATA("Jenis Pekerjaan",$A$3,"Jenis Kelamin ","Perempuan ")/GETPIVOTDATA("Jenis Pekerjaan",$A$3) -> 0.046728972
A6: (blank)
A7: Grand Total | B7: 214 | C7: =C4+C5 -> 1

Sheet Data Mentah 
A1: No. | B1: Nama | C1: Jenis Kelamin | D1: Usia | E1: Pendidikan Terakhir | F1: Departemen | G1: Posisi Jabatan | H1: Jenis Pekerjaan | I1: Masa Kerja | J1: Status Pernikahan | K1: X1 | L1: X2 | M1: X3 | N1: X4 | O1: X5 | P1: X6 | Q1: X7 | R1: TOTAL X | S1: Y1 | T1: Y2 | U1: Y3 | V1: Y4 | W1: Y5 | X1: Y6 | Y1: Y7 | Z1: Y8 | AA1: Y9 | AB1: Y10 | AC1: Y11 | AD1: Y12 | AE1: Y13 | AF1: Y14 | AG1: Y15 | AH1: Y16 | AI1: Y17 | AJ1: Y18 | AK1: Y19 | AL1: TOTAL Y
A2: 1. | B2: M. Nur Fatah | C2: Laki-laki | D2: 25 | E2: SMK | F2: Spinning 4 | G2: Operator | H2: Shift | I2: >5 tahun | J2: Belum menikah | K2: KS | L2: KS | M2: KS | N2: KS | O2: KS | P2: TS | Q2: KS | S2: K | T2: K | U2: K | V2: K | W2: K | X2: J | Y2: K | Z2: J | AA2: J | AB2: K | AC2: K | AD2: K | AE2: K | AF2: K | AG2: K | AH2: K | AI2: K | AJ2: K | AK2: K
A3: 2. | B3: Marito | C3: Laki-laki | D3: 53 | E3: SMA | F3: Spinning 4 | G3: Operator | H3: Shift | I3: >5 tahun | J3: Menikah | K3: S | L3: S | M3: S | N3: S | O3: KS | P3: S | Q3: S | S3: K | T3: K | U3: K | V3: TP | W3: TP | X3: K | Y3: K | Z3: K | AA3: K | AB3: K | AC3: K | AD3: K | AE3: K | AF3: K | AG3: K | AH3: K | AI3: K | AJ3: K | AK3: K
A4: 3. | B4: Danu Lupi Setiaji | C4: Laki-laki | D4: 31 | E4: SMA | F4: Spinning 4 | G4: Operator | H4: Shift | I4: >5 tahun | J4: Menikah | K4: SS | L4: SS | M4: SS | N4: SS | O4: KS | P4: KS | Q4: SS | S4: K | T4: K | U4: K | V4: K | W4: K | X4: K | Y4: J | Z4: J | AA4: J | AB4: SG | AC4: J | AD4: TP | AE4: J | AF4: TP | AG4: TP | AH4: TP | AI4: TP | AJ4: TP | AK4: TP
A5: 4. | B5: Sukirman | C5: Laki-laki | D5: 48 | E5: SMA | F5: Spinning 4 | G5: Operator | H5: Shift | I5: >5 tahun | J5: Menikah | K5: SS | L5: SS | M5: SS | N5: SS | O5: SS | P5: S | Q5: SS | S5: K | T5: K | U5: J | V5: TP | W5: J | X5: J | Y5: K | Z5: K | AA5: TP | AB5: SG | AC5: J | AD5: TP | AE5: K | AF5: TP | AG5: TP | AH5: TP | AI5: TP | AJ5: TP | AK5: TP
A6: 5. | B6: Eko Andreyanto | C6: Laki-laki | D6: 30 | E6: SMA | F6: Spinning 4 | G6: Operator | H6: Shift | I6: >5 tahun | J6: Menikah | K6: SS | L6: SS | M6: SS | N6: SS | O6: SS | P6: SS | Q6: SS | S6: K | T6: J | U6: TP | V6: TP | W6: TP | X6: TP | Y6: TP | Z6: TP | AA6: TP | AB6: SU | AC6: TP | AD6: TP | AE6: K | AF6: TP | AG6: TP | AH6: TP | AI6: TP | AJ6: TP | AK6: TP
A7: 6. | B7: Tutuk K. | C7: Laki-laki | D7: 28 | E7: SMK | F7: Spinning 4 | G7: Operator | H7: Shift | I7: >5 tahun | J7: Menikah | K7: SS | L7: SS | M7: SS | N7: SS | O7: SS | P7: SS | Q7: SS | S7: K | T7: J | U7: TP | V7: TP | W7: TP | X7: TP | Y7: TP | Z7: TP | AA7: TP | AB7: SU | AC7: TP | AD7: TP | AE7: K | AF7: TP | AG7: TP | AH7: TP | AI7: TP | AJ7: TP | AK7: TP
A8: 7. | B8: Eko Pamardi | C8: Laki-laki | D8: 46 | E8: SMA | F8: Spinning 4 | G8: Operator | H8: Shift | I8: >5tahun | J8: Menikah | K8: S | L8: S | M8: S | N8: S | O8: S | P8: S | Q8: S | S8: K | T8: K | U8: J | V8: K | W8: J | X8: K | Y8: K | Z8: J | AA8: J | AB8: SU | AC8: J | AD8: TP | AE8: K | AF8: TP | AG8: TP | AH8: TP | AI8: TP | AJ8: TP | AK8: TP
A9: 8. | B9: Nurul Huda | C9: Laki-laki | D9: 47 | E9: SMA | F9: Spinning 4 | G9: Operator | H9: Shift | I9: >5 tahun | J9: Menikah | K9: SS | L9: SS | M9: SS | N9: SS | O9: SS | P9: SS | Q9: SS | S9: K | T9: K | U9: J | V9: TP | W9: TP | X9: J | Y9: TP | Z9: TP | AA9: J | AB9: SG | AC9: TP | AD9: TP | AE9: J | AF9: TP | AG9: TP | AH9: TP | AI9: TP | AJ9: TP | AK9: TP
A10: 9. | B10: A. Nur Kholis | C10: Laki-laki | D10: 30 | E10: SMA | F10: Spinning 4 | G10: Operator | H10: Shift | I10: <1 tahun | J10: Belum menikah | K10: S | L10: S | M10: S | N10: S | O10: KS | P10: KS | Q10: S | S10: J | T10: J | U10: K | V10: TP | W10: TP | X10: TP | Y10: J | Z10: TP | AA10: J | AB10: K | AC10: TP | AD10: TP | AE10: J | AF10: J | AG10: TP | AH10: TP | AI10: TP | AJ10: J | AK10: TP
A11: 10. | B11: Aris Bakhok | C11: Laki-laki | D11: 36 | E11: SMK | F11: Spinning 4 | G11: Operator | H11: Shift | I11: >5 tahun | J11: Menikah | K11: S | L11: S | M11: S | N11: KS | O11: KS | P11: S | Q11: S | S11: K | T11: K | U11: J | V11: TP | W11: J | X11: TP | Y11: K | Z11: J | AA11: J | AB11: SG | AC11: J | AD11: J | AE11: K | AF11: J | AG11: TP | AH11: TP | AI11: TP | AJ11: TP | AK11: TP
A12: 11. | B12: Joni Nuryanto | C12: Laki-laki | D12: 30 | E12: SMK | F12: Spinning 4 | G12: Operator | H12: Shift | I12: >5 tahun | J12: Menikah | K12: KS | L12: KS | M12: TS | N12: TS | O12: TS | P12: KS | Q12: TS | S12: K | T12: J | U12: K | V12: J | W12: J | X12: J | Y12: J | Z12: J | AA12: J | AB12: K | AC12: K | AD12: K | AE12: J | AF12: K | AG12: K | AH12: K | AI12: K | AJ12: K | AK12: K
A13: 12. | B13: Abdul Rozaq | C13: Laki-laki | D13: 37 | E13: SMK | F13: Spinning 4 | G13: Operator | H13: Shift | I13: >5 tahun | J13: Menikah | K13: S | L13: S | M13: S | N13: KS | O13: KS | P13: KS | Q13: S | S13: J | T13: J | U13: J | V13: J | W13: J | X13: J | Y13: J | Z13: J | AA13: J | AB13: SG | AC13: J | AD13: J | AE13: J | AF13: J | AG13: K | AH13: J | AI13: K | AJ13: J | AK13: J
... A215: 214. | B215: Handoko | C215: Laki-Laki | D215: 40 | E215: SMK | F215: TX 4 | G215: Operator | H215: Shift | I215: >5 tahun | J215: Menikah | K215: SS | L215: S | M215: S | N215: SS | O215: SS | P215: S | Q215: S | S215: K | T215: K | U215: J | V215: K | W215: J | X215: K | Y215: K | Z215: J | AA215: K | AB215: K | AC215: K | AD215: J | AE215: J | AF215: J | AG215: K | AH215: K | AI215: K | AJ215: J | AK215: J

Sheet Data X (GK)
A1: X1 | B1: X2 | C1: X3 | D1: X4 | E1: X5 | F1: X6 | G1: X7 | H1: TOTAL X
A2: 3 | B2: 3 | C2: 3 | D2: 3 | E2: 3 | F2: 2 | G2: 3 | H2: =SUM('Data Angka'!A2:G2) -> 25
A3: 4 | B3: 4 | C3: 4 | D3: 4 | E3: 3 | F3: 4 | G3: 4 | H3: =SUM('Data Angka'!A3:G3) -> 53
A4: 5 | B4: 5 | C4: 5 | D4: 5 | E4: 3 | F4: 3 | G4: 5 | H4: =SUM('Data Angka'!A4:G4) -> 31
A5: 5 | B5: 5 | C5: 5 | D5: 5 | E5: 5 | F5: 4 | G5: 5 | H5: =SUM('Data Angka'!A5:G5) -> 48
A6: 5 | B6: 5 | C6: 5 | D6: 5 | E6: 5 | F6: 5 | G6: 5 | H6: =SUM('Data Angka'!A6:G6) -> 30
A7: 5 | B7: 5 | C7: 5 | D7: 5 | E7: 5 | F7: 5 | G7: 5 | H7: =SUM('Data Angka'!A7:G7) -> 28
A8: 4 | B8: 4 | C8: 4 | D8: 4 | E8: 4 | F8: 4 | G8: 4 | H8: =SUM('Data Angka'!A8:G8) -> 46
A9: 5 | B9: 5 | C9: 5 | D9: 5 | E9: 5 | F9: 5 | G9: 5 | H9: =SUM('Data Angka'!A9:G9) -> 47
A10: 4 | B10: 4 | C10: 4 | D10: 4 | E10: 3 | F10: 3 | G10: 4 | H10: =SUM('Data Angka'!A10:G10) -> 30
A11: 4 | B11: 4 | C11: 4 | D11: 3 | E11: 3 | F11: 4 | G11: 4 | H11: =SUM('Data Angka'!A11:G11) -> 36
A12: 3 | B12: 3 | C12: 2 | D12: 2 | E12: 2 | F12: 3 | G12: 2 | H12: =SUM('Data Angka'!A12:G12) -> 30
A13: 4 | B13: 4 | C13: 4 | D13: 3 | E13: 3 | F13: 3 | G13: 4 | H13: =SUM('Data Angka'!A13:G13) -> 37
... A215: 5 | B215: 4 | C215: 4 | D215: 5 | E215: 5 | F215: 4 | G215: 4 | H215: =SUM('Data Angka'!A215:G215) -> 40

Sheet Data Y (BO)
A1: Y1 | B1: Y2 | C1: Y3 | D1: Y4 | E1: Y5 | F1: Y6 | G1: Y7 | H1: Y8 | I1: Y9 | J1: Y10 | K1: Y11 | L1: Y12 | M1: Y13 | N1: Y14 | O1: Y15 | P1: Y16 | Q1: Y17 | R1: Y18 | S1: Y19 | T1: TOTAL Y
A2: 3 | B2: 3 | C2: 3 | D2: 3 | E2: 3 | F2: 2 | G2: 3 | H2: 2 | I2: 2 | J2: 3 | K2: 3 | L2: 3 | M2: 3 | N2: 3 | O2: 3 | P2: 3 | Q2: 3 | R2: 3 | S2: 3 | T2: =SUM(A2:S2) -> 54
A3: 3 | B3: 3 | C3: 3 | D3: 1 | E3: 1 | F3: 3 | G3: 3 | H3: 3 | I3: 3 | J3: 3 | K3: 3 | L3: 3 | M3: 3 | N3: 3 | O3: 3 | P3: 3 | Q3: 3 | R3: 3 | S3: 3 | T3: =SUM(A3:S3) -> 53
A4: 3 | B4: 3 | C4: 3 | D4: 3 | E4: 3 | F4: 3 | G4: 2 | H4: 2 | I4: 2 | J4: 4 | K4: 2 | L4: 1 | M4: 2 | N4: 1 | O4: 1 | P4: 1 | Q4: 1 | R4: 1 | S4: 1 | T4: =SUM(A4:S4) -> 39
A5: 3 | B5: 3 | C5: 2 | D5: 1 | E5: 2 | F5: 2 | G5: 3 | H5: 3 | I5: 1 | J5: 4 | K5: 2 | L5: 1 | M5: 3 | N5: 1 | O5: 1 | P5: 1 | Q5: 1 | R5: 1 | S5: 1 | T5: =SUM(A5:S5) -> 36
A6: 3 | B6: 2 | C6: 1 | D6: 1 | E6: 1 | F6: 1 | G6: 1 | H6: 1 | I6: 1 | J6: 5 | K6: 1 | L6: 1 | M6: 3 | N6: 1 | O6: 1 | P6: 1 | Q6: 1 | R6: 1 | S6: 1 | T6: =SUM(A6:S6) -> 28
A7: 3 | B7: 2 | C7: 1 | D7: 1 | E7: 1 | F7: 1 | G7: 1 | H7: 1 | I7: 1 | J7: 5 | K7: 1 | L7: 1 | M7: 3 | N7: 1 | O7: 1 | P7: 1 | Q7: 1 | R7: 1 | S7: 1 | T7: =SUM(A7:S7) -> 28
A8: 3 | B8: 3 | C8: 2 | D8: 3 | E8: 2 | F8: 3 | G8: 3 | H8: 2 | I8: 2 | J8: 5 | K8: 2 | L8: 1 | M8: 3 | N8: 1 | O8: 1 | P8: 1 | Q8: 1 | R8: 1 | S8: 1 | T8: =SUM(A8:S8) -> 40
A9: 3 | B9: 3 | C9: 2 | D9: 1 | E9: 1 | F9: 2 | G9: 1 | H9: 1 | I9: 2 | J9: 4 | K9: 1 | L9: 1 | M9: 2 | N9: 1 | O9: 1 | P9: 1 | Q9: 1 | R9: 1 | S9: 1 | T9: =SUM(A9:S9) -> 30
A10: 2 | B10: 2 | C10: 3 | D10: 1 | E10: 1 | F10: 1 | G10: 2 | H10: 1 | I10: 2 | J10: 3 | K10: 1 | L10: 1 | M10: 2 | N10: 2 | O10: 1 | P10: 1 | Q10: 1 | R10: 2 | S10: 1 | T10: =SUM(A10:S10) -> 30
A11: 3 | B11: 3 | C11: 2 | D11: 1 | E11: 2 | F11: 1 | G11: 3 | H11: 2 | I11: 2 | J11: 4 | K11: 2 | L11: 2 | M11: 3 | N11: 2 | O11: 1 | P11: 1 | Q11: 1 | R11: 1 | S11: 1 | T11: =SUM(A11:S11) -> 37
A12: 3 | B12: 2 | C12: 3 | D12: 2 | E12: 2 | F12: 2 | G12: 2 | H12: 2 | I12: 2 | J12: 3 | K12: 3 | L12: 3 | M12: 2 | N12: 3 | O12: 3 | P12: 3 | Q12: 3 | R12: 3 | S12: 3 | T12: =SUM(A12:S12) -> 49
A13: 2 | B13: 2 | C13: 2 | D13: 2 | E13: 2 | F13: 2 | G13: 2 | H13: 2 | I13: 2 | J13: 4 | K13: 2 | L13: 2 | M13: 2 | N13: 2 | O13: 3 | P13: 2 | Q13: 3 | R13: 2 | S13: 2 | T13: =SUM(A13:S13) -> 42
... A70: 3 | B70: 3 | C70: 3 | D70: 2 | E70: 3 | F70: 2 | G70: 3 | H70: 2 | I70: 3 | J70: 4 | K70: 3 | L70: 2 | M70: 3 | N70: 2 | O70: 3 | P70: 3 | Q70: 2 | R70: 2 | S70: 2 | T70: =SUM(A70:S70) -> 50
A71: 4 | B71: 3 | C71: 3 | D71: 3 | E71: 2 | F71: 2 | G71: 2 | H71: 3 | I71: 4 | J71: SF | K71: 3 | L71: 2 | M71: 2 | N71: 2 | O71: 1 | P71: 4 | Q71: 4 | R71: 3 | S71: 2 | T71: =SUM(A71:S71) -> 49
A72: 4 | B72: 4 | C72: 4 | D72: 3 | E72: 3 | F72: 3 | G72: 5 | H72: 3 | I72: 4 | J72: 5 | K72: 5 | L72: 3 | M72: 4 | N72: 1 | O72: 2 | P72: 1 | Q72: 1 | R72: 1 | S72: 1 | T72: =SUM(A72:S72) -> 57
A73: 3 | B73: 3 | C73: 3 | D73: 2 | E73: 3 | F73: 3 | G73: 2 | H73: 2 | I73: 2 | J73: 5 | K73: 3 | L73: 3 | M73: 4 | N73: 3 | O73: 2 | P73: 2 | Q73: 5 | R73: 3 | S73: 2 | T73: =SUM(A73:S73) -> 55
A74: 3 | B74: 3 | C74: 1 | D74: 1 | E74: 1 | F74: 1 | G74: 2 | H74: 2 | I74: 1 | J74: 5 | K74: 1 | L74: 1 | M74: 1 | N74: 1 | O74: 1 | P74: 1 | Q74: 1 | R74: 1 | S74: 1 | T74: =SUM(A74:S74) -> 29
A75: 2 | B75: 2 | C75: 4 | D75: 1 | E75: 1 | F75: 3 | G75: 1 | H75: 1 | I75: 1 | J75: 3 | K75: 1 | L75: 1 | M75: 1 | N75: 1 | O75: 1 | P75: 1 | Q75: 1 | R75: 1 | S75: 1 | T75: =SUM(A75:S75) -> 28
A76: 1 | B76: 1 | C76: 1 | D76: 1 | E76: 1 | F76: 1 | G76: 1 | H76: 1 | I76: 1 | J76: 3 | K76: 3 | L76: 1 | M76: 1 | N76: 1 | O76: 1 | P76: 1 | Q76: 3 | R76: 1 | S76: 1 | T76: =SUM(A76:S76) -> 25
A77: 1 | B77: 1 | C77: 1 | D77: 1 | E77: 1 | F77: 1 | G77: 1 | H77: 1 | I77: 1 | J77: 3 | K77: 5 | L77: 5 | M77: 1 | N77: 1 | O77: 5 | P77: 4 | Q77: 1 | R77: 2 | S77: 5 | T77: =SUM(A77:S77) -> 41
A78: 2 | B78: 2 | C78: 2 | D78: 2 | E78: 2 | F78: 2 | G78: 2 | H78: 2 | I78: 3 | J78: 3 | K78: 3 | L78: 2 | M78: 3 | N78: 3 | O78: 3 | P78: 2 | Q78: 2 | R78: 2 | S78: 1 | T78: =SUM(A78:S78) -> 43
A79: 2 | B79: 2 | C79: 2 | D79: 2 | E79: 2 | F79: 2 | G79: 2 | H79: 2 | I79: 3 | J79: 3 | K79: 3 | L79: 2 | M79: 3 | N79: 3 | O79: 3 | P79: 2 | Q79: 2 | R79: 2 | S79: 1 | T79: =SUM(A79:S79) -> 43
A80: 4 | B80: 3 | C80: 2 | D80: 1 | E80: 1 | F80: 2 | G80: 1 | H80: 2 | I80: 2 | J80: 3 | K80: 2 | L80: 1 | M80: 3 | N80: 1 | O80: 1 | P80: 1 | Q80: 4 | R80: 2 | S80: 1 | T80: =SUM(A80:S80) -> 37
A81: 3 | B81: 3 | C81: 3 | D81: 3 | E81: 2 | F81: 2 | G81: 3 | H81: 2 | I81: 2 | J81: 3 | K81: 3 | L81: 2 | M81: 3 | N81: 1 | O81: 2 | P81: 2 | Q81: 2 | R81: 2 | S81: 1 | T81: =SUM(A81:S81) -> 44
A82: 3 | B82: 2 | C82: 2 | D82: 1 | E82: 1 | F82: 1 | G82: 1 | H82: 1 | I82: 2 | J82: 5 | K82: 1 | L82: 1 | M82: 1 | N82: 1 | O82: 1 | P82: 1 | Q82: 1 | R82: 1 | S82: 1 | T82: =SUM(A82:S82) -> 28
A83: 3 | B83: 3 | C83: 3 | D83: 3 | E83: 3 | F83: 2 | G83: 2 | H83: 2 | I83: 3 | J83: 4 | K83: 3 | L83: 2 | M83: 3 | N83: 2 | O83: 2 | P83: 2 | Q83: 3 | R83: 2 | S83: 1 | T83: =SUM(A83:S83) -> 48
... A215: 3 | B215: 3 | C215: 2 | D215: 3 | E215: 2 | F215: 3 | G215: 3 | H215: 2 | I215: 3 | J215: 3 | K215: 3 | L215: 2 | M215: 2 | N215: 2 | O215: 3 | P215: 3 | Q215: 3 | R215: 2 | S215: 2 | T215: =SUM(A215:S215) -> 49
