Workbook

Sheet BIAYA KEPEMILIKAN DT BB
A2: HINO FM 260
A3: No. | B3: KETERANGAN | C3: NILAI | D3: Satuan
A4: 1 | B4: Harga alat | C4: 925000000 | D4: Rp | E4: =C4*8 -> 7400000000
A5: 2 | B5: Nilai Sisa (10%) | C5: =0.1*C4 -> 92500000 | D5: Rp
A6: 3 | B6: Nilai Depresiasi | C6: =C4-C5 -> 832500000 | D6: Rp
A7: 4 | B7: Jam kerja alat | C7: 5469.9 | D7: jam | F7: =C7/12 -> 455.825
A8: 5 | B8: umur alat | C8: 5 | D8: tahun
A9: 6 | B9: usia pakai alat | C9: =C8*C7 -> 27349.5 | D9: jam
A10: 7 | B10: trade-in value rate | C10: =C4/C5 -> 10 | D10: %
A11: 8 | B11: faktor | C11: =1-(((C8-1)*(1-0.1))/(2*C8)) -> 0.64
A12: biaya kepemilikan
A13: 1 | B13: Depresiasi | C13: =C6/C9 -> 30439.313 | D13: Rp/jam | E13: =C13*C7 -> 166500000 | F13: =E13/12 -> 13875000 | G13: =F13*8 -> 111000000
A14: 2 | B14: bunga, asuransi, pajak (IIT) | C14: =(C11*C4*0.8)/C7 -> 86582.936 | D14: Rp/jam | E14: =E13*8 -> 1332000000
A15: 3 | B15: total biaya kepemilikan | C15: =C13+C14 -> 117022.25 | D15: Rp/jam
A17: No. | B17: Item | C17: Harga | D17: Komsumsi | E17: Total Biaya | F17: Satuan
A18: 1 | B18: Bahan bakar | C18: Rp 14,000/liter | D18: 12 liter/jam | E18: =14000*12 -> 168000 | F18: liter/jam
A19: 2 | B19: oli mesin | C19: Rp 44,000/liter | D19: 0.038 liter/jam | E19: =44000*0.038 -> 1672 | F19: liter/jam
A20: 3 | B20: oli Tranmisi | C20: Rp 46,000/liter | D20: 0.04 liter/jam | E20: =46000*0.04 -> 1840 | F20: liter/jam | G20: Rp 220000/5 liter | H20: =220000/5 -> 44000
A21: 4 | B21: oli Final drive | C21: Rp 41,000/liter | D21: 0.03 liter/jam | E21: =41000*0.03 -> 1230 | F21: liter/jam | G21: =14/350 -> 0.04
A22: 5 | B22: oli hindraulic | C22: Rp 36,000/liter | D22: 0.042 liter/jam | E22: =36000*0.042 -> 1512 | F22: liter/jam
A23: 6 | B23: filter | D23: 1/2 kebutuhan oli | E23: =0.5*6254 -> 3127
A24: 7 | B24: grease | C24: 37,000/kg | D24: 0.06 kg/jam | E24: =37000*0.06 -> 2220 | F24: kg/jam | G24: =SUM(E19:E22) -> 6254
A25: 8 | B25: ban | C25: 4,300,000/ban | D25: 10 ban | E25: =(4300000*10)/3000 -> 14333.333 | F25: Rp/jam
A26: 9 | B26: perbaikan | E26: =(0.6*C4)/C9 -> 20292.876 | F26: Rp/jam
A27: 10 | B27: Gaji operator | E27: 25000 | F27: Rp/jam
A28: 11 | B28: Total biaya operasional | E28: =SUM(E18:E27) -> 239227.21 | F28: Rp/jam
A31: 1 | B31: Keterangan | C31: Biaya | D31: Satuan
A32: 2 | B32: total biaya kepemilikan | C32: =C15 -> 117022.25 | D32: Rp/jam | E32: =C32*C7 -> 640100000 | F32: =E32*5 -> 3200500000 | G32: =F32*8 -> 25604000000
A33: 3 | B33: Total biaya operasional | C33: =E28 -> 239227.21 | D33: Rp/jam | E33: =C33*C7 -> 1.3085489e+09 | F33: =E33*8 -> 1.0468391e+10
A34: 4 | B34: Total biaya | C34: =SUM(C32:C33) -> 356249.46 | D34: Rp/jam | E34: =C34*C7 -> 1.9486489e+09
C35: =C34*C7 -> 1.9486489e+09 | E35: =E34/12 -> 1.6238741e+08 | F35: =E35*10 -> 1.6238741e+09
C36: =C35*8 -> 1.5589191e+10

Sheet BIAYA KEPEMILIKAN EXA BB
A2: VOLVO EC480
A3: No. | B3: KETERANGAN | C3: NILAI | D3: Satuan
A4: 1 | B4: Harga alat | C4: 3456584760 | D4: Rp | E4: =C4*1 -> 3456584760
A5: 2 | B5: Nilai Sisa (10%) | C5: =0.1*C4 -> 345658476 | D5: Rp
A6: 3 | B6: Nilai Depresiasi | C6: =C4-C5 -> 3110926284 | D6: Rp
A7: 4 | B7: Jam kerja alat | C7: 5469.9 | D7: jam
A8: 5 | B8: umur alat | C8: 5 | D8: tahun
A9: 6 | B9: usia pakai alat | C9: =C8*C7 -> 27349.5 | D9: jam
A10: 7 | B10: trade-in value rate | C10: =C4/C5 -> 10 | D10: %
A11: 8 | B11: faktor | C11: =1-(((C8-1)*(1-0.1))/(2*C8)) -> 0.64
A12: biaya kepemilikan
A13: 1 | B13: Depresiasi | C13: =C6/C9 -> 113747.1 | D13: Rp/jam | E13: =C13*C7 -> 6.2218526e+08 | F13: =E13/12 -> 51848771
A14: 2 | B14: bunga, asuransi, pajak (IIT) | C14: =(C11*C4*0.8)/C7 -> 323547.3 | D14: Rp/jam | E14: =E13*2 -> 1.2443705e+09
A15: 3 | B15: total biaya kepemilikan | C15: =C13+C14 -> 437294.4 | D15: Rp/jam
A17: No. | B17: Item | C17: Harga | D17: Komsumsi | E17: Total Biaya | F17: Satuan
A18: 1 | B18: Bahan bakar | C18: Rp 14,000/liter | D18: 30 liter/jam | E18: =14000*30 -> 420000 | F18: liter/jam
A19: 2 | B19: oli mesin | C19: Rp 44,000/liter | D19: 0.18 liter/jam | E19: =44000*0.18 -> 7920 | F19: liter/jam
A20: 3 | B20: oli Tranmisi | C20: Rp 46,000/liter | D20: 0.05 liter/jam | E20: =46000*0.05 -> 2300 | F20: liter/jam | G20: =SUM(E19:E22) -> 16800
A21: 4 | B21: oli Final drive | C21: Rp 41,000/liter | D21: 0.02 liter/jam | E21: =41000*0.02 -> 820 | F21: liter/jam
A22: 5 | B22: oli hindraulic | C22: Rp 36,000/liter | D22: 0.16 liter/jam | E22: =36000*0.16 -> 5760 | F22: liter/jam
A23: 6 | B23: filter | D23: 1/2 kebutuhan oli | E23: =0.5*16800 -> 8400
A24: 7 | B24: grease | C24: 37,000/kg | D24: 0.16 kg/jam | E24: =37000*0.16 -> 5920 | F24: kg/jam
A25: 8 | B25: perbaikan | E25: =(0.8*C4)/C9 -> 101108.53 | F25: Rp/jam
A26: 9 | B26: Gaji operator | E26: 25000 | F26: Rp/jam
A27: 10 | B27: Total biaya operasional | E27: =SUM(E18:E26) -> 577228.53 | F27: Rp/jam
A29: 1 | B29: Keterangan | C29: Biaya | D29: Satuan
A30: 2 | B30: total biaya kepemilikan | C30: =C15 -> 437294.4 | D30: Rp/jam | E30: =C30*C7 -> 2.3919567e+09 | F30: =E30*5 -> 1.1959783e+10
A31: 3 | B31: Total biaya operasional | C31: =E27 -> 577228.53 | D31: Rp/jam | E31: =C7*C31 -> 3.1573823e+09 | F31: =E31*2 -> 6.3147647e+09
A32: 4 | B32: Total biaya | C32: =SUM(C30:C31) -> 1014522.9 | D32: Rp/jam | E32: =C32*C7 -> 5.549339e+09 | F32: =E32/12 -> 4.6244492e+08
C33: =C32*C7 -> 5.549339e+09
C34: =C33*2 -> 1.1098678e+10

Sheet BIAYA SEWA ALAT BERAT
A3: Jam kerja alat | B3: 5469.9 | C3: jam/tahun
A5: No | B5: Alat Berat | C5: Sewa | D5: Satuan
A6: 1 | B6: HINO FM 260 | C6: 156000 | D6: Rp/jam | E6: =C6*B3 -> 853304400 | F6: =E6*8 -> 6826435200 | G6: =F6*5 -> 34132176000 | J6: =26000*48 -> 1248000 | K6: =J6/8 -> 156000
E7: =C9*B3 -> 8724490500 | F7: =E7*1 -> 8724490500 | G7: =F7*5 -> 43622452500
A8: No | B8: Alat Berat | C8: Sewa | D8: Satuan | J8: =14500*220 -> 3190000 | K8: =J8/2 -> 1595000
A9: 1 | B9: VOLVO EC480 | C9: 1595000 | D9: Rp/jam
B11: BIAYA OPERASIONAL HINO FM 260
A12: No. | B12: Item | C12: Harga | D12: Komsumsi | E12: Total Biaya | F12: Satuan
A13: 1 | B13: Bahan bakar | C13: Rp 14,000/liter | D13: 12 liter/jam | E13: =14000*12 -> 168000 | F13: liter/jam
A14: 2 | B14: Gaji operator | E14: 25000 | F14: Rp/jam
A15: 3 | B15: Total biaya operasional | E15: =SUM(E13:E14) -> 193000 | F15: Rp/jam | G15: =E15*B3 -> 1.0556907e+09 | H15: =G15*8 -> 8.4455256e+09
B18: BIAYA OPERASIONAL VOLVO EC 480
A19: No. | B19: Item | C19: Harga | D19: Komsumsi | E19: Total Biaya | F19: Satuan
A20: 1 | B20: Bahan bakar | C20: Rp 14,000/liter | D20: 30 liter/jam | E20: =14000*30 -> 420000 | F20: liter/jam
A21: 2 | B21: Gaji operator | E21: 25000 | F21: Rp/jam
A22: 3 | B22: Total biaya operasional | E22: =SUM(E20:E21) -> 445000 | F22: Rp/jam | G22: =E22*B3 -> 2434105500 | H22: =G22*2 -> 4868211000
C24: volvo ec480
A25: 1 | B25: Keterangan | C25: Biaya | D25: Satuan
A26: 2 | B26: Total biaya sewa | C26: 1595000 | D26: Rp/jam
A27: 3 | B27: Total biaya operasional | C27: 445000 | D27: Rp/jam
C28: =SUM(C26:C27) -> 2040000
A30: 1 | B30: Keterangan | C30: Biaya | D30: Satuan
A31: 2 | B31: Total biaya sewa | C31: 156000 | D31: Rp/jam
A32: 3 | B32: Total biaya operasional | C32: 193000 | D32: Rp/jam
C33: =SUM(C31:C32) -> 349000

Sheet HBA
B2: 14393.3
A3: Bulan | B3: HBA
A4: 1 | B4: 75.84
A5: 2 | B5: 87.79
A6: 3 | B6: 84.47
A7: 4 | B7: 86.68
A8: 5 | B8: 89.74
A9: 6 | B9: 100.33
A10: 7 | B10: 115.35
A11: 8 | B11: 130.99
A12: 9 | B12: 150.03
A13: 10 | B13: 161.63
A14: 11 | B14: 215.01
A15: 12 | B15: 159.79
A16: Rata-rata | B16: =AVERAGE(B4:B15) -> 121.47083
B17: =B16*B2 -> 1748366.1

Sheet CASH FLOW BELI LANGSUNG
B2: HINO FM 260
A3: URAIAN | C3: Unit | D3: Tahun 0 | E3: Tahun 1 | F3: Tahun 2 | G3: Tahun 3 | H3: Tahun 4 | I3: Tahun 5
A4: Produksi Batubara | C4: MT | E4: 1025934 | F4: 887651 | G4: 849462 | H4: 484891 | I4: 674913
A5: Biya Produksi Batubara | C5: RP/MT | E5: 30000 | F5: 30000 | G5: 30000 | H5: 30000 | I5: 30000
A6: Investasi awal | C6: Rp | D6: 7400000000
A7: Biaya Kepemilikan | C7: Rp | D7: 25604000000
A8: Biaya operasional alat | C8: Rp | E8: 1.0468391e+10 | F8: 1.0468391e+10 | G8: 1.0468391e+10 | H8: 1.0468391e+10 | I8: 1.0468391e+10
A9: Royalti | C9: Rp | E9: =E14*10% -> 28213185000 | F9: =F14*10% -> 24410402500 | G9: =G14*10% -> 23360205000 | H9: =H14*10% -> 13334502500 | I9: =I14*10% -> 18560107500
A10: Depresiasi Peralatan | C10: Rp | E10: 1332000000 | F10: 1332000000 | G10: 1332000000 | H10: 1332000000 | I10: 1332000000 | Q10: cash flow Hino FM 260
A11: Nilai Sisa Peralatan | C11: Rp | I11: 92500000 | O11: Tahun | P11: cash in | Q11: cash out | R11: Keuntungan sebelum PPh 25% | S11: PPh 25% | T11: Keuntungan Bersih
O12: 0 | P12: 0 | Q12: -33004000000 | R12: =P12-(-Q12) -> -33004000000 | S12: 0 | T12: =R12-(-S12) -> -33004000000
A13: Harga Batubara | C13: Rp/MT | E13: 275000 | F13: 275000 | G13: 275000 | H13: 275000 | I13: 275000 | O13: 1 | P13: 282131850000 | Q13: 7.0791596e+10 | R13: =(P13-Q13) -> 2.1134025e+11 | S13: =R13*25% -> 5.2835063e+10 | T13: =(R13-S13) -> 1.5850519e+11
A14: Pendapatan Penjualan | C14: Rp | E14: =E4*E13 -> 282131850000 | F14: =F4*F13 -> 244104025000 | G14: =G4*G13 -> 233602050000 | H14: =H4*H13 -> 133345025000 | I14: =I4*I13 -> 185601075000 | O14: 2 | P14: 244104025000 | Q14: 6.2840324e+10 | R14: =(P14-Q14) -> 1.812637e+11 | S14: =R14*25% -> 4.5315925e+10 | T14: =(R14-S14) -> 1.3594778e+11
O15: 3 | P15: 233602050000 | Q15: 6.0644456e+10 | R15: =(P15-Q15) -> 1.7295759e+11 | S15: =R15*25% -> 4.3239398e+10 | T15: =(R15-S15) -> 1.297182e+11
A16: Keuntungan Sebelum PPH (25%) | C16: Rp | D16: =-SUM(D6:D7) -> -33004000000 | E16: =E14-((E4*E5)+E8+E10+E9) -> 2.1134025e+11 | F16: =F14-((F4*F5)+F8+F10+F9) -> 1.812637e+11 | G16: =G14-((G4*G5)+G8+G10+G9) -> 1.7295759e+11 | H16: =H14-((H4*H5)+H8+H10+H9) -> 9.3663401e+10 | I16: =I14-((I4*I5)+I8+I10+I9) -> 1.3499319e+11 | O16: 4 | P16: 133345025000 | Q16: 3.9681624e+10 | R16: =(P16-Q16) -> 9.3663401e+10 | S16: =R16*25% -> 2.341585e+10 | T16: =(R16-S16) -> 7.0247551e+10
A17: PPH 25% | E17: =E16*25% -> 5.2835063e+10 | F17: =F16*25% -> 4.5315925e+10 | G17: =G16*25% -> 4.3239398e+10 | H17: =H16*25% -> 2.341585e+10 | I17: =I16*25% -> 3.3748297e+10 | O17: 5 | P17: 185601075000 | Q17: 5.0607889e+10 | R17: =(P17-Q17) -> 1.3499319e+11 | S17: =R17*25% -> 3.3748297e+10 | T17: =(R17-S17) -> 1.0124489e+11
A18: Keuntungan Bersih | D18: =D16 -> -33004000000 | E18: =E16-E17 -> 1.5850519e+11 | F18: =F16-F17 -> 1.3594778e+11 | G18: =G16-G17 -> 1.297182e+11 | H18: =H16-H17 -> 7.0247551e+10 | I18: =I16-I17 -> 1.0124489e+11 | O18: Total | T18: =SUM(T12:T17) -> 5.626596e+11
A20: Aliran Kas Komulatif | D20: =D18 -> -33004000000 | E20: =D20+'CASH FLOW BELI LANGSUNG'!E18 -> 1.2550119e+11 | F20: =E20+'CASH FLOW BELI LANGSUNG'!F18 -> 2.6144897e+11 | G20: =F20+'CASH FLOW BELI LANGSUNG'!G18 -> 3.9116716e+11 | H20: =G20+'CASH FLOW BELI LANGSUNG'!H18 -> 4.6141471e+11 | I20: =H20+'CASH FLOW BELI LANGSUNG'!I18 -> 5.626596e+11
D23: =D20 -> -33004000000 | E23: =((E4*E5)+E8+E10+E9) -> 7.0791596e+10 | F23: =((F4*F5)+F8+F10+F9) -> 6.2840324e+10 | G23: =((G4*G5)+G8+G10+G9) -> 6.0644456e+10 | H23: =((H4*H5)+H8+H10+H9) -> 3.9681624e+10 | I23: =((I4*I5)+I8+I10+I9) -> 5.0607889e+10 | Q23: cash flow Volvo EC480
D24: -33004000000 | E24: 7.0791596e+10 | F24: 6.2840324e+10 | G24: 6.0644456e+10 | H24: 3.9681624e+10 | I24: 5.0607889e+10 | O24: Tahun | P24: cash in | Q24: cash out | R24: Keuntungan sebelum PPh 25% | S24: PPh 25% | T24: Keuntungan Bersih
J25: 1624886.7 | K25: =J25*#REF! -> #REF! | O25: 0 | P25: 0 | Q25: -1.5416368e+10 | R25: =P25-(-Q25) -> -1.5416368e+10 | S25: 0 | T25: =R25-(-S25) -> -1.5416368e+10
A26: MARR ( Minimum Atractive Rate of Return ) | B26: 0.1 | O26: 1 | P26: 282131850000 | Q26: 6.2770773e+10 | R26: =(P26-Q26) -> 2.1936108e+11 | S26: =R26*25% -> 5.4840269e+10 | T26: =(R26-S26) -> 1.6452081e+11
A27: NPV ( Net Present Value ) | B27: =(('CASH FLOW BELI LANGSUNG'!E18/(1+B26)^1)+('CASH FLOW BELI LANGSUNG'!F18/(1+B26)^2)+('CASH FLOW BELI LANGSUNG'!G18/(1+B26)^3)+('CASH FLOW BELI LANGSUNG'!H18/(1+B26)^4)+('CASH FLOW BELI LANGSUNG'!I18/(1+B26)^5))+'CASH FLOW BELI LANGSUNG'!D18 -> 4.3174949e+11 | O27: 2 | P27: 244104025000 | Q27: 5.48195e+10 | R27: =(P27-Q27) -> 1.8928452e+11 | S27: =R27*25% -> 4.7321131e+10 | T27: =(R27-S27) -> 1.4196339e+11
A28: IRR ( Internal Rate of Return ) | B28: =IRR(D18:I18,B26) -> 4.6665952 | O28: 3 | P28: 233602050000 | Q28: 5.2623633e+10 | R28: =(P28-Q28) -> 1.8097842e+11 | S28: =R28*25% -> 4.5244604e+10 | T28: =(R28-S28) -> 1.3573381e+11
O29: 4 | P29: 133345025000 | Q29: 3.16608e+10 | R29: =(P29-Q29) -> 1.0168422e+11 | S29: =R29*25% -> 2.5421056e+10 | T29: =(R29-S29) -> 7.6263169e+10
O30: 5 | P30: 185601075000 | Q30: 4.2587065e+10 | R30: =(P30-Q30) -> 1.4301401e+11 | S30: =R30*25% -> 3.5753502e+10 | T30: =(R30-S30) -> 1.0726051e+11
O31: Total | T31: =SUM(T25:T30) -> 6.1032532e+11
B35: VOLVO EC480
A36: URAIAN | C36: Unit | D36: Tahun 0 | E36: Tahun 1 | F36: Tahun 2 | G36: Tahun 3 | H36: Tahun 4 | I36: Tahun 5 | K36: Volvo EC480 | L36: 3588784285077 | M36: 3.5262328e+12
A37: Produksi Batubara | C37: MT | E37: 1025934 | F37: 887651 | G37: 849462 | H37: 484891 | I37: 674913 | K37: Hino FM260 | L37: 3.5630426e+12 | M37: 3.5642503e+12
A38: Biya Produksi Batubara | C38: RP/MT | E38: 30000 | F38: 30000 | G38: 30000 | H38: 30000 | I38: 30000
A39: Investasi awal | C39: Rp | D39: 3456584760
A40: Biaya Kepemilikan | C40: Rp | D40: 1.1959783e+10
A41: Biaya operasional alat | C41: Rp | E41: 3.1573823e+09 | F41: 3.1573823e+09 | G41: 3.1573823e+09 | H41: 3.1573823e+09 | I41: 3.1573823e+09
A42: Royalti | C42: Rp | E42: =E47*10% -> 28213185000 | F42: =F47*10% -> 24410402500 | G42: =G47*10% -> 23360205000 | H42: =H47*10% -> 13334502500 | I42: =I47*10% -> 18560107500
A43: Depresiasi Peralatan | C43: Rp | E43: 6.2218526e+08 | F43: 6.2218526e+08 | G43: 6.2218526e+08 | H43: 6.2218526e+08 | I43: 6.2218526e+08
A44: Nilai Sisa Peralatan | C44: Rp | I44: 92500000
A46: Harga Batubara | C46: Rp/MT | E46: 275000 | F46: 275000 | G46: 275000 | H46: 275000 | I46: 275000
A47: Pendapatan Penjualan | C47: Rp | E47: =E37*E46 -> 282131850000 | F47: =F37*F46 -> 244104025000 | G47: =G37*G46 -> 233602050000 | H47: =H37*H46 -> 133345025000 | I47: =I37*I46 -> 185601075000
A49: Keuntungan Sebelum PPH (25%) | C49: Rp | D49: =-SUM(D39:D40) -> -1.5416368e+10 | E49: =E47-((E37*E38)+E41+E43+E42) -> 2.1936108e+11 | F49: =F47-((F37*F38)+F41+F43+F42) -> 1.8928452e+11 | G49: =G47-((G37*G38)+G41+G43+G42) -> 1.8097842e+11 | H49: =H47-((H37*H38)+H41+H43+H42) -> 1.0168422e+11 | I49: =I47-((I37*I38)+I41+I43+I42) -> 1.4301401e+11
A50: PPH 25% | E50: =E49*25% -> 5.4840269e+10 | F50: =F49*25% -> 4.7321131e+10 | G50: =G49*25% -> 4.5244604e+10 | H50: =H49*25% -> 2.5421056e+10 | I50: =I49*25% -> 3.5753502e+10
A51: Keuntungan Bersih | D51: =D49 -> -1.5416368e+10 | E51: =E49-E50 -> 1.6452081e+11 | F51: =F49-F50 -> 1.4196339e+11 | G51: =G49-G50 -> 1.3573381e+11 | H51: =H49-H50 -> 7.6263169e+10 | I51: =I49-I50 -> 1.0726051e+11
A53: Aliran Kas Komulatif | D53: =D51 -> -1.5416368e+10 | E53: =D53+E51 -> 1.4910444e+11 | F53: =E53+F51 -> 2.9106783e+11 | G53: =F53+G51 -> 4.2680165e+11 | H53: =G53+H51 -> 5.0306482e+11 | I53: =H53+I51 -> 6.1032532e+11
D56: =D53 -> -1.5416368e+10 | E56: =((E37*E38)+E41+E43+E42) -> 6.2770773e+10 | F56: =((F37*F38)+F41+F43+F42) -> 5.48195e+10 | G56: =((G37*G38)+G41+G43+G42) -> 5.2623633e+10 | H56: =((H37*H38)+H41+H43+H42) -> 3.16608e+10 | I56: =((I37*I38)+I41+I43+I42) -> 4.2587065e+10
D57: -1.5416368e+10 | E57: 6.2770773e+10 | F57: 5.48195e+10 | G57: 5.2623633e+10 | H57: 3.16608e+10 | I57: 4.2587065e+10
A59: MARR ( Minimum Atractive Rate of Return ) | B59: 0.1
A60: NPV ( Net Present Value ) | B60: =((E51/(1+B59)^1)+(F51/(1+B59)^2)+(G51/(1+B59)^3)+(H51/(1+B59)^4)+(I51/(1+B59)^5))+D51 -> 4.7214105e+11
A61: IRR ( Internal Rate of Return ) | B61: =IRR(D51:I51,B59) -> 10.539561

Sheet CASH FLOW SEWA
A3: URAIAN | C3: Unit | D3: Tahun 0 | E3: Tahun 1 | F3: Tahun 2 | G3: Tahun 3 | H3: Tahun 4 | I3: Tahun 5
A4: Produksi Batubara | C4: MT | E4: 1025934 | F4: 887651 | G4: 849462 | H4: 484891 | I4: 674913
A5: Biya Produksi Batubara | C5: RP/MT | E5: 30000 | F5: 30000 | G5: 30000 | H5: 30000 | I5: 30000
A6: Biaya Sewa alat | C6: Rp | D6: 34132176000 | O6: cash flow Hino FM 260
A7: Royalti | C7: Rp | E7: =E12*10% -> 28213185000 | F7: =F12*10% -> 24410402500 | G7: =G12*10% -> 23360205000 | H7: =H12*10% -> 13334502500 | I7: =I12*10% -> 18560107500 | M7: Tahun | N7: cash in | O7: cash out | P7: Keuntungan sebelum PPh 25% | Q7: PPh 25% | R7: Keuntungan Bersih
A8: Biaya operasional | E8: 8445525600 | F8: 8.4455256e+09 | G8: 8.4455256e+09 | H8: 8.4455256e+09 | I8: 8.4455256e+09 | M8: 0 | N8: 0 | O8: -34132176000 | P8: =N8-(-O8) -> -34132176000 | Q8: 0 | R8: =P8-(-Q8) -> -34132176000
M9: 1 | N9: 282131850000 | O9: 67436730600 | P9: =(N9-O9) -> 214695119400 | Q9: =P9*25% -> 53673779850 | R9: =(P9-Q9) -> 161021339550
M10: 2 | N10: 244104025000 | O10: 59485458100 | P10: =(N10-O10) -> 184618566900 | Q10: =P10*25% -> 46154641725 | R10: =(P10-Q10) -> 138463925175
A11: Harga Batubara | C11: Rp/MT | E11: 275000 | F11: 275000 | G11: 275000 | H11: 275000 | I11: 275000 | M11: 3 | N11: 233602050000 | O11: 57289590600 | P11: =(N11-O11) -> 176312459400 | Q11: =P11*25% -> 44078114850 | R11: =(P11-Q11) -> 132234344550
A12: Pendapatan Penjualan | C12: Rp | E12: =E4*E11 -> 282131850000 | F12: =F4*F11 -> 244104025000 | G12: =G4*G11 -> 233602050000 | H12: =H4*H11 -> 133345025000 | I12: =I4*I11 -> 185601075000 | M12: 4 | N12: 133345025000 | O12: 36326758100 | P12: =(N12-O12) -> 97018266900 | Q12: =P12*25% -> 24254566725 | R12: =(P12-Q12) -> 72763700175
M13: 5 | N13: 185601075000 | O13: 47253023100 | P13: =(N13-O13) -> 138348051900 | Q13: =P13*25% -> 34587012975 | R13: =(P13-Q13) -> 103761038925
A14: Keuntungan Sebelum PPH (25%) | C14: Rp | D14: =-D6 -> -34132176000 | E14: =E12-((E4*E5)+E8+E7) -> 214695119400 | F14: =F12-((F4*F5)+F8+F7) -> 184618566900 | G14: =G12-((G4*G5)+G8+G7) -> 176312459400 | H14: =H12-((H4*H5)+H8+H7) -> 97018266900 | I14: =I12-((I4*I5)+I8+I7) -> 138348051900 | M14: Total | R14: =SUM(R8:R13) -> 574112172375
A15: PPH 25% | E15: =E14*25% -> 53673779850 | F15: =F14*25% -> 46154641725 | G15: =G14*25% -> 44078114850 | H15: =H14*25% -> 24254566725 | I15: =I14*25% -> 34587012975
A16: Keuntungan Bersih | D16: =D14 -> -34132176000 | E16: =E14-E15 -> 161021339550 | F16: =F14-F15 -> 138463925175 | G16: =G14-G15 -> 132234344550 | H16: =H14-H15 -> 72763700175 | I16: =I14-I15 -> 103761038925
A18: Aliran Kas Komulatif | D18: =D16 -> -34132176000 | E18: =D18+E16 -> 126889163550 | F18: =E18+F16 -> 265353088725 | G18: =F18+G16 -> 397587433275 | H18: =G18+H16 -> 470351133450 | I18: =H18+I16 -> 574112172375
O20: cash flow Volvo EC480
D21: =D18 -> -34132176000 | E21: =((E4*E5)+E8+E7) -> 67436730600 | F21: =((F4*F5)+F8+F7) -> 59485458100 | G21: =((G4*G5)+G8+G7) -> 57289590600 | H21: =((H4*H5)+H8+H7) -> 36326758100 | I21: =((I4*I5)+I8+I7) -> 47253023100 | M21: Tahun | N21: cash in | O21: cash out | P21: Keuntungan sebelum PPh 25% | Q21: PPh 25% | R21: Keuntungan Bersih
D22: -34132176000 | E22: 67436730600 | F22: 59485458100 | G22: 57289590600 | H22: 36326758100 | I22: 47253023100 | M22: 0 | N22: 0 | O22: -43622452500 | P22: =N22-(-O22) -> -43622452500 | Q22: 0 | R22: =P22-(-Q22) -> -43622452500
M23: 1 | N23: 282131850000 | O23: 61425310500 | P23: =(N23-O23) -> 220706539500 | Q23: =P23*25% -> 55176634875 | R23: =(P23-Q23) -> 165529904625
A24: MARR ( Minimum Atractive Rate of Return ) | B24: 0.1 | M24: 2 | N24: 244104025000 | O24: 53474038000 | P24: =(N24-O24) -> 190629987000 | Q24: =P24*25% -> 47657496750 | R24: =(P24-Q24) -> 142972490250
A25: NPV ( Net Present Value ) | B25: =((E16/(1+B24)^1)+(F16/(1+B24)^2)+(G16/(1+B24)^3)+(H16/(1+B24)^4)+(I16/(1+B24)^5))+D16 -> 4.401595e+11 | M25: 3 | N25: 233602050000 | O25: 51278170500 | P25: =(N25-O25) -> 182323879500 | Q25: =P25*25% -> 45580969875 | R25: =(P25-Q25) -> 136742909625
A26: IRR ( Internal Rate of Return ) | B26: =IRR(D16:I16,B24) -> 4.5837351 | M26: 4 | N26: 133345025000 | O26: 30315338000 | P26: =(N26-O26) -> 103029687000 | Q26: =P26*25% -> 25757421750 | R26: =(P26-Q26) -> 77272265250
M27: 5 | N27: 185601075000 | O27: 41241603000 | P27: =(N27-O27) -> 144359472000 | Q27: =P27*25% -> 36089868000 | R27: =(P27-Q27) -> 108269604000
M28: Total | R28: =SUM(R22:R27) -> 587164721250
B33: VOLVO EC480
A34: URAIAN | C34: Unit | D34: Tahun 0 | E34: Tahun 1 | F34: Tahun 2 | G34: Tahun 3 | H34: Tahun 4 | I34: Tahun 5
A35: Produksi Batubara | C35: MT | E35: 1025934 | F35: 887651 | G35: 849462 | H35: 484891 | I35: 674913
A36: Biya Produksi Batubara | C36: RP/MT | E36: 30000 | F36: 30000 | G36: 30000 | H36: 30000 | I36: 30000
A37: Biaya Sewa alat | C37: Rp | D37: 43622452500
A38: Royalti | C38: Rp | E38: =E43*10% -> 28213185000 | F38: =F43*10% -> 24410402500 | G38: =G43*10% -> 23360205000 | H38: =H43*10% -> 13334502500 | I38: =I43*10% -> 18560107500
A39: Biaya operasional | E39: 2434105500 | F39: 2434105500 | G39: 2434105500 | H39: 2434105500 | I39: 2434105500
A42: Harga Batubara | C42: Rp/MT | E42: 275000 | F42: 275000 | G42: 275000 | H42: 275000 | I42: 275000
A43: Pendapatan Penjualan | C43: Rp | E43: =E35*E42 -> 282131850000 | F43: =F35*F42 -> 244104025000 | G43: =G35*G42 -> 233602050000 | H43: =H35*H42 -> 133345025000 | I43: =I35*I42 -> 185601075000
A45: Keuntungan Sebelum PPH (25%) | C45: Rp | D45: =-D37 -> -43622452500 | E45: =E43-((E35*E36)+E39+E38) -> 220706539500 | F45: =F43-((F35*F36)+F39+F38) -> 190629987000 | G45: =G43-((G35*G36)+G39+G38) -> 182323879500 | H45: =H43-((H35*H36)+H39+H38) -> 103029687000 | I45: =I43-((I35*I36)+I39+I38) -> 144359472000
A46: PPH 25% | E46: =E45*25% -> 55176634875 | F46: =F45*25% -> 47657496750 | G46: =G45*25% -> 45580969875 | H46: =H45*25% -> 25757421750 | I46: =I45*25% -> 36089868000
A47: Keuntungan Bersih | D47: =D45 -> -43622452500 | E47: =E45-E46 -> 165529904625 | F47: =F45-F46 -> 142972490250 | G47: =G45-G46 -> 136742909625 | H47: =H45-H46 -> 77272265250 | I47: =I45-I46 -> 108269604000
A49: Aliran Kas Komulatif | D49: =D47 -> -43622452500 | E49: =D49+E47 -> 121907452125 | F49: =E49+F47 -> 264879942375 | G49: =F49+G47 -> 401622852000 | H49: =G49+H47 -> 478895117250 | I49: =H49+I47 -> 587164721250
D52: =D49 -> -43622452500 | E52: =((E35*E36)+E39+E38) -> 61425310500 | F52: =((F35*F36)+F39+F38) -> 53474038000 | G52: =((G35*G36)+G39+G38) -> 51278170500 | H52: =((H35*H36)+H39+H38) -> 30315338000 | I52: =((I35*I36)+I39+I38) -> 41241603000
D53: -43622452500 | E53: 61425310500 | F53: 53474038000 | G53: 51278170500 | H53: 30315338000 | I53: 41241603000
A55: MARR ( Minimum Atractive Rate of Return ) | B55: 0.1
A56: NPV ( Net Present Value ) | B56: =((E47/(1+B55)^1)+(F47/(1+B55)^2)+(G47/(1+B55)^3)+(H47/(1+B55)^4)+(I47/(1+B55)^5))+D47 -> 4.4776024e+11
A57: IRR ( Internal Rate of Return ) | B57: =IRR(D47:I47,B55) -> 3.6641102
A60: 3.6134777e+12

Sheet NPV
B2: beli langsung Hino FM260 | G2: sewa Hino FM260
A3: i atau K | B3: 0.1
A4: TAHUN | B4: ALIRAN KAS | C4: NPV | F4: TAHUN | G4: ALIRAN KAS | H4: NPV
A5: 0 | B5: -33004000000 | C5: =B5 -> -33004000000 | F5: 0 | G5: -34132176000 | H5: =G5 -> -34132176000 | K5: Nama Unit | L5: Beli Langsung | M5: Sewa
A6: 1 | B6: 1.5850519e+11 | C6: =B6/(1+$B$3)^1 -> 1.4409563e+11 | F6: 1 | G6: 161021339550 | H6: =G6/(1+$B$3)^1 -> 1.4638304e+11 | K6: Volvo EC480 | L6: 4.7214105e+11 | M6: 4.4776024e+11
A7: 2 | B7: 1.3594778e+11 | C7: =B7/(1+$B$3)^2 -> 1.1235353e+11 | F7: 2 | G7: 138463925175 | H7: =G7/(1+$B$3)^2 -> 1.14433e+11 | K7: Hino FM260 | L7: 4.3174949e+11 | M7: 4.401595e+11
A8: 3 | B8: 1.297182e+11 | C8: =B8/(1+$B$3)^3 -> 9.74592e+10 | F8: 3 | G8: 132234344550 | H8: =G8/(1+$B$3)^3 -> 9.934962e+10 | L8: 4.7214105e+11
A9: 4 | B9: 7.0247551e+10 | C9: =B9/(1+$B$3)^4 -> 4.7980022e+10 | F9: 4 | G9: 72763700175 | H9: =G9/(1+$B$3)^4 -> 4.9698586e+10
A10: 5 | B10: 1.0124489e+11 | C10: =B10/(1+$B$3)^5 -> 6.2865111e+10 | F10: 5 | G10: 103761038925 | H10: =G10/(1+$B$3)^5 -> 6.4427442e+10
A11: TOTAL | C11: =SUM(C5:C10) -> 4.3174949e+11 | F11: TOTAL | H11: =SUM(H5:H10) -> 4.401595e+11
B15: beli langsung Volvo EC480 | G15: sewa Volvo EC480
A16: TAHUN | B16: ALIRAN KAS | C16: NPV | F16: TAHUN | G16: ALIRAN KAS | H16: NPV
A17: 0 | B17: -1.5416368e+10 | C17: =B17 -> -1.5416368e+10 | F17: 0 | G17: -43622452500 | H17: =G17 -> -43622452500
A18: 1 | B18: 1.6452081e+11 | C18: =B18/(1+$B$3)^1 -> 1.4956437e+11 | F18: 1 | G18: 165529904625 | H18: =G18/(1+$B$3)^1 -> 1.5048173e+11
A19: 2 | B19: 1.4196339e+11 | C19: =B19/(1+$B$3)^2 -> 1.1732512e+11 | F19: 2 | G19: 142972490250 | H19: =G19/(1+$B$3)^2 -> 1.1815908e+11
A20: 3 | B20: 1.3573381e+11 | C20: =B20/(1+$B$3)^3 -> 1.0197882e+11 | F20: 3 | G20: 136742909625 | H20: =G20/(1+$B$3)^3 -> 1.0273697e+11
A21: 4 | B21: 7.6263169e+10 | C21: =B21/(1+$B$3)^4 -> 5.208877e+10 | F21: 4 | G21: 77272265250 | H21: =G21/(1+$B$3)^4 -> 5.2777997e+10
A22: 5 | B22: 1.0726051e+11 | C22: =B22/(1+$B$3)^5 -> 6.6600336e+10 | F22: 5 | G22: 108269604000 | H22: =G22/(1+$B$3)^5 -> 6.7226906e+10
A23: TOTAL | C23: =SUM(C17:C22) -> 4.7214105e+11 | F23: TOTAL | H23: =SUM(H17:H22) -> 4.4776024e+11

Sheet IRR
B2: beli langsung Hino FM260 | G2: beli langsung Hino FM260
A3: i atau K | B3: 4.6665 | F3: i atau K | G3: 4.6666
A4: TAHUN | B4: ALIRAN KAS | C4: NPV | F4: TAHUN | G4: ALIRAN KAS | H4: NPV | J4: Nama Unit | K4: Beli Langsung | L4: Sewa
A5: 0 | B5: -33004000000 | C5: =B5 -> -33004000000 | F5: 0 | G5: -33004000000 | H5: =G5 -> -33004000000 | J5: Volvo EC480 | K5: =B15+((C23/(C23-H23)*(B15-G15))) -> 10.539438 | L5: =B40+((C48/(C48-H48)*(B40-G40))) -> 3.6640898
A6: 1 | B6: 1.5850519e+11 | C6: =B6/(1+$B$3)^1 -> 2.7972327e+10 | F6: 1 | G6: 1.5850519e+11 | H6: =G6/(1+$G$3)^1 -> 2.7971833e+10 | J6: Hino FM260 | K6: 4.466 | L6: =B28+((C36/(C36-H36)*(B28-G28))) -> 4.5836649
A7: 2 | B7: 1.3594778e+11 | C7: =B7/(1+$B$3)^2 -> 4.2339168e+09 | F7: 2 | G7: 1.3594778e+11 | H7: =G7/(1+$G$3)^2 -> 4.2337674e+09 | K7: 10.539438
A8: 3 | B8: 1.297182e+11 | C8: =B8/(1+$B$3)^3 -> 7.1294531e+08 | F8: 3 | G8: 1.297182e+11 | H8: =G8/(1+$G$3)^3 -> 7.1290757e+08
A9: 4 | B9: 7.0247551e+10 | C9: =B9/(1+$B$3)^4 -> 68135213 | F9: 4 | G9: 7.0247551e+10 | H9: =G9/(1+$G$3)^4 -> 68130403
A10: 5 | B10: 1.0124489e+11 | C10: =B10/(1+$B$3)^5 -> 17330003 | F10: 5 | G10: 1.0124489e+11 | H10: =G10/(1+$G$3)^5 -> 17328474
A11: TOTAL | C11: =SUM(C5:C10) -> 654226.25 | F11: TOTAL | H11: =SUM(H5:H10) -> -32924.147
B14: beli langsung Volvo EC480 | G14: beli langsung Volvo EC480
A15: i atau K | B15: 10.5395 | F15: i atau K | G15: 10.5496
A16: TAHUN | B16: ALIRAN KAS | C16: NPV | F16: TAHUN | G16: ALIRAN KAS | H16: NPV
A17: 0 | B17: -1.5416368e+10 | C17: =B17 -> -1.5416368e+10 | F17: 0 | G17: -1.5416368e+10 | H17: =G17 -> -1.5416368e+10
A18: 1 | B18: 1.6452081e+11 | C18: =B18/(1+$B$15)^1 -> 1.4257187e+10 | F18: 1 | G18: 1.6452081e+11 | H18: =G18/(1+$G$15)^1 -> 1.4244719e+10
A19: 2 | B19: 1.4196339e+11 | C19: =B19/(1+$B$15)^2 -> 1.0661109e+09 | F19: 2 | G19: 1.4196339e+11 | H19: =G19/(1+$G$15)^2 -> 1.0642471e+09
A20: 3 | B20: 1.3573381e+11 | C20: =B20/(1+$B$15)^3 -> 88333833 | F20: 3 | G20: 1.3573381e+11 | H20: =G20/(1+$G$15)^3 -> 88102294
A21: 4 | B21: 7.6263169e+10 | C21: =B21/(1+$B$15)^4 -> 4300974.6 | F21: 4 | G21: 7.6263169e+10 | H21: =G21/(1+$G$15)^4 -> 4285949.7
A22: 5 | B22: 1.0726051e+11 | C22: =B22/(1+$B$15)^5 -> 524209.5 | F22: 5 | G22: 1.0726051e+11 | H22: =G22/(1+$G$15)^5 -> 521921.43
A23: TOTAL | C23: =SUM(C17:C22) -> 88786.088 | F23: TOTAL | H23: =SUM(H17:H22) -> -14491610
B27: sewa Hino FM260 | G27: sewa Hino FM260
A28: i atau K | B28: 4.5837 | F28: i atau K | G28: 4.5838
A29: TAHUN | B29: ALIRAN KAS | C29: NPV | F29: TAHUN | G29: ALIRAN KAS | H29: NPV
A30: 0 | B30: -34132176000 | C30: =B30 -> -34132176000 | F30: 0 | G30: -34132176000 | H30: =G30 -> -34132176000
A31: 1 | B31: 161021339550 | C31: =B31/(1+$B$28)^1 -> 2.8837749e+10 | F31: 1 | G31: 161021339550 | H31: =G31/(1+$G$28)^1 -> 2.8837233e+10
A32: 2 | B32: 138463925175 | C32: =B32/(1+$B$28)^2 -> 4.4411198e+09 | F32: 2 | G32: 138463925175 | H32: =G32/(1+$G$28)^2 -> 4.4409607e+09
A33: 3 | B33: 132234344550 | C33: =B33/(1+$B$28)^3 -> 7.595879e+08 | F33: 3 | G33: 132234344550 | H33: =G33/(1+$G$28)^3 -> 7.5954709e+08
A34: 4 | B34: 72763700175 | C34: =B34/(1+$B$28)^4 -> 74855975 | F34: 4 | G34: 72763700175 | H34: =G34/(1+$G$28)^4 -> 74850612
A35: 5 | B35: 103761038925 | C35: =B35/(1+$B$28)^5 -> 19117184 | F35: 5 | G35: 103761038925 | H35: =G35/(1+$G$28)^5 -> 19115473
A36: TOTAL | C36: =SUM(C30:C35) -> 253911.63 | F36: TOTAL | H36: =SUM(H30:H35) -> -469495.92
B39: sewa Volvo EC480 | G39: sewa Volvo EC480
A40: i atau K | B40: 3.6641 | F40: i atau K | G40: 3.6642
A41: TAHUN | B41: ALIRAN KAS | C41: NPV | F41: TAHUN | G41: ALIRAN KAS | H41: NPV
A42: 0 | B42: -43622452500 | C42: =B42 -> -43622452500 | F42: 0 | G42: -43622452500 | H42: =G42 -> -43622452500
A43: 1 | B43: 165529904625 | C43: =B43/(1+$B$40)^1 -> 3.5490213e+10 | F43: 1 | G43: 165529904625 | H43: =G43/(1+$G$40)^1 -> 3.5489453e+10
A44: 2 | B44: 142972490250 | C44: =B44/(1+$B$40)^2 -> 6.5722909e+09 | F44: 2 | G44: 142972490250 | H44: =G44/(1+$G$40)^2 -> 6.572009e+09
A45: 3 | B45: 136742909625 | C45: =B45/(1+$B$40)^3 -> 1.3477249e+09 | F45: 3 | G45: 136742909625 | H45: =G45/(1+$G$40)^3 -> 1.3476382e+09
A46: 4 | B46: 77272265250 | C46: =B46/(1+$B$40)^4 -> 1.6328723e+08 | F46: 4 | G46: 77272265250 | H46: =G46/(1+$G$40)^4 -> 1.6327323e+08
A47: 5 | B47: 108269604000 | C47: =B47/(1+$B$40)^5 -> 49053193 | F47: 5 | G47: 108269604000 | H47: =G47/(1+$G$40)^5 -> 49047935
A48: TOTAL | C48: =SUM(C42:C47) -> 117165.52 | F48: TOTAL | H48: =SUM(H42:H47) -> -1031501.5

Sheet CASH FLOW BULANAN BELI LANGSUNG
B3: HINO FM 260
A4: URAIAN | C4: Unit | D4: bulan 0 | E4: bulan 1 | F4: bulan 2 | G4: bulan 3 | H4: bulan 4 | I4: bulan 5 | J4: bulan 6 | K4: bulan 7 | L4: bulan 8 | M4: bulan 9 | N4: bulan 10 | O4: bulan 11 | P4: bulan 12
A5: Produksi Batubara | C5: MT | E5: 88532 | F5: 88890 | G5: 83460 | H5: 84011 | I5: 91089 | J5: 96071 | K5: 83403 | L5: 85400 | M5: 78448 | N5: 81063 | O5: 78529 | P5: 87036
A6: Harga Batubara | C6: Rp/MT | E6: 1748366.1 | F6: 1748366.1 | G6: 1748366.1 | H6: 1748366.1 | I6: 1748366.1 | J6: 1748366.1 | K6: 1748366.1 | L6: 1748366.1 | M6: 1748366.1 | N6: 1748366.1 | O6: 1748366.1 | P6: 1748366.1 | Q6: 159.97 | R6: 14393.3 | S6: =Q6*R6 -> 2302496.2
A8: Investasi awal | C8: Rp | D8: 9250000000
A9: Biaya kepemilikan alat dan operasional alat | C9: Rp | E9: 1.560332e+09 | F9: 1.560332e+09 | G9: 1.560332e+09 | H9: 1.560332e+09 | I9: 1.560332e+09 | J9: 1.560332e+09 | K9: 1.560332e+09 | L9: 1.560332e+09 | M9: 1.560332e+09 | N9: 1.560332e+09 | O9: 1.560332e+09 | P9: 1.560332e+09
A10: Royalti | C10: Rp | E10: =E14*3% -> 4.6435905e+09 | F10: =F14*3% -> 4.662368e+09 | G10: =G14*3% -> 4.3775592e+09 | H10: =H14*3% -> 4.4064596e+09 | I10: =I14*3% -> 4.7777077e+09 | J10: =J14*3% -> 5.0390185e+09 | K10: =K14*3% -> 4.3745694e+09 | L10: =L14*3% -> 4.4793141e+09 | ... P10: =P14*3% -> 4.5651239e+09
A11: Depresiasi Peralatan | C11: Rp | E11: 138750000 | F11: 138750000 | G11: 138750000 | H11: 138750000 | I11: 138750000 | J11: 138750000 | K11: 138750000 | L11: 138750000 | M11: 138750000 | N11: 138750000 | O11: 138750000 | P11: 138750000
A12: Nilai Sisa Peralatan | C12: Rp | P12: 92500000
A14: Pendapatan Penjualan | C14: Rp | E14: =E5*E6 -> 1.5478635e+11 | F14: =F5*F6 -> 1.5541227e+11 | G14: =G5*G6 -> 1.4591864e+11 | H14: =H5*H6 -> 1.4688199e+11 | I14: =I5*I6 -> 1.5925692e+11 | J14: =J5*J6 -> 1.6796728e+11 | K14: =K5*K6 -> 1.4581898e+11 | L14: =L5*L6 -> 1.4931047e+11 | ... P14: =P5*P6 -> 1.521708e+11
A16: Keuntungan Sebelum PPH (30%) | C16: Rp | D16: =-D8 -> -9250000000 | E16: =E14-(E11+E9+E10) -> 1.4844368e+11 | F16: =F14-(F11+F9+F10) -> 1.4905082e+11 | G16: =G14-(G11+G9+G10) -> 1.39842e+11 | H16: =H14-(H11+H9+H10) -> 1.4077645e+11 | I16: =I14-(I11+I9+I10) -> 1.5278013e+11 | J16: =J14-(J11+J9+J10) -> 1.6122918e+11 | K16: =K14-(K11+K9+K10) -> 1.3974533e+11 | L16: =L14-(L11+L9+L10) -> 1.4313207e+11 | ... P16: =P14-(P11+P9+P10) -> 1.4590659e+11
A17: PPH 30% | E17: =E16*30% -> 4.4533104e+10 | F17: =F16*30% -> 4.4715245e+10 | G17: =G16*30% -> 4.1952599e+10 | H17: =H16*30% -> 4.2232934e+10 | I17: =I16*30% -> 4.583404e+10 | J17: =J16*30% -> 4.8368755e+10 | K17: =K16*30% -> 4.1923599e+10 | L17: =L16*30% -> 4.2939622e+10 | ... P17: =P16*30% -> 4.3771977e+10
A18: Keuntungan Bersih | D18: =D16 -> -9250000000 | E18: =E16-E17 -> 1.0391058e+11 | F18: =F16-F17 -> 1.0433557e+11 | G18: =G16-G17 -> 9.7889398e+10 | H18: =H16-H17 -> 9.8543513e+10 | I18: =I16-I17 -> 1.0694609e+11 | J18: =J16-J17 -> 1.1286043e+11 | K18: =K16-K17 -> 9.7821731e+10 | L18: =L16-L17 -> 1.0019245e+11 | ... P18: =P16-P17 -> 1.0213461e+11
A20: Aliran Kas Komulatif | D20: =D18 -> -9250000000 | E20: =D20+E18 -> 9.4660575e+10 | F20: =E20+F18 -> 1.9899615e+11 | G20: =F20+G18 -> 2.9688555e+11 | H20: =G20+H18 -> 3.9542906e+11 | I20: =H20+I18 -> 5.0237515e+11 | J20: =I20+J18 -> 6.1523558e+11 | K20: =J20+K18 -> 7.1305731e+11 | L20: =K20+L18 -> 8.1324976e+11 | ... P20: =O20+P18 -> 1.1944033e+12
A27: MARR ( Minimum Atractive Rate of Return ) | B27: 0.1 | J27: 1624886.7 | K27: =J27*R6 -> 2.3387482e+10
A28: NPV ( Net Present Value ) | B28: =NPV(B27,D18,E18,F18,G18,H18,I18:P18) -> 6.1798235e+11
A29: IRR ( Internal Rate of Return ) | B29: =IRR(D18:P18,B27) -> 11.232756
B35: HINO FM 260
A36: URAIAN | C36: Unit | D36: bulan 0 | E36: bulan 1 | F36: bulan 2 | G36: bulan 3 | H36: bulan 4 | I36: bulan 5 | J36: bulan 6 | K36: bulan 7 | L36: bulan 8 | M36: bulan 9 | N36: bulan 10 | O36: bulan 11 | P36: bulan 12
A37: Produksi Batubara | C37: MT | E37: 88532 | F37: 88890 | G37: 83460 | H37: 84011 | I37: 91089 | J37: 96071 | K37: 83403 | L37: 85400 | M37: 78448 | N37: 81063 | O37: 78529 | P37: 87036
A38: Harga Batubara | C38: Rp/MT | E38: 1748366.1 | F38: 1748366.1 | G38: 1748366.1 | H38: 1748366.1 | I38: 1748366.1 | J38: 1748366.1 | K38: 1748366.1 | L38: 1748366.1 | M38: 1748366.1 | N38: 1748366.1 | O38: 1748366.1 | P38: 1748366.1
A40: Investasi awal | C40: Rp | D40: 3456584760
A41: Biaya kepemilikan alat dan operasional alat | C41: Rp | E41: 4.3018346e+08 | F41: 4.3018346e+08 | G41: 4.3018346e+08 | H41: 4.3018346e+08 | I41: 4.3018346e+08 | J41: 4.3018346e+08 | K41: 4.3018346e+08 | L41: 4.3018346e+08 | M41: 4.3018346e+08 | N41: 4.3018346e+08 | O41: 4.3018346e+08 | P41: 4.3018346e+08
A42: Royalti | C42: Rp | E42: =E46*3% -> 4.6435905e+09 | F42: =F46*3% -> 4.662368e+09 | G42: =G46*3% -> 4.3775592e+09 | H42: =H46*3% -> 4.4064596e+09 | I42: =I46*3% -> 4.7777077e+09 | J42: =J46*3% -> 5.0390185e+09 | K42: =K46*3% -> 4.3745694e+09 | L42: =L46*3% -> 4.4793141e+09 | ... P42: =P46*3% -> 4.5651239e+09
A43: Depresiasi Peralatan | C43: Rp | E43: 51848771 | F43: 51848771 | G43: 51848771 | H43: 51848771 | I43: 51848771 | J43: 51848771 | K43: 51848771 | L43: 51848771 | M43: 51848771 | N43: 51848771 | O43: 51848771 | P43: 51848771
A44: Nilai Sisa Peralatan | C44: Rp | P44: 92500000
A46: Pendapatan Penjualan | C46: Rp | E46: =E37*E38 -> 1.5478635e+11 | F46: =F37*F38 -> 1.5541227e+11 | G46: =G37*G38 -> 1.4591864e+11 | H46: =H37*H38 -> 1.4688199e+11 | I46: =I37*I38 -> 1.5925692e+11 | J46: =J37*J38 -> 1.6796728e+11 | K46: =K37*K38 -> 1.4581898e+11 | L46: =L37*L38 -> 1.4931047e+11 | ... P46: =P37*P38 -> 1.521708e+11
A48: Keuntungan Sebelum PPH (30%) | C48: Rp | D48: =-D40 -> -3456584760 | E48: =E46-(E43+E41+E42) -> 1.4966073e+11 | F48: =F46-(F43+F41+F42) -> 1.5026787e+11 | G48: =G46-(G43+G41+G42) -> 1.4105905e+11 | H48: =H46-(H43+H41+H42) -> 1.419935e+11 | I48: =I46-(I43+I41+I42) -> 1.5399718e+11 | J48: =J46-(J43+J41+J42) -> 1.6244623e+11 | K48: =K46-(K43+K41+K42) -> 1.4096238e+11 | L48: =L46-(L43+L41+L42) -> 1.4434912e+11 | ... P48: =P46-(P43+P41+P42) -> 1.4712364e+11
A49: PPH 30% | E49: =E48*30% -> 4.4898219e+10 | F49: =F48*30% -> 4.508036e+10 | G49: =G48*30% -> 4.2317714e+10 | H49: =H48*30% -> 4.2598049e+10 | I49: =I48*30% -> 4.6199155e+10 | J49: =J48*30% -> 4.873387e+10 | K49: =K48*30% -> 4.2288714e+10 | L49: =L48*30% -> 4.3304737e+10 | ... P49: =P48*30% -> 4.4137092e+10
A50: Keuntungan Bersih | D50: =D48 -> -3456584760 | E50: =E48-E49 -> 1.0476251e+11 | F50: =F48-F49 -> 1.0518751e+11 | G50: =G48-G49 -> 9.8741333e+10 | H50: =H48-H49 -> 9.9395447e+10 | I50: =I48-I49 -> 1.0779803e+11 | J50: =J48-J49 -> 1.1371236e+11 | K50: =K48-K49 -> 9.8673666e+10 | L50: =L48-L49 -> 1.0104439e+11 | ... P50: =P48-P49 -> 1.0298655e+11
A52: Aliran Kas Komulatif | D52: =D50 -> -3456584760 | E52: =D52+E50 -> 1.0130593e+11 | F52: =E52+F50 -> 2.0649343e+11 | G52: =F52+G50 -> 3.0523476e+11 | H52: =G52+H50 -> 4.0463021e+11 | I52: =H52+I50 -> 5.1242824e+11 | J52: =I52+J50 -> 6.261406e+11 | K52: =J52+K50 -> 7.2481427e+11 | L52: =K52+L50 -> 8.2585866e+11 | ... P52: =O52+P50 -> 1.2104199e+12
A59: MARR ( Minimum Atractive Rate of Return ) | B59: 0.1
A60: NPV ( Net Present Value ) | B60: =NPV(B59,D50,E50,F50,G50,H50,I50:P50) -> 6.285262e+11
A61: IRR ( Internal Rate of Return ) | B61: =IRR(D50:P50,B59) -> 30.310131
