Workbook

Sheet UCS BPP1
L1: Rata - rata Keseluruhan
L2: =E106 -> 4.0906669 | M2: s/d | N2: =J59 -> 5.9909308
L3: =(E59+J59+O52+T52+Y51+E106+J99+O111+T97+Y101)/10 -> 4.4476368 | N3: Mpa
L4: KALIBRASI | N4: 0.2857
B6: L (mm) | C6: 136 | D6: A (mm^2) | E6: =3.14*((C7/2)^2) -> 2374.625 | G6: L (mm) | H6: 137 | I6: A (mm^2) | J6: =3.14*((H7/2)^2) -> 2289.06 | L6: L (mm) | M6: 138 | N6: A (mm^2) | O6: =3.14*((M7/2)^2) -> 2289.06 | Q6: L (mm) | R6: 140 | S6: A (mm^2) | T6: =3.14*((R7/2)^2) -> 2374.625 | V6: L (mm) | W6: 135 | X6: A (mm^2) | Y6: =3.14*((W7/2)^2) -> 2640.74
B7: D (mm) | C7: 55 | D7: V (mm^3) | E7: =C7^2*C6 -> 411400 | G7: D (mm) | H7: 54 | I7: V (mm^3) | J7: =H7^2*H6 -> 399492 | L7: D (mm) | M7: 54 | N7: V (mm^3) | O7: =M7^2*M6 -> 402408 | Q7: D (mm) | R7: 55 | S7: V (mm^3) | T7: =R7^2*R6 -> 423500 | V7: D (mm) | W7: 58 | X7: V (mm^3) | Y7: =W7^2*W6 -> 454140
B8: L/D (mm) | C8: =C6/C7 -> 2.4727273 | G8: L/D (mm) | H8: =H6/H7 -> 2.537037 | L8: L/D (mm) | M8: =M6/M7 -> 2.5555556 | Q8: L/D (mm) | R8: =R6/R7 -> 2.5454545 | V8: L/D (mm) | W8: =W6/W7 -> 2.3275862
B10: Sampel 1 | E10: Tc (Mpa) | G10: Sampel 2 | J10: Tc (Mpa) | L10: Sampel 3 | O10: Tc (Mpa) | Q10: Sampel 4 | T10: Tc (Mpa) | V10: Sampel 5 | Y10: Tc (Mpa) | AD10: rangkuman
B11: No. | C11: kN | D11: Kal. | G11: No. | H11: kN | I11: Kal. | L11: No. | M11: kN | N11: Kal. | Q11: No. | R11: kN | S11: Kal. | V11: No. | W11: kN | X11: Kal. | AB11: No | AC11: Sampel | AD11: D (mm) | AE11: L (mm) | AF11: F (kN) | AG11: UCS (Mpa) | AH11: Classification
B12: 1 | C12: 1 | D12: =$N$4 -> 0.2857 | E12: =((C12/$E$6)*1000)*$N$4*S2 -> 0 | G12: 1 | H12: 1 | I12: =$N$4 -> 0.2857 | J12: =((H12/$J$6)*1000)*$N$4 -> 0.12481106 | L12: 1 | M12: 1 | N12: =$N$4 -> 0.2857 | O12: =((M12/$O$6)*1000)*$N$4 -> 0.12481106 | Q12: 1 | R12: 1 | S12: =$N$4 -> 0.2857 | T12: =((R12/$T$6)*1000)*$N$4 -> 0.12031373 | V12: 1 | W12: 1 | X12: =$N$4 -> 0.2857 | Y12: =((W12/$Y$6)*1000)*$N$4 -> 0.10818937 | AB12: 1 | AC12: 1 | AD12: =C7 -> 55 | AE12: =C6 -> 136 | AF12: =C59 -> 48 | AG12: =E59 -> 5.7750592 | AH12: Weak
B13: 2 | C13: 2 | D13: =$N$4 -> 0.2857 | E13: =((C13/$E$6)*1000)*$N$4 -> 0.24062747 | G13: 2 | H13: 2 | I13: =$N$4 -> 0.2857 | J13: =((H13/$J$6)*1000)*$N$4 -> 0.24962212 | L13: 2 | M13: 2 | N13: =$N$4 -> 0.2857 | O13: =((M13/$O$6)*1000)*$N$4 -> 0.24962212 | Q13: 2 | R13: 2 | S13: =$N$4 -> 0.2857 | T13: =((R13/$T$6)*1000)*$N$4 -> 0.24062747 | V13: 2 | W13: 2 | X13: =$N$4 -> 0.2857 | Y13: =((W13/$Y$6)*1000)*$N$4 -> 0.21637874 | AB13: 2 | AC13: 2 | AD13: =H7 -> 54 | AE13: =H6 -> 137 | AF13: =H59 -> 48 | AG13: =J59 -> 5.9909308 | AH13: Weak
B14: 3 | C14: 3 | D14: =$N$4 -> 0.2857 | E14: =((C14/$E$6)*1000)*$N$4 -> 0.3609412 | G14: 3 | H14: 3 | I14: =$N$4 -> 0.2857 | J14: =((H14/$J$6)*1000)*$N$4 -> 0.37443317 | L14: 3 | M14: 3 | N14: =$N$4 -> 0.2857 | O14: =((M14/$O$6)*1000)*$N$4 -> 0.37443317 | Q14: 3 | R14: 3 | S14: =$N$4 -> 0.2857 | T14: =((R14/$T$6)*1000)*$N$4 -> 0.3609412 | V14: 3 | W14: 3 | X14: =$N$4 -> 0.2857 | Y14: =((W14/$Y$6)*1000)*$N$4 -> 0.32456811 | AB14: 3 | AC14: 3 | AD14: =M7 -> 54 | AE14: =M6 -> 138 | AF14: =M52 -> 41 | AG14: =O52 -> 5.1172534 | AH14: Weak
B15: 4 | C15: 4 | D15: =$N$4 -> 0.2857 | E15: =((C15/$E$6)*1000)*$N$4 -> 0.48125493 | G15: 4 | H15: 4 | I15: =$N$4 -> 0.2857 | J15: =((H15/$J$6)*1000)*$N$4 -> 0.49924423 | L15: 4 | M15: 4 | N15: =$N$4 -> 0.2857 | O15: =((M15/$O$6)*1000)*$N$4 -> 0.49924423 | Q15: 4 | R15: 4 | S15: =$N$4 -> 0.2857 | T15: =((R15/$T$6)*1000)*$N$4 -> 0.48125493 | V15: 4 | W15: 4 | X15: =$N$4 -> 0.2857 | Y15: =((W15/$Y$6)*1000)*$N$4 -> 0.43275748 | AB15: 4 | AC15: 4 | AD15: =R7 -> 55 | AE15: =R6 -> 140 | AF15: =R52 -> 41 | AG15: =T52 -> 4.9328631 | AH15: Very Weak
B16: 5 | C16: 5 | D16: =$N$4 -> 0.2857 | E16: =((C16/$E$6)*1000)*$N$4 -> 0.60156867 | G16: 5 | H16: 5 | I16: =$N$4 -> 0.2857 | J16: =((H16/$J$6)*1000)*$N$4 -> 0.62405529 | L16: 5 | M16: 5 | N16: =$N$4 -> 0.2857 | O16: =((M16/$O$6)*1000)*$N$4 -> 0.62405529 | Q16: 5 | R16: 5 | S16: =$N$4 -> 0.2857 | T16: =((R16/$T$6)*1000)*$N$4 -> 0.60156867 | V16: 5 | W16: 5 | X16: =$N$4 -> 0.2857 | Y16: =((W16/$Y$6)*1000)*$N$4 -> 0.54094686 | AB16: 5 | AC16: 5 | AD16: =W7 -> 58 | AE16: =W6 -> 135 | AF16: =W51 -> 40 | AG16: =Y51 -> 4.3275748 | AH16: Very Weak
B17: 6 | C17: 6 | D17: =$N$4 -> 0.2857 | E17: =((C17/$E$6)*1000)*$N$4 -> 0.7218824 | G17: 6 | H17: 6 | I17: =$N$4 -> 0.2857 | J17: =((H17/$J$6)*1000)*$N$4 -> 0.74886635 | L17: 6 | M17: 6 | N17: =$N$4 -> 0.2857 | O17: =((M17/$O$6)*1000)*$N$4 -> 0.74886635 | Q17: 6 | R17: 6 | S17: =$N$4 -> 0.2857 | T17: =((R17/$T$6)*1000)*$N$4 -> 0.7218824 | V17: 6 | W17: 6 | X17: =$N$4 -> 0.2857 | Y17: =((W17/$Y$6)*1000)*$N$4 -> 0.64913623 | AB17: 6 | AC17: 6 | AD17: =C68 -> 55 | AE17: =C67 -> 137 | AF17: =C106 -> 34 | AG17: =E106 -> 4.0906669 | AH17: Very Weak
B18: 7 | C18: 7 | D18: =$N$4 -> 0.2857 | E18: =((C18/$E$6)*1000)*$N$4 -> 0.84219614 | G18: 7 | H18: 7 | I18: =$N$4 -> 0.2857 | J18: =((H18/$J$6)*1000)*$N$4 -> 0.8736774 | L18: 7 | M18: 7 | N18: =$N$4 -> 0.2857 | O18: =((M18/$O$6)*1000)*$N$4 -> 0.8736774 | Q18: 7 | R18: 7 | S18: =$N$4 -> 0.2857 | T18: =((R18/$T$6)*1000)*$N$4 -> 0.84219614 | V18: 7 | W18: 7 | X18: =$N$4 -> 0.2857 | Y18: =((W18/$Y$6)*1000)*$N$4 -> 0.7573256 | AB18: 7 | AC18: 7 | AD18: =H68 -> 56 | AE18: =H67 -> 139 | AF18: =H99 -> 27 | AG18: =J99 -> 3.1334899 | AH18: Very Weak
B19: 8 | C19: 8 | D19: =$N$4 -> 0.2857 | E19: =((C19/$E$6)*1000)*$N$4 -> 0.96250987 | G19: 8 | H19: 8 | I19: =$N$4 -> 0.2857 | J19: =((H19/$J$6)*1000)*$N$4 -> 0.99848846 | L19: 8 | M19: 8 | N19: =$N$4 -> 0.2857 | O19: =((M19/$O$6)*1000)*$N$4 -> 0.99848846 | Q19: 8 | R19: 8 | S19: =$N$4 -> 0.2857 | T19: =((R19/$T$6)*1000)*$N$4 -> 0.96250987 | V19: 8 | W19: 8 | X19: =$N$4 -> 0.2857 | Y19: =((W19/$Y$6)*1000)*$N$4 -> 0.86551497 | AB19: 8 | AC19: 8 | AD19: =M68 -> 57 | AE19: =M67 -> 142 | AF19: =M111 -> 39 | AG19: =O111 -> 4.3687328 | AH19: Very Weak
B20: 9 | C20: 9 | D20: =$N$4 -> 0.2857 | E20: =((C20/$E$6)*1000)*$N$4 -> 1.0828236 | G20: 9 | H20: 9 | I20: =$N$4 -> 0.2857 | J20: =((H20/$J$6)*1000)*$N$4 -> 1.1232995 | L20: 9 | M20: 9 | N20: =$N$4 -> 0.2857 | O20: =((M20/$O$6)*1000)*$N$4 -> 1.1232995 | Q20: 9 | R20: 9 | S20: =$N$4 -> 0.2857 | T20: =((R20/$T$6)*1000)*$N$4 -> 1.0828236 | V20: 9 | W20: 9 | X20: =$N$4 -> 0.2857 | Y20: =((W20/$Y$6)*1000)*$N$4 -> 0.97370434 | AB20: 9 | AC20: 9 | AD20: =R68 -> 54 | AE20: =R67 -> 135 | AF20: =R97 -> 25 | AG20: =T97 -> 3.1202764 | AH20: Very Weak
B21: 10 | C21: 10 | D21: =$N$4 -> 0.2857 | E21: =((C21/$E$6)*1000)*$N$4 -> 1.2031373 | G21: 10 | H21: 10 | I21: =$N$4 -> 0.2857 | J21: =((H21/$J$6)*1000)*$N$4 -> 1.2481106 | L21: 10 | M21: 10 | N21: =$N$4 -> 0.2857 | O21: =((M21/$O$6)*1000)*$N$4 -> 1.2481106 | Q21: 10 | R21: 10 | S21: =$N$4 -> 0.2857 | T21: =((R21/$T$6)*1000)*$N$4 -> 1.2031373 | V21: 10 | W21: 10 | X21: =$N$4 -> 0.2857 | Y21: =((W21/$Y$6)*1000)*$N$4 -> 1.0818937 | AB21: 10 | AC21: 10 | AD21: =W68 -> 54 | AE21: =W67 -> 135 | AF21: =W101 -> 29 | AG21: =Y101 -> 3.6195207 | AH21: Very Weak
B22: 11 | C22: 11 | D22: =$N$4 -> 0.2857 | E22: =((C22/$E$6)*1000)*$N$4 -> 1.3234511 | G22: 11 | H22: 11 | I22: =$N$4 -> 0.2857 | J22: =((H22/$J$6)*1000)*$N$4 -> 1.3729216 | L22: 11 | M22: 11 | N22: =$N$4 -> 0.2857 | O22: =((M22/$O$6)*1000)*$N$4 -> 1.3729216 | Q22: 11 | R22: 11 | S22: =$N$4 -> 0.2857 | T22: =((R22/$T$6)*1000)*$N$4 -> 1.3234511 | V22: 11 | W22: 11 | X22: =$N$4 -> 0.2857 | Y22: =((W22/$Y$6)*1000)*$N$4 -> 1.1900831 | AF22: average | AG22: =AVERAGE(AG12:AG21) -> 4.4476368
B23: 12 | C23: 12 | D23: =$N$4 -> 0.2857 | E23: =((C23/$E$6)*1000)*$N$4 -> 1.4437648 | G23: 12 | H23: 12 | I23: =$N$4 -> 0.2857 | J23: =((H23/$J$6)*1000)*$N$4 -> 1.4977327 | L23: 12 | M23: 12 | N23: =$N$4 -> 0.2857 | O23: =((M23/$O$6)*1000)*$N$4 -> 1.4977327 | Q23: 12 | R23: 12 | S23: =$N$4 -> 0.2857 | T23: =((R23/$T$6)*1000)*$N$4 -> 1.4437648 | V23: 12 | W23: 12 | X23: =$N$4 -> 0.2857 | Y23: =((W23/$Y$6)*1000)*$N$4 -> 1.2982725
B24: 13 | C24: 13 | D24: =$N$4 -> 0.2857 | E24: =((C24/$E$6)*1000)*$N$4 -> 1.5640785 | G24: 13 | H24: 13 | I24: =$N$4 -> 0.2857 | J24: =((H24/$J$6)*1000)*$N$4 -> 1.6225438 | L24: 13 | M24: 13 | N24: =$N$4 -> 0.2857 | O24: =((M24/$O$6)*1000)*$N$4 -> 1.6225438 | Q24: 13 | R24: 13 | S24: =$N$4 -> 0.2857 | T24: =((R24/$T$6)*1000)*$N$4 -> 1.5640785 | V24: 13 | W24: 13 | X24: =$N$4 -> 0.2857 | Y24: =((W24/$Y$6)*1000)*$N$4 -> 1.4064618
B25: 14 | C25: 14 | D25: =$N$4 -> 0.2857 | E25: =((C25/$E$6)*1000)*$N$4 -> 1.6843923 | G25: 14 | H25: 14 | I25: =$N$4 -> 0.2857 | J25: =((H25/$J$6)*1000)*$N$4 -> 1.7473548 | L25: 14 | M25: 14 | N25: =$N$4 -> 0.2857 | O25: =((M25/$O$6)*1000)*$N$4 -> 1.7473548 | Q25: 14 | R25: 14 | S25: =$N$4 -> 0.2857 | T25: =((R25/$T$6)*1000)*$N$4 -> 1.6843923 | V25: 14 | W25: 14 | X25: =$N$4 -> 0.2857 | Y25: =((W25/$Y$6)*1000)*$N$4 -> 1.5146512 | AD25: plot skripsi
B26: 15 | C26: 15 | D26: =$N$4 -> 0.2857 | E26: =((C26/$E$6)*1000)*$N$4 -> 1.804706 | G26: 15 | H26: 15 | I26: =$N$4 -> 0.2857 | J26: =((H26/$J$6)*1000)*$N$4 -> 1.8721659 | L26: 15 | M26: 15 | N26: =$N$4 -> 0.2857 | O26: =((M26/$O$6)*1000)*$N$4 -> 1.8721659 | Q26: 15 | R26: 15 | S26: =$N$4 -> 0.2857 | T26: =((R26/$T$6)*1000)*$N$4 -> 1.804706 | V26: 15 | W26: 15 | X26: =$N$4 -> 0.2857 | Y26: =((W26/$Y$6)*1000)*$N$4 -> 1.6228406 | AB26: No | AC26: Sampel | AD26: D (mm) | AE26: L (mm) | AF26: F (kN) | AG26: UCS (Mpa) | AH26: Classification
B27: 16 | C27: 16 | D27: =$N$4 -> 0.2857 | E27: =((C27/$E$6)*1000)*$N$4 -> 1.9250197 | G27: 16 | H27: 16 | I27: =$N$4 -> 0.2857 | J27: =((H27/$J$6)*1000)*$N$4 -> 1.9969769 | L27: 16 | M27: 16 | N27: =$N$4 -> 0.2857 | O27: =((M27/$O$6)*1000)*$N$4 -> 1.9969769 | Q27: 16 | R27: 16 | S27: =$N$4 -> 0.2857 | T27: =((R27/$T$6)*1000)*$N$4 -> 1.9250197 | V27: 16 | W27: 16 | X27: =$N$4 -> 0.2857 | Y27: =((W27/$Y$6)*1000)*$N$4 -> 1.7310299 | AB27: 1 | AC27: 1 | AD27: 55 | AE27: 136 | AF27: 48 | AG27: 5,78 | AH27: Weak
B28: 17 | C28: 17 | D28: =$N$4 -> 0.2857 | E28: =((C28/$E$6)*1000)*$N$4 -> 2.0453335 | G28: 17 | H28: 17 | I28: =$N$4 -> 0.2857 | J28: =((H28/$J$6)*1000)*$N$4 -> 2.121788 | L28: 17 | M28: 17 | N28: =$N$4 -> 0.2857 | O28: =((M28/$O$6)*1000)*$N$4 -> 2.121788 | Q28: 17 | R28: 17 | S28: =$N$4 -> 0.2857 | T28: =((R28/$T$6)*1000)*$N$4 -> 2.0453335 | V28: 17 | W28: 17 | X28: =$N$4 -> 0.2857 | Y28: =((W28/$Y$6)*1000)*$N$4 -> 1.8392193 | AB28: 2 | AC28: 2 | AD28: 54 | AE28: 137 | AF28: 48 | AG28: 5,99 | AH28: Weak
B29: 18 | C29: 18 | D29: =$N$4 -> 0.2857 | E29: =((C29/$E$6)*1000)*$N$4 -> 2.1656472 | G29: 18 | H29: 18 | I29: =$N$4 -> 0.2857 | J29: =((H29/$J$6)*1000)*$N$4 -> 2.246599 | L29: 18 | M29: 18 | N29: =$N$4 -> 0.2857 | O29: =((M29/$O$6)*1000)*$N$4 -> 2.246599 | Q29: 18 | R29: 18 | S29: =$N$4 -> 0.2857 | T29: =((R29/$T$6)*1000)*$N$4 -> 2.1656472 | V29: 18 | W29: 18 | X29: =$N$4 -> 0.2857 | Y29: =((W29/$Y$6)*1000)*$N$4 -> 1.9474087 | AB29: 3 | AC29: 3 | AD29: 54 | AE29: 138 | AF29: 41 | AG29: 5,12 | AH29: Weak
B30: 19 | C30: 19 | D30: =$N$4 -> 0.2857 | E30: =((C30/$E$6)*1000)*$N$4 -> 2.2859609 | G30: 19 | H30: 19 | I30: =$N$4 -> 0.2857 | J30: =((H30/$J$6)*1000)*$N$4 -> 2.3714101 | L30: 19 | M30: 19 | N30: =$N$4 -> 0.2857 | O30: =((M30/$O$6)*1000)*$N$4 -> 2.3714101 | Q30: 19 | R30: 19 | S30: =$N$4 -> 0.2857 | T30: =((R30/$T$6)*1000)*$N$4 -> 2.2859609 | V30: 19 | W30: 19 | X30: =$N$4 -> 0.2857 | Y30: =((W30/$Y$6)*1000)*$N$4 -> 2.0555981 | AB30: 4 | AC30: 4 | AD30: 55 | AE30: 140 | AF30: 41 | AG30: 4,93 | AH30: Very Weak
B31: 20 | C31: 20 | D31: =$N$4 -> 0.2857 | E31: =((C31/$E$6)*1000)*$N$4 -> 2.4062747 | G31: 20 | H31: 20 | I31: =$N$4 -> 0.2857 | J31: =((H31/$J$6)*1000)*$N$4 -> 2.4962212 | L31: 20 | M31: 20 | N31: =$N$4 -> 0.2857 | O31: =((M31/$O$6)*1000)*$N$4 -> 2.4962212 | Q31: 20 | R31: 20 | S31: =$N$4 -> 0.2857 | T31: =((R31/$T$6)*1000)*$N$4 -> 2.4062747 | V31: 20 | W31: 20 | X31: =$N$4 -> 0.2857 | Y31: =((W31/$Y$6)*1000)*$N$4 -> 2.1637874 | AB31: 5 | AC31: 5 | AD31: 58 | AE31: 135 | AF31: 40 | AG31: 4,33 | AH31: Very Weak
B32: 21 | C32: 21 | D32: =$N$4 -> 0.2857 | E32: =((C32/$E$6)*1000)*$N$4 -> 2.5265884 | G32: 21 | H32: 21 | I32: =$N$4 -> 0.2857 | J32: =((H32/$J$6)*1000)*$N$4 -> 2.6210322 | L32: 21 | M32: 21 | N32: =$N$4 -> 0.2857 | O32: =((M32/$O$6)*1000)*$N$4 -> 2.6210322 | Q32: 21 | R32: 21 | S32: =$N$4 -> 0.2857 | T32: =((R32/$T$6)*1000)*$N$4 -> 2.5265884 | V32: 21 | W32: 21 | X32: =$N$4 -> 0.2857 | Y32: =((W32/$Y$6)*1000)*$N$4 -> 2.2719768 | AB32: 6 | AC32: 6 | AD32: 55 | AE32: 137 | AF32: 34 | AG32: 4,09 | AH32: Very Weak
B33: 22 | C33: 22 | D33: =$N$4 -> 0.2857 | E33: =((C33/$E$6)*1000)*$N$4 -> 2.6469021 | G33: 22 | H33: 22 | I33: =$N$4 -> 0.2857 | J33: =((H33/$J$6)*1000)*$N$4 -> 2.7458433 | L33: 22 | M33: 22 | N33: =$N$4 -> 0.2857 | O33: =((M33/$O$6)*1000)*$N$4 -> 2.7458433 | Q33: 22 | R33: 22 | S33: =$N$4 -> 0.2857 | T33: =((R33/$T$6)*1000)*$N$4 -> 2.6469021 | V33: 22 | W33: 22 | X33: =$N$4 -> 0.2857 | Y33: =((W33/$Y$6)*1000)*$N$4 -> 2.3801662 | AB33: 7 | AC33: 7 | AD33: 56 | AE33: 139 | AF33: 27 | AG33: 3,13 | AH33: Very Weak
B34: 23 | C34: 23 | D34: =$N$4 -> 0.2857 | E34: =((C34/$E$6)*1000)*$N$4 -> 2.7672159 | G34: 23 | H34: 23 | I34: =$N$4 -> 0.2857 | J34: =((H34/$J$6)*1000)*$N$4 -> 2.8706543 | L34: 23 | M34: 23 | N34: =$N$4 -> 0.2857 | O34: =((M34/$O$6)*1000)*$N$4 -> 2.8706543 | Q34: 23 | R34: 23 | S34: =$N$4 -> 0.2857 | T34: =((R34/$T$6)*1000)*$N$4 -> 2.7672159 | V34: 23 | W34: 23 | X34: =$N$4 -> 0.2857 | Y34: =((W34/$Y$6)*1000)*$N$4 -> 2.4883555 | AB34: 8 | AC34: 8 | AD34: 57 | AE34: 142 | AF34: 39 | AG34: 4,37 | AH34: Very Weak
B35: 24 | C35: 24 | D35: =$N$4 -> 0.2857 | E35: =((C35/$E$6)*1000)*$N$4 -> 2.8875296 | G35: 24 | H35: 24 | I35: =$N$4 -> 0.2857 | J35: =((H35/$J$6)*1000)*$N$4 -> 2.9954654 | L35: 24 | M35: 24 | N35: =$N$4 -> 0.2857 | O35: =((M35/$O$6)*1000)*$N$4 -> 2.9954654 | Q35: 24 | R35: 24 | S35: =$N$4 -> 0.2857 | T35: =((R35/$T$6)*1000)*$N$4 -> 2.8875296 | V35: 24 | W35: 24 | X35: =$N$4 -> 0.2857 | Y35: =((W35/$Y$6)*1000)*$N$4 -> 2.5965449 | AB35: 9 | AC35: 9 | AD35: 54 | AE35: 135 | AF35: 25 | AG35: 3,12 | AH35: Very Weak
B36: 25 | C36: 25 | D36: =$N$4 -> 0.2857 | E36: =((C36/$E$6)*1000)*$N$4 -> 3.0078433 | G36: 25 | H36: 25 | I36: =$N$4 -> 0.2857 | J36: =((H36/$J$6)*1000)*$N$4 -> 3.1202764 | L36: 25 | M36: 25 | N36: =$N$4 -> 0.2857 | O36: =((M36/$O$6)*1000)*$N$4 -> 3.1202764 | Q36: 25 | R36: 25 | S36: =$N$4 -> 0.2857 | T36: =((R36/$T$6)*1000)*$N$4 -> 3.0078433 | V36: 25 | W36: 25 | X36: =$N$4 -> 0.2857 | Y36: =((W36/$Y$6)*1000)*$N$4 -> 2.7047343 | AB36: 10 | AC36: 10 | AD36: 54 | AE36: 135 | AF36: 29 | AG36: 3,62 | AH36: Very Weak
B37: 26 | C37: 26 | D37: =$N$4 -> 0.2857 | E37: =((C37/$E$6)*1000)*$N$4 -> 3.1281571 | G37: 26 | H37: 26 | I37: =$N$4 -> 0.2857 | J37: =((H37/$J$6)*1000)*$N$4 -> 3.2450875 | L37: 26 | M37: 26 | N37: =$N$4 -> 0.2857 | O37: =((M37/$O$6)*1000)*$N$4 -> 3.2450875 | Q37: 26 | R37: 26 | S37: =$N$4 -> 0.2857 | T37: =((R37/$T$6)*1000)*$N$4 -> 3.1281571 | V37: 26 | W37: 26 | X37: =$N$4 -> 0.2857 | Y37: =((W37/$Y$6)*1000)*$N$4 -> 2.8129237
B38: 27 | C38: 27 | D38: =$N$4 -> 0.2857 | E38: =((C38/$E$6)*1000)*$N$4 -> 3.2484708 | G38: 27 | H38: 27 | I38: =$N$4 -> 0.2857 | J38: =((H38/$J$6)*1000)*$N$4 -> 3.3698986 | L38: 27 | M38: 27 | N38: =$N$4 -> 0.2857 | O38: =((M38/$O$6)*1000)*$N$4 -> 3.3698986 | Q38: 27 | R38: 27 | S38: =$N$4 -> 0.2857 | T38: =((R38/$T$6)*1000)*$N$4 -> 3.2484708 | V38: 27 | W38: 27 | X38: =$N$4 -> 0.2857 | Y38: =((W38/$Y$6)*1000)*$N$4 -> 2.921113
B39: 28 | C39: 28 | D39: =$N$4 -> 0.2857 | E39: =((C39/$E$6)*1000)*$N$4 -> 3.3687845 | G39: 28 | H39: 28 | I39: =$N$4 -> 0.2857 | J39: =((H39/$J$6)*1000)*$N$4 -> 3.4947096 | L39: 28 | M39: 28 | N39: =$N$4 -> 0.2857 | O39: =((M39/$O$6)*1000)*$N$4 -> 3.4947096 | Q39: 28 | R39: 28 | S39: =$N$4 -> 0.2857 | T39: =((R39/$T$6)*1000)*$N$4 -> 3.3687845 | V39: 28 | W39: 28 | X39: =$N$4 -> 0.2857 | Y39: =((W39/$Y$6)*1000)*$N$4 -> 3.0293024
B40: 29 | C40: 29 | D40: =$N$4 -> 0.2857 | E40: =((C40/$E$6)*1000)*$N$4 -> 3.4890983 | G40: 29 | H40: 29 | I40: =$N$4 -> 0.2857 | J40: =((H40/$J$6)*1000)*$N$4 -> 3.6195207 | L40: 29 | M40: 29 | N40: =$N$4 -> 0.2857 | O40: =((M40/$O$6)*1000)*$N$4 -> 3.6195207 | Q40: 29 | R40: 29 | S40: =$N$4 -> 0.2857 | T40: =((R40/$T$6)*1000)*$N$4 -> 3.4890983 | V40: 29 | W40: 29 | X40: =$N$4 -> 0.2857 | Y40: =((W40/$Y$6)*1000)*$N$4 -> 3.1374918
B41: 30 | C41: 30 | D41: =$N$4 -> 0.2857 | E41: =((C41/$E$6)*1000)*$N$4 -> 3.609412 | G41: 30 | H41: 30 | I41: =$N$4 -> 0.2857 | J41: =((H41/$J$6)*1000)*$N$4 -> 3.7443317 | L41: 30 | M41: 30 | N41: =$N$4 -> 0.2857 | O41: =((M41/$O$6)*1000)*$N$4 -> 3.7443317 | Q41: 30 | R41: 30 | S41: =$N$4 -> 0.2857 | T41: =((R41/$T$6)*1000)*$N$4 -> 3.609412 | V41: 30 | W41: 30 | X41: =$N$4 -> 0.2857 | Y41: =((W41/$Y$6)*1000)*$N$4 -> 3.2456811
B42: 31 | C42: 31 | D42: =$N$4 -> 0.2857 | E42: =((C42/$E$6)*1000)*$N$4 -> 3.7297257 | G42: 31 | H42: 31 | I42: =$N$4 -> 0.2857 | J42: =((H42/$J$6)*1000)*$N$4 -> 3.8691428 | L42: 31 | M42: 31 | N42: =$N$4 -> 0.2857 | O42: =((M42/$O$6)*1000)*$N$4 -> 3.8691428 | Q42: 31 | R42: 31 | S42: =$N$4 -> 0.2857 | T42: =((R42/$T$6)*1000)*$N$4 -> 3.7297257 | V42: 31 | W42: 31 | X42: =$N$4 -> 0.2857 | Y42: =((W42/$Y$6)*1000)*$N$4 -> 3.3538705
...

Sheet PLI BPP1
A2: Formasi | B2: Kode | C2: Panjang Sampel | D2: Jarak Konus (Diameter) | E2: Diameter dalam cm | F2: Tekanan | G2: Area | H2: Diameter ekuivalen^2 | I2: Diameter ekuivalen | J2: Indeks PL | K2: Faktor Koreksi 1 | L2: Faktor Koreksi 2 | M2: Indeks PL Terkoreksi 1 | N2: Indeks PL Terkoreksi 2 | O2: Indeks PL digunakan | P2: Is(50) terhitung
C3: W (mm) | D3: D (mm) | E3: D (cm) | F3: P (kN) | G3: A (mm2) | H3: De2 (mm2) | I3: De (mm) | J3: Is (Mpa) | K3: F (-) | L3: F (-) | M3: Is(50) - (Mpa) | N3: Is(50) - (Mpa) | O3: Is(50) - (Mpa) | P3: Is(50) - (Mpa)
A4: Lokasi 1 | B4: PL 1 | C4: 55 | D4: 52 | E4: =D4/10 -> 5.2 | F4: 1.7 | G4: =D4*C4 -> 2860 | H4: =4*G4/3.14 -> 3643.3121 | I4: =SQRT(H4) -> 60.359855 | J4: =(F4/H4)*1000 -> 0.46660839 | K4: =(I4/50)^0.45 -> 1.0884292 | L4: =SQRT(I4/50) -> 1.0987252 | M4: =(K4*F4/H4)*1000 -> 0.5078702 | N4: =(L4*F4/H4)*1000 -> 0.51267441 | O4: =N4 -> 0.51267441 | P4: =N4 -> 0.51267441
B5: PL 2 | C5: 53 | D5: 50 | E5: =D5/10 -> 5 | F5: 1.5 | G5: =D5*C5 -> 2650 | H5: =4*(G5/3.14) -> 3375.7962 | I5: =SQRT(H5) -> 58.101602 | J5: =(F5/H5)*1000 -> 0.44433962 | K5: =(I5/50)^0.45 -> 1.0699122 | L5: =SQRT(I5/50) -> 1.0779759 | M5: =(K5*F5/H5)*1000 -> 0.47540439 | N5: =(L5*F5/H5)*1000 -> 0.47898741 | O5: =N5 -> 0.47898741 | P5: =O5 -> 0.47898741
B6: PL 3 | C6: 57 | D6: 51 | E6: =D6/10 -> 5.1 | F6: 1.3 | G6: =D6*C6 -> 2907 | H6: =4*G6/3.14 -> 3703.1847 | I6: =SQRT(H6) -> 60.853798 | J6: =(F6/H6)*1000 -> 0.35104919 | K6: =(I6/50)^0.45 -> 1.0924283 | L6: =SQRT(I6/50) -> 1.1032117 | M6: =(K6*F6/H6)*1000 -> 0.38349608 | N6: =(L6*F6/H6)*1000 -> 0.38728156 | O6: =N6 -> 0.38728156 | P6: =O6 -> 0.38728156
B7: PL 4 | C7: 56 | D7: 50 | E7: =D7/10 -> 5 | F7: 1.2 | G7: =D7*C7 -> 2800 | H7: =4*G7/3.14 -> 3566.879 | I7: =SQRT(H7) -> 59.723354 | J7: =(F7/H7)*1000 -> 0.33642857 | K7: =(I7/50)^0.45 -> 1.0832492 | L7: =SQRT(I7/50) -> 1.0929168 | M7: =(K7*F7/H7)*1000 -> 0.36443599 | N7: =(L7*F7/H7)*1000 -> 0.36768843 | O7: =N7 -> 0.36768843 | P7: =O7 -> 0.36768843
B8: PL 5 | C8: 57 | D8: 50 | E8: =D8/10 -> 5 | F8: 0.8 | G8: =D8*C8 -> 2850 | H8: =4*G8/3.14 -> 3630.5732 | I8: =SQRT(H8) -> 60.254238 | J8: =(F8/H8)*1000 -> 0.22035088 | K8: =(I8/50)^0.45 -> 1.0875718 | L8: =SQRT(I8/50) -> 1.0977635 | M8: =(K8*F8/H8)*1000 -> 0.23964739 | N8: =(L8*F8/H8)*1000 -> 0.24189316 | O8: =N8 -> 0.24189316 | P8: =O8 -> 0.24189316
B9: x | C9: 60 | D9: 51 | E9: =D9/10 -> 5.1 | F9: 0.5 | G9: =D9*C9 -> 3060 | H9: =4*G9/3.14 -> 3898.0892 | I9: =SQRT(H9) -> 62.434679 | J9: =(F9/H9)*1000 -> 0.12826797 | K9: =(I9/50)^0.45 -> 1.1051091 | L9: =SQRT(I9/50) -> 1.1174496 | M9: =(K9*F9/H9)*1000 -> 0.1417501 | N9: =(L9*F9/H9)*1000 -> 0.14333299 | O9: =N9 -> 0.14333299 | P9: =O10 -> 0.268118
B10: PL 6 | C10: 57 | D10: 51 | E10: =D10/10 -> 5.1 | F10: 0.9 | G10: =D10*C10 -> 2907 | H10: =4*G10/3.14 -> 3703.1847 | I10: =SQRT(H10) -> 60.853798 | J10: =(F10/H10)*1000 -> 0.24303406 | K10: =(I10/50)^0.45 -> 1.0924283 | L10: =SQRT(I10/50) -> 1.1032117 | M10: =(K10*F10/H10)*1000 -> 0.26549729 | N10: =(L10*F10/H10)*1000 -> 0.268118 | O10: =N10 -> 0.268118 | P10: =O11 -> 0.24189316
B11: PL 7 | C11: 57 | D11: 50 | E11: =D11/10 -> 5 | F11: 0.8 | G11: =D11*C11 -> 2850 | H11: =4*G11/3.14 -> 3630.5732 | I11: =SQRT(H11) -> 60.254238 | J11: =(F11/H11)*1000 -> 0.22035088 | K11: =(I11/50)^0.45 -> 1.0875718 | L11: =SQRT(I11/50) -> 1.0977635 | M11: =(K11*F11/H11)*1000 -> 0.23964739 | N11: =(L11*F11/H11)*1000 -> 0.24189316 | O11: =N11 -> 0.24189316 | P11: =O12 -> 0.31533259
B12: PL 8 | C12: 60 | D12: 51 | E12: =D12/10 -> 5.1 | F12: 1.1 | G12: =D12*C12 -> 3060 | H12: =4*G12/3.14 -> 3898.0892 | I12: =SQRT(H12) -> 62.434679 | J12: =(F12/H12)*1000 -> 0.28218954 | K12: =(I12/50)^0.45 -> 1.1051091 | L12: =SQRT(I12/50) -> 1.1174496 | M12: =(K12*F12/H12)*1000 -> 0.31185022 | N12: =(L12*F12/H12)*1000 -> 0.31533259 | O12: =N12 -> 0.31533259 | P12: =O13 -> 0.21643154
B13: PL 9 | C13: 57 | D13: 48 | E13: =D13/10 -> 4.8 | F13: 0.7 | G13: =D13*C13 -> 2736 | H13: =4*G13/3.14 -> 3485.3503 | I13: =SQRT(H13) -> 59.036856 | J13: =(F13/H13)*1000 -> 0.20084064 | K13: =(I13/50)^0.45 -> 1.0776282 | L13: =SQRT(I13/50) -> 1.0866173 | M13: =(K13*F13/H13)*1000 -> 0.21643154 | N13: =(L13*F13/H13)*1000 -> 0.21823691 | O13: =M13 -> 0.21643154 | P13: =O14 -> 0.21419811
B14: PL 10 | C14: 55 | D14: 51 | E14: =D14/10 -> 5.1 | F14: 0.7 | G14: =D14*C14 -> 2805 | H14: =4*G14/3.14 -> 3573.2484 | I14: =SQRT(H14) -> 59.776654 | J14: =(F14/H14)*1000 -> 0.19590018 | K14: =(I14/50)^0.45 -> 1.0836841 | L14: =SQRT(I14/50) -> 1.0934044 | M14: =(K14*F14/H14)*1000 -> 0.21229392 | N14: =(L14*F14/H14)*1000 -> 0.21419811 | O14: =N14 -> 0.21419811
B15: x | C15: 55 | D15: 50 | E15: =D15/10 -> 5 | F15: 2 | G15: =D15*C15 -> 2750 | H15: =4*G15/3.14 -> 3503.1847 | I15: =SQRT(H15) -> 59.187707 | J15: =(F15/H15)*1000 -> 0.57090909 | K15: =(I15/50)^0.45 -> 1.0788664 | L15: =SQRT(I15/50) -> 1.0880047 | M15: =(K15*F15/H15)*1000 -> 0.61593466 | N15: =(L15*F15/H15)*1000 -> 0.62115175 | O15: =N15 -> 0.62115175
O16: rata2 | P16: =AVERAGE(P4:P13) -> 0.32444984
P17: yang dimerahkan tidak digunakan
C18: plot skripai
A19: Formasi | B19: Kode | C19: Panjang Sampel | D19: Jarak Konus (Diameter) | E19: Tekanan | F19: Indeks Point Load
C20: W (mm) | D20: D (mm) | E20: P (kN) | F20: Is(50) - (Mpa)
A21: Lokasi 1 | B21: PL A | C21: 55 | D21: 52 | E21: 1.7 | F21: 0.58846043
B22: PL B | C22: 53 | D22: 50 | E22: 1.5 | F22: 0.5558578
B23: PL C | C23: 57 | D23: 51 | E23: 1.3 | F23: 0.44798914
B24: PL D | C24: 56 | D24: 50 | E24: 1.2 | F24: 0.41905449
B25: PL E | C25: 57 | D25: 50 | E25: 0.8 | F25: 0.26178316
B26: PL F | C26: 60 | D26: 51 | E26: 0.5 | F26: 0.15000056
B27: PL G | C27: 57 | D27: 51 | E27: 0.9 | F27: 0.29450605
B28: PL H | C28: 57 | D28: 50 | E28: 0.8 | F28: 0.26178316
B29: PL I | C29: 60 | D29: 51 | E29: 1.1 | F29: 0.35838114
B30: PL J | C30: 57 | D30: 48 | E30: 0.7 | F30: 0.23569179
B31: PL K | C31: 55 | D31: 51 | E31: 0.7 | F31: 0.23143279
B32: PL L | C32: 55 | D32: 50 | E32: 2 | F32: 0.73431132

Sheet Korelasi BPP1
B2: KORELASI DAERAH LOAJANAN
B4: No. | C4: Y (UCS) | D4: X (PLI) | E4: Y^2 | F4: X^2 | G4: XY | I4: A. Mencari nilai r
B5: 1 | C5: ='UCS BPP1'!AG12 -> 5.7750592 | D5: ='PLI BPP1'!P4 -> 0.51267441 | E5: =C5^2 -> 33.351309 | F5: =D5^2 -> 0.26283505 | G5: =C5*D5 -> 2.9607251 | I5: a. Σx'^2 = | J5: Σx^2 - ((Σx)^2/n) | O5: c. Σx'y'= | P5: Σxy - ((Σy x Σx)/n)
B6: 2 | C6: ='UCS BPP1'!AG13 -> 5.9909308 | D6: ='PLI BPP1'!P5 -> 0.47898741 | E6: =C6^2 -> 35.891252 | F6: =D6^2 -> 0.22942893 | G6: =C6*D6 -> 2.8695804 | I6: = | J6: =F15 -> 1.1585157 | K6: - | L6: =D15^2 -> 10.52677 | M6: / | N6: =B14 -> 10 | O6: = | P6: =G15 -> 15.355666 | Q6: - | R6: =C15*D15 -> 144.3035 | S6: / | T6: =B14 -> 10
B7: 3 | C7: ='UCS BPP1'!AG14 -> 5.1172534 | D7: ='PLI BPP1'!P6 -> 0.38728156 | E7: =C7^2 -> 26.186282 | F7: =D7^2 -> 0.14998701 | G7: =C7*D7 -> 1.9818179 | I7: = | J7: =J6 -> 1.1585157 | K7: - | L7: =L6/N6 -> 1.052677 | O7: = | P7: =P6 -> 15.355666 | Q7: - | R7: =R6/T6 -> 14.43035
B8: 4 | C8: ='UCS BPP1'!AG15 -> 4.9328631 | D8: ='PLI BPP1'!P7 -> 0.36768843 | E8: =C8^2 -> 24.333138 | F8: =D8^2 -> 0.13519478 | G8: =C8*D8 -> 1.8137567 | I8: = | J8: =J7-L7 -> 0.10583876 | O8: = | P8: =P7-R7 -> 0.92531619
B9: 5 | C9: ='UCS BPP1'!AG16 -> 4.3275748 | D9: ='PLI BPP1'!P8 -> 0.24189316 | E9: =C9^2 -> 18.727904 | F9: =D9^2 -> 0.058512299 | G9: =C9*D9 -> 1.0468107
B10: 6 | C10: ='UCS BPP1'!AG17 -> 4.0906669 | D10: ='PLI BPP1'!P9 -> 0.268118 | E10: =C10^2 -> 16.733556 | F10: =D10^2 -> 0.071887264 | G10: =C10*D10 -> 1.0967815 | I10: b. Σy'^2 = | J10: Σy^2 - ((Σy)^2/n) | O10: rx'y' = | P10: Σx'y'/sqrt(Σx'^2 x Σy'^2)
B11: 7 | C11: ='UCS BPP1'!AG18 -> 3.1334899 | D11: ='PLI BPP1'!P10 -> 0.24189316 | E11: =C11^2 -> 9.8187587 | F11: =D11^2 -> 0.058512299 | G11: =C11*D11 -> 0.75796975 | I11: = | J11: =E15 -> 206.96508 | K11: - | L11: =C15^2 -> 1978.1473 | M11: / | N11: =B14 -> 10 | O11: = | P11: =P8 -> 0.92531619 | Q11: / | R11: =SQRT(S11) -> 0.98410448 | S11: =J8*J13 -> 0.96846163
B12: 8 | C12: ='UCS BPP1'!AG19 -> 4.3687328 | D12: ='PLI BPP1'!P11 -> 0.31533259 | E12: =C12^2 -> 19.085826 | F12: =D12^2 -> 0.099434641 | G12: =C12*D12 -> 1.3776038 | I12: = | J12: =J11 -> 206.96508 | K12: - | L12: =L11/N11 -> 197.81473 | O12: = | P12: =P11/R11 -> 0.94026215
B13: 9 | C13: ='UCS BPP1'!AG20 -> 3.1202764 | D13: ='PLI BPP1'!P12 -> 0.21643154 | E13: =C13^2 -> 9.7361251 | F13: =D13^2 -> 0.046842612 | G13: =C13*D13 -> 0.67532624 | I13: = | J13: =J12-L12 -> 9.1503497 | P13: (nilai r -koefisien korelasi)
B14: 10 | C14: ='UCS BPP1'!AG21 -> 3.6195207 | D14: ='PLI BPP1'!P13 -> 0.21419811 | E14: =C14^2 -> 13.10093 | F14: =D14^2 -> 0.04588083 | G14: =C14*D14 -> 0.77529448 | I14: karna nilai r telah memenuhi standar dari tabel R 1% maka penelitian dapat dilanjutkan
B15: Jumlah | C15: =SUM(C5:C14) -> 44.476368 | D15: =SUM(D5:D14) -> 3.2444984 | E15: =SUM(E5:E14) -> 206.96508 | F15: =SUM(F5:F14) -> 1.1585157 | G15: =SUM(G5:G14) -> 15.355666 | I15: secara teoritis berarti variabel X (PLI) dapat digunakan untuk memprediksi variabel Y (UCS)
B16: Mean | C16: =AVERAGE(C5:C14) -> 4.4476368 | D16: =AVERAGE(D5:D14) -> 0.32444984 | E16: =AVERAGE(E5:E14) -> 20.696508 | F16: =AVERAGE(F5:F14) -> 0.11585157 | G16: =AVERAGE(G5:G14) -> 1.5355666
B18: B. Menghitung prediktor (a) dan angka Konstan (K)
B19: nilai a dihitung menggunakan persamaan 1 dan 2 | H19: Nilai K dihitung dengan memasukan nilai a dalam salah satu persamaan
B20: 1. Σxy = a . Σx^2 + K Σx | H20: misalkan yang digunakan adalah persamaan 2:
B21: 2. Σy = a . Σx +nK | H21: =B27 -> 4.4476368 | I21: = | J21: a | K21: =E27 -> 0.32444984 | L21: . +K
H22: =H21 -> 4.4476368 | I22: = | J22: =B29 -> 8.7426971 | K22: =K21 -> 0.32444984 | L22: . +K
B23: =G15 -> 15.355666 | C23: = | D23: a | E23: =F15 -> 1.1585157 | F23: . + K | G23: =D15 -> 3.2444984 | H23: =H22 -> 4.4476368 | I23: = | J23: =J22*K22 -> 2.8365666 | L23: . + K
B24: =C15 -> 44.476368 | C24: = | D24: a | E24: =D15 -> 3.2444984 | F24: . + K | G24: 10 | H24: =H23-J23 -> 1.6110701 | I24: = | J24: K
B25: kemudian dilakuakan persamaan menjadi,
B26: =B23/G23 -> 4.7328323 | C26: = | D26: a | E26: =E23/G23 -> 0.35707083 | F26: . +K | H26: Jadi Persamaan korelasi keseluruhan yang diperoleh adalah
B27: =B24/G24 -> 4.4476368 | C27: = | D27: a | E27: =E24/G24 -> 0.32444984 | F27: . + K | H27: r | I27: = | J27: =P12 -> 0.94026215
B28: =B26-B27 -> 0.28519546 | C28: = | D28: a | E28: =E26-E27 -> 0.032620992 | H28: Y (UCS) | I28: = | J28: 7.67048 a(PLI) | K28: + | L28: =H24 -> 1.6110701
B29: =B28/E28 -> 8.7426971 | C29: = | D29: a

Sheet UCS PB2
L1: Rata - rata Keseluruhan
L2: =J40 -> 3.3656002 | M2: s/d | N2: =E76 -> 7.8203927
L3: =(E76+J40+O60+T46+Y46+E130+J121+O151+T127+Y126)/10 -> 5.113747 | N3: Mpa
L4: KALIBRASI | N4: 0.2857
B6: L (mm) | C6: 138 | D6: A (mm^2) | E6: =3.14*((C7/2)^2) -> 2374.625 | G6: L (mm) | H6: 141 | I6: A (mm^2) | J6: =3.14*((H7/2)^2) -> 2461.76 | L6: L (mm) | M6: 140 | N6: A (mm^2) | O6: =3.14*((M7/2)^2) -> 2374.625 | Q6: L (mm) | R6: 140 | S6: A (mm^2) | T6: =3.14*((R7/2)^2) -> 2374.625 | V6: L (mm) | W6: 140 | X6: A (mm^2) | Y6: =3.14*((W7/2)^2) -> 2550.465
B7: D (mm) | C7: 55 | D7: V (mm^3) | E7: =C7^2*C6 -> 417450 | G7: D (mm) | H7: 56 | I7: V (mm^3) | J7: =H7^2*H6 -> 442176 | L7: D (mm) | M7: 55 | N7: V (mm^3) | O7: =M7^2*M6 -> 423500 | Q7: D (mm) | R7: 55 | S7: V (mm^3) | T7: =R7^2*R6 -> 423500 | V7: D (mm) | W7: 57 | X7: V (mm^3) | Y7: =W7^2*W6 -> 454860
B8: L/D (mm) | C8: =C6/C7 -> 2.5090909 | G8: L/D (mm) | H8: =H6/H7 -> 2.5178571 | L8: L/D (mm) | M8: =M6/M7 -> 2.5454545 | Q8: L/D (mm) | R8: =R6/R7 -> 2.5454545 | V8: L/D (mm) | W8: =W6/W7 -> 2.4561404
AC9: rangkuman
B10: Sampel A | E10: Tc (Mpa) | G10: Sampel B | J10: Tc (Mpa) | L10: Sampel C | O10: Tc (Mpa) | Q10: Sampel D | T10: Tc (Mpa) | V10: Sampel E | Y10: Tc (Mpa) | AA10: No | AB10: Sampel | AC10: D (mm) | AD10: L (mm) | AE10: F (kN) | AF10: UCS (Mpa) | AG10: Classification
B11: No. | C11: kN | D11: Kal. | G11: No. | H11: kN | I11: Kal. | L11: No. | M11: kN | N11: Kal. | Q11: No. | R11: kN | S11: Kal. | V11: No. | W11: kN | X11: Kal. | AA11: 1 | AB11: A | AC11: =C7 -> 55 | AD11: =C6 -> 138 | AE11: =C76 -> 65 | AF11: =E76 -> 7.8203927 | AG11: Weak
B12: 1 | C12: 1 | D12: =$N$4 -> 0.2857 | E12: =((C12/$E$6)*1000)*$N$4 -> 0.12031373 | G12: 1 | H12: 1 | I12: =$N$4 -> 0.2857 | J12: =((H12/$J$6)*1000)*$N$4 -> 0.11605518 | L12: 1 | M12: 1 | N12: =$N$4 -> 0.2857 | O12: =((M12/$O$6)*1000)*$N$4 -> 0.12031373 | Q12: 1 | R12: 1 | S12: =$N$4 -> 0.2857 | T12: =((R12/$T$6)*1000)*$N$4 -> 0.12031373 | V12: 1 | W12: 1 | X12: =$N$4 -> 0.2857 | Y12: =((W12/$Y$6)*1000)*$N$4 -> 0.11201879 | AA12: 2 | AB12: B | AC12: =H7 -> 56 | AD12: =H6 -> 141 | AE12: =H40 -> 29 | AF12: =J40 -> 3.3656002 | AG12: Very Weak
B13: 2 | C13: 2 | D13: =$N$4 -> 0.2857 | E13: =((C13/$E$6)*1000)*$N$4 -> 0.24062747 | G13: 2 | H13: 2 | I13: =$N$4 -> 0.2857 | J13: =((H13/$J$6)*1000)*$N$4 -> 0.23211036 | L13: 2 | M13: 2 | N13: =$N$4 -> 0.2857 | O13: =((M13/$O$6)*1000)*$N$4 -> 0.24062747 | Q13: 2 | R13: 2 | S13: =$N$4 -> 0.2857 | T13: =((R13/$T$6)*1000)*$N$4 -> 0.24062747 | V13: 2 | W13: 2 | X13: =$N$4 -> 0.2857 | Y13: =((W13/$Y$6)*1000)*$N$4 -> 0.22403758 | AA13: 3 | AB13: C | AC13: =M7 -> 55 | AD13: =M6 -> 140 | AE13: =M60 -> 49 | AF13: =O60 -> 5.895373 | AG13: Weak
B14: 3 | C14: 3 | D14: =$N$4 -> 0.2857 | E14: =((C14/$E$6)*1000)*$N$4 -> 0.3609412 | G14: 3 | H14: 3 | I14: =$N$4 -> 0.2857 | J14: =((H14/$J$6)*1000)*$N$4 -> 0.34816554 | L14: 3 | M14: 3 | N14: =$N$4 -> 0.2857 | O14: =((M14/$O$6)*1000)*$N$4 -> 0.3609412 | Q14: 3 | R14: 3 | S14: =$N$4 -> 0.2857 | T14: =((R14/$T$6)*1000)*$N$4 -> 0.3609412 | V14: 3 | W14: 3 | X14: =$N$4 -> 0.2857 | Y14: =((W14/$Y$6)*1000)*$N$4 -> 0.33605637 | AA14: 4 | AB14: D | AC14: =R7 -> 55 | AD14: =R6 -> 140 | AE14: =R46 -> 35 | AF14: =T46 -> 4.2109807 | AG14: Very Weak
B15: 4 | C15: 4 | D15: =$N$4 -> 0.2857 | E15: =((C15/$E$6)*1000)*$N$4 -> 0.48125493 | G15: 4 | H15: 4 | I15: =$N$4 -> 0.2857 | J15: =((H15/$J$6)*1000)*$N$4 -> 0.46422072 | L15: 4 | M15: 4 | N15: =$N$4 -> 0.2857 | O15: =((M15/$O$6)*1000)*$N$4 -> 0.48125493 | Q15: 4 | R15: 4 | S15: =$N$4 -> 0.2857 | T15: =((R15/$T$6)*1000)*$N$4 -> 0.48125493 | V15: 4 | W15: 4 | X15: =$N$4 -> 0.2857 | Y15: =((W15/$Y$6)*1000)*$N$4 -> 0.44807515 | AA15: 5 | AB15: E | AC15: =W7 -> 57 | AD15: =W6 -> 140 | AE15: =W46 -> 35 | AF15: =Y46 -> 3.9206576 | AG15: Very Weak
B16: 5 | C16: 5 | D16: =$N$4 -> 0.2857 | E16: =((C16/$E$6)*1000)*$N$4 -> 0.60156867 | G16: 5 | H16: 5 | I16: =$N$4 -> 0.2857 | J16: =((H16/$J$6)*1000)*$N$4 -> 0.5802759 | L16: 5 | M16: 5 | N16: =$N$4 -> 0.2857 | O16: =((M16/$O$6)*1000)*$N$4 -> 0.60156867 | Q16: 5 | R16: 5 | S16: =$N$4 -> 0.2857 | T16: =((R16/$T$6)*1000)*$N$4 -> 0.60156867 | V16: 5 | W16: 5 | X16: =$N$4 -> 0.2857 | Y16: =((W16/$Y$6)*1000)*$N$4 -> 0.56009394 | AA16: 6 | AB16: F | AC16: =C85 -> 55 | AD16: =C84 -> 135 | AE16: =C130 -> 41 | AF16: =E130 -> 4.9328631 | AG16: Weak
B17: 6 | C17: 6 | D17: =$N$4 -> 0.2857 | E17: =((C17/$E$6)*1000)*$N$4 -> 0.7218824 | G17: 6 | H17: 6 | I17: =$N$4 -> 0.2857 | J17: =((H17/$J$6)*1000)*$N$4 -> 0.69633108 | L17: 6 | M17: 6 | N17: =$N$4 -> 0.2857 | O17: =((M17/$O$6)*1000)*$N$4 -> 0.7218824 | Q17: 6 | R17: 6 | S17: =$N$4 -> 0.2857 | T17: =((R17/$T$6)*1000)*$N$4 -> 0.7218824 | V17: 6 | W17: 6 | X17: =$N$4 -> 0.2857 | Y17: =((W17/$Y$6)*1000)*$N$4 -> 0.67211273 | AA17: 7 | AB17: G | AC17: =H85 -> 54 | AD17: =H84 -> 130 | AE17: =H122 -> 36 | AF17: =J122 -> 4.4931981 | AG17: Very Weak
B18: 7 | C18: 7 | D18: =$N$4 -> 0.2857 | E18: =((C18/$E$6)*1000)*$N$4 -> 0.84219614 | G18: 7 | H18: 7 | I18: =$N$4 -> 0.2857 | J18: =((H18/$J$6)*1000)*$N$4 -> 0.81238626 | L18: 7 | M18: 7 | N18: =$N$4 -> 0.2857 | O18: =((M18/$O$6)*1000)*$N$4 -> 0.84219614 | Q18: 7 | R18: 7 | S18: =$N$4 -> 0.2857 | T18: =((R18/$T$6)*1000)*$N$4 -> 0.84219614 | V18: 7 | W18: 7 | X18: =$N$4 -> 0.2857 | Y18: =((W18/$Y$6)*1000)*$N$4 -> 0.78413152 | AA18: 8 | AB18: H | AC18: =M85 -> 54 | AD18: =M84 -> 135 | AE18: =M60 -> 49 | AF18: =O151 -> 7.7382856 | AG18: Weak
B19: 8 | C19: 8 | D19: =$N$4 -> 0.2857 | E19: =((C19/$E$6)*1000)*$N$4 -> 0.96250987 | G19: 8 | H19: 8 | I19: =$N$4 -> 0.2857 | J19: =((H19/$J$6)*1000)*$N$4 -> 0.92844144 | L19: 8 | M19: 8 | N19: =$N$4 -> 0.2857 | O19: =((M19/$O$6)*1000)*$N$4 -> 0.96250987 | Q19: 8 | R19: 8 | S19: =$N$4 -> 0.2857 | T19: =((R19/$T$6)*1000)*$N$4 -> 0.96250987 | V19: 8 | W19: 8 | X19: =$N$4 -> 0.2857 | Y19: =((W19/$Y$6)*1000)*$N$4 -> 0.89615031 | AA19: 9 | AB19: I | AC19: =R85 -> 52 | AD19: =R84 -> 134 | AE19: =R46 -> 35 | AF19: =T127 -> 5.1146685 | AG19: Weak
B20: 9 | C20: 9 | D20: =$N$4 -> 0.2857 | E20: =((C20/$E$6)*1000)*$N$4 -> 1.0828236 | G20: 9 | H20: 9 | I20: =$N$4 -> 0.2857 | J20: =((H20/$J$6)*1000)*$N$4 -> 1.0444966 | L20: 9 | M20: 9 | N20: =$N$4 -> 0.2857 | O20: =((M20/$O$6)*1000)*$N$4 -> 1.0828236 | Q20: 9 | R20: 9 | S20: =$N$4 -> 0.2857 | T20: =((R20/$T$6)*1000)*$N$4 -> 1.0828236 | V20: 9 | W20: 9 | X20: =$N$4 -> 0.2857 | Y20: =((W20/$Y$6)*1000)*$N$4 -> 1.0081691 | AA20: 10 | AB20: J | AC20: =W85 -> 55 | AD20: =W84 -> 130 | AE20: =W46 -> 35 | AF20: =Y126 -> 4.1446952 | AG20: Very Weak
B21: 10 | C21: 10 | D21: =$N$4 -> 0.2857 | E21: =((C21/$E$6)*1000)*$N$4 -> 1.2031373 | G21: 10 | H21: 10 | I21: =$N$4 -> 0.2857 | J21: =((H21/$J$6)*1000)*$N$4 -> 1.1605518 | L21: 10 | M21: 10 | N21: =$N$4 -> 0.2857 | O21: =((M21/$O$6)*1000)*$N$4 -> 1.2031373 | Q21: 10 | R21: 10 | S21: =$N$4 -> 0.2857 | T21: =((R21/$T$6)*1000)*$N$4 -> 1.2031373 | V21: 10 | W21: 10 | X21: =$N$4 -> 0.2857 | Y21: =((W21/$Y$6)*1000)*$N$4 -> 1.1201879 | AE21: average | AF21: =AVERAGE(AF11:AF20) -> 5.1636715
B22: 11 | C22: 11 | D22: =$N$4 -> 0.2857 | E22: =((C22/$E$6)*1000)*$N$4 -> 1.3234511 | G22: 11 | H22: 11 | I22: =$N$4 -> 0.2857 | J22: =((H22/$J$6)*1000)*$N$4 -> 1.276607 | L22: 11 | M22: 11 | N22: =$N$4 -> 0.2857 | O22: =((M22/$O$6)*1000)*$N$4 -> 1.3234511 | Q22: 11 | R22: 11 | S22: =$N$4 -> 0.2857 | T22: =((R22/$T$6)*1000)*$N$4 -> 1.3234511 | V22: 11 | W22: 11 | X22: =$N$4 -> 0.2857 | Y22: =((W22/$Y$6)*1000)*$N$4 -> 1.2322067 | AC22: plot skripsi
B23: 12 | C23: 12 | D23: =$N$4 -> 0.2857 | E23: =((C23/$E$6)*1000)*$N$4 -> 1.4437648 | G23: 12 | H23: 12 | I23: =$N$4 -> 0.2857 | J23: =((H23/$J$6)*1000)*$N$4 -> 1.3926622 | L23: 12 | M23: 12 | N23: =$N$4 -> 0.2857 | O23: =((M23/$O$6)*1000)*$N$4 -> 1.4437648 | Q23: 12 | R23: 12 | S23: =$N$4 -> 0.2857 | T23: =((R23/$T$6)*1000)*$N$4 -> 1.4437648 | V23: 12 | W23: 12 | X23: =$N$4 -> 0.2857 | Y23: =((W23/$Y$6)*1000)*$N$4 -> 1.3442255 | AA23: No | AB23: Sampel | AC23: D (mm) | AD23: L (mm) | AE23: F (kN) | AF23: UCS (Mpa) | AG23: Classification
B24: 13 | C24: 13 | D24: =$N$4 -> 0.2857 | E24: =((C24/$E$6)*1000)*$N$4 -> 1.5640785 | G24: 13 | H24: 13 | I24: =$N$4 -> 0.2857 | J24: =((H24/$J$6)*1000)*$N$4 -> 1.5087173 | L24: 13 | M24: 13 | N24: =$N$4 -> 0.2857 | O24: =((M24/$O$6)*1000)*$N$4 -> 1.5640785 | Q24: 13 | R24: 13 | S24: =$N$4 -> 0.2857 | T24: =((R24/$T$6)*1000)*$N$4 -> 1.5640785 | V24: 13 | W24: 13 | X24: =$N$4 -> 0.2857 | Y24: =((W24/$Y$6)*1000)*$N$4 -> 1.4562443 | AA24: 1 | AB24: A | AC24: 55 | AD24: 138 | AE24: 65 | AF24: 7,82 | AG24: Weak
B25: 14 | C25: 14 | D25: =$N$4 -> 0.2857 | E25: =((C25/$E$6)*1000)*$N$4 -> 1.6843923 | G25: 14 | H25: 14 | I25: =$N$4 -> 0.2857 | J25: =((H25/$J$6)*1000)*$N$4 -> 1.6247725 | L25: 14 | M25: 14 | N25: =$N$4 -> 0.2857 | O25: =((M25/$O$6)*1000)*$N$4 -> 1.6843923 | Q25: 14 | R25: 14 | S25: =$N$4 -> 0.2857 | T25: =((R25/$T$6)*1000)*$N$4 -> 1.6843923 | V25: 14 | W25: 14 | X25: =$N$4 -> 0.2857 | Y25: =((W25/$Y$6)*1000)*$N$4 -> 1.568263 | AA25: 2 | AB25: B | AC25: 56 | AD25: 141 | AE25: 29 | AF25: 3,37 | AG25: Very Weak
B26: 15 | C26: 15 | D26: =$N$4 -> 0.2857 | E26: =((C26/$E$6)*1000)*$N$4 -> 1.804706 | G26: 15 | H26: 15 | I26: =$N$4 -> 0.2857 | J26: =((H26/$J$6)*1000)*$N$4 -> 1.7408277 | L26: 15 | M26: 15 | N26: =$N$4 -> 0.2857 | O26: =((M26/$O$6)*1000)*$N$4 -> 1.804706 | Q26: 15 | R26: 15 | S26: =$N$4 -> 0.2857 | T26: =((R26/$T$6)*1000)*$N$4 -> 1.804706 | V26: 15 | W26: 15 | X26: =$N$4 -> 0.2857 | Y26: =((W26/$Y$6)*1000)*$N$4 -> 1.6802818 | AA26: 3 | AB26: C | AC26: 55 | AD26: 140 | AE26: 49 | AF26: 5,90 | AG26: Weak
B27: 16 | C27: 16 | D27: =$N$4 -> 0.2857 | E27: =((C27/$E$6)*1000)*$N$4 -> 1.9250197 | G27: 16 | H27: 16 | I27: =$N$4 -> 0.2857 | J27: =((H27/$J$6)*1000)*$N$4 -> 1.8568829 | L27: 16 | M27: 16 | N27: =$N$4 -> 0.2857 | O27: =((M27/$O$6)*1000)*$N$4 -> 1.9250197 | Q27: 16 | R27: 16 | S27: =$N$4 -> 0.2857 | T27: =((R27/$T$6)*1000)*$N$4 -> 1.9250197 | V27: 16 | W27: 16 | X27: =$N$4 -> 0.2857 | Y27: =((W27/$Y$6)*1000)*$N$4 -> 1.7923006 | AA27: 4 | AB27: D | AC27: 55 | AD27: 140 | AE27: 35 | AF27: 4,21 | AG27: Very Weak
B28: 17 | C28: 17 | D28: =$N$4 -> 0.2857 | E28: =((C28/$E$6)*1000)*$N$4 -> 2.0453335 | G28: 17 | H28: 17 | I28: =$N$4 -> 0.2857 | J28: =((H28/$J$6)*1000)*$N$4 -> 1.9729381 | L28: 17 | M28: 17 | N28: =$N$4 -> 0.2857 | O28: =((M28/$O$6)*1000)*$N$4 -> 2.0453335 | Q28: 17 | R28: 17 | S28: =$N$4 -> 0.2857 | T28: =((R28/$T$6)*1000)*$N$4 -> 2.0453335 | V28: 17 | W28: 17 | X28: =$N$4 -> 0.2857 | Y28: =((W28/$Y$6)*1000)*$N$4 -> 1.9043194 | AA28: 5 | AB28: E | AC28: 57 | AD28: 140 | AE28: 35 | AF28: 3,92 | AG28: Very Weak
B29: 18 | C29: 18 | D29: =$N$4 -> 0.2857 | E29: =((C29/$E$6)*1000)*$N$4 -> 2.1656472 | G29: 18 | H29: 18 | I29: =$N$4 -> 0.2857 | J29: =((H29/$J$6)*1000)*$N$4 -> 2.0889932 | L29: 18 | M29: 18 | N29: =$N$4 -> 0.2857 | O29: =((M29/$O$6)*1000)*$N$4 -> 2.1656472 | Q29: 18 | R29: 18 | S29: =$N$4 -> 0.2857 | T29: =((R29/$T$6)*1000)*$N$4 -> 2.1656472 | V29: 18 | W29: 18 | X29: =$N$4 -> 0.2857 | Y29: =((W29/$Y$6)*1000)*$N$4 -> 2.0163382 | AA29: 6 | AB29: F | AC29: 55 | AD29: 135 | AE29: 41 | AF29: 4,93 | AG29: Weak
B30: 19 | C30: 19 | D30: =$N$4 -> 0.2857 | E30: =((C30/$E$6)*1000)*$N$4 -> 2.2859609 | G30: 19 | H30: 19 | I30: =$N$4 -> 0.2857 | J30: =((H30/$J$6)*1000)*$N$4 -> 2.2050484 | L30: 19 | M30: 19 | N30: =$N$4 -> 0.2857 | O30: =((M30/$O$6)*1000)*$N$4 -> 2.2859609 | Q30: 19 | R30: 19 | S30: =$N$4 -> 0.2857 | T30: =((R30/$T$6)*1000)*$N$4 -> 2.2859609 | V30: 19 | W30: 19 | X30: =$N$4 -> 0.2857 | Y30: =((W30/$Y$6)*1000)*$N$4 -> 2.128357 | AA30: 7 | AB30: G | AC30: 54 | AD30: 130 | AE30: 36 | AF30: 4,49 | AG30: Very Weak
B31: 20 | C31: 20 | D31: =$N$4 -> 0.2857 | E31: =((C31/$E$6)*1000)*$N$4 -> 2.4062747 | G31: 20 | H31: 20 | I31: =$N$4 -> 0.2857 | J31: =((H31/$J$6)*1000)*$N$4 -> 2.3211036 | L31: 20 | M31: 20 | N31: =$N$4 -> 0.2857 | O31: =((M31/$O$6)*1000)*$N$4 -> 2.4062747 | Q31: 20 | R31: 20 | S31: =$N$4 -> 0.2857 | T31: =((R31/$T$6)*1000)*$N$4 -> 2.4062747 | V31: 20 | W31: 20 | X31: =$N$4 -> 0.2857 | Y31: =((W31/$Y$6)*1000)*$N$4 -> 2.2403758 | AA31: 8 | AB31: H | AC31: 54 | AD31: 135 | AE31: 49 | AF31: 7,74 | AG31: Weak
B32: 21 | C32: 21 | D32: =$N$4 -> 0.2857 | E32: =((C32/$E$6)*1000)*$N$4 -> 2.5265884 | G32: 21 | H32: 21 | I32: =$N$4 -> 0.2857 | J32: =((H32/$J$6)*1000)*$N$4 -> 2.4371588 | L32: 21 | M32: 21 | N32: =$N$4 -> 0.2857 | O32: =((M32/$O$6)*1000)*$N$4 -> 2.5265884 | Q32: 21 | R32: 21 | S32: =$N$4 -> 0.2857 | T32: =((R32/$T$6)*1000)*$N$4 -> 2.5265884 | V32: 21 | W32: 21 | X32: =$N$4 -> 0.2857 | Y32: =((W32/$Y$6)*1000)*$N$4 -> 2.3523946 | AA32: 9 | AB32: I | AC32: 52 | AD32: 134 | AE32: 35 | AF32: 5,11 | AG32: Weak
B33: 22 | C33: 22 | D33: =$N$4 -> 0.2857 | E33: =((C33/$E$6)*1000)*$N$4 -> 2.6469021 | G33: 22 | H33: 22 | I33: =$N$4 -> 0.2857 | J33: =((H33/$J$6)*1000)*$N$4 -> 2.553214 | L33: 22 | M33: 22 | N33: =$N$4 -> 0.2857 | O33: =((M33/$O$6)*1000)*$N$4 -> 2.6469021 | Q33: 22 | R33: 22 | S33: =$N$4 -> 0.2857 | T33: =((R33/$T$6)*1000)*$N$4 -> 2.6469021 | V33: 22 | W33: 22 | X33: =$N$4 -> 0.2857 | Y33: =((W33/$Y$6)*1000)*$N$4 -> 2.4644134 | AA33: 10 | AB33: J | AC33: 55 | AD33: 130 | AE33: 35 | AF33: 4,14 | AG33: Very Weak
B34: 23 | C34: 23 | D34: =$N$4 -> 0.2857 | E34: =((C34/$E$6)*1000)*$N$4 -> 2.7672159 | G34: 23 | H34: 23 | I34: =$N$4 -> 0.2857 | J34: =((H34/$J$6)*1000)*$N$4 -> 2.6692691 | L34: 23 | M34: 23 | N34: =$N$4 -> 0.2857 | O34: =((M34/$O$6)*1000)*$N$4 -> 2.7672159 | Q34: 23 | R34: 23 | S34: =$N$4 -> 0.2857 | T34: =((R34/$T$6)*1000)*$N$4 -> 2.7672159 | V34: 23 | W34: 23 | X34: =$N$4 -> 0.2857 | Y34: =((W34/$Y$6)*1000)*$N$4 -> 2.5764321
B35: 24 | C35: 24 | D35: =$N$4 -> 0.2857 | E35: =((C35/$E$6)*1000)*$N$4 -> 2.8875296 | G35: 24 | H35: 24 | I35: =$N$4 -> 0.2857 | J35: =((H35/$J$6)*1000)*$N$4 -> 2.7853243 | L35: 24 | M35: 24 | N35: =$N$4 -> 0.2857 | O35: =((M35/$O$6)*1000)*$N$4 -> 2.8875296 | Q35: 24 | R35: 24 | S35: =$N$4 -> 0.2857 | T35: =((R35/$T$6)*1000)*$N$4 -> 2.8875296 | V35: 24 | W35: 24 | X35: =$N$4 -> 0.2857 | Y35: =((W35/$Y$6)*1000)*$N$4 -> 2.6884509
B36: 25 | C36: 25 | D36: =$N$4 -> 0.2857 | E36: =((C36/$E$6)*1000)*$N$4 -> 3.0078433 | G36: 25 | H36: 25 | I36: =$N$4 -> 0.2857 | J36: =((H36/$J$6)*1000)*$N$4 -> 2.9013795 | L36: 25 | M36: 25 | N36: =$N$4 -> 0.2857 | O36: =((M36/$O$6)*1000)*$N$4 -> 3.0078433 | Q36: 25 | R36: 25 | S36: =$N$4 -> 0.2857 | T36: =((R36/$T$6)*1000)*$N$4 -> 3.0078433 | V36: 25 | W36: 25 | X36: =$N$4 -> 0.2857 | Y36: =((W36/$Y$6)*1000)*$N$4 -> 2.8004697
B37: 26 | C37: 26 | D37: =$N$4 -> 0.2857 | E37: =((C37/$E$6)*1000)*$N$4 -> 3.1281571 | G37: 26 | H37: 26 | I37: =$N$4 -> 0.2857 | J37: =((H37/$J$6)*1000)*$N$4 -> 3.0174347 | L37: 26 | M37: 26 | N37: =$N$4 -> 0.2857 | O37: =((M37/$O$6)*1000)*$N$4 -> 3.1281571 | Q37: 26 | R37: 26 | S37: =$N$4 -> 0.2857 | T37: =((R37/$T$6)*1000)*$N$4 -> 3.1281571 | V37: 26 | W37: 26 | X37: =$N$4 -> 0.2857 | Y37: =((W37/$Y$6)*1000)*$N$4 -> 2.9124885
B38: 27 | C38: 27 | D38: =$N$4 -> 0.2857 | E38: =((C38/$E$6)*1000)*$N$4 -> 3.2484708 | G38: 27 | H38: 27 | I38: =$N$4 -> 0.2857 | J38: =((H38/$J$6)*1000)*$N$4 -> 3.1334899 | L38: 27 | M38: 27 | N38: =$N$4 -> 0.2857 | O38: =((M38/$O$6)*1000)*$N$4 -> 3.2484708 | Q38: 27 | R38: 27 | S38: =$N$4 -> 0.2857 | T38: =((R38/$T$6)*1000)*$N$4 -> 3.2484708 | V38: 27 | W38: 27 | X38: =$N$4 -> 0.2857 | Y38: =((W38/$Y$6)*1000)*$N$4 -> 3.0245073
B39: 28 | C39: 28 | D39: =$N$4 -> 0.2857 | E39: =((C39/$E$6)*1000)*$N$4 -> 3.3687845 | G39: 28 | H39: 28 | I39: =$N$4 -> 0.2857 | J39: =((H39/$J$6)*1000)*$N$4 -> 3.249545 | L39: 28 | M39: 28 | N39: =$N$4 -> 0.2857 | O39: =((M39/$O$6)*1000)*$N$4 -> 3.3687845 | Q39: 28 | R39: 28 | S39: =$N$4 -> 0.2857 | T39: =((R39/$T$6)*1000)*$N$4 -> 3.3687845 | V39: 28 | W39: 28 | X39: =$N$4 -> 0.2857 | Y39: =((W39/$Y$6)*1000)*$N$4 -> 3.1365261
B40: 29 | C40: 29 | D40: =$N$4 -> 0.2857 | E40: =((C40/$E$6)*1000)*$N$4 -> 3.4890983 | G40: 29 | H40: 29 | I40: =$N$4 -> 0.2857 | J40: =((H40/$J$6)*1000)*$N$4 -> 3.3656002 | L40: 29 | M40: 29 | N40: =$N$4 -> 0.2857 | O40: =((M40/$O$6)*1000)*$N$4 -> 3.4890983 | Q40: 29 | R40: 29 | S40: =$N$4 -> 0.2857 | T40: =((R40/$T$6)*1000)*$N$4 -> 3.4890983 | V40: 29 | W40: 29 | X40: =$N$4 -> 0.2857 | Y40: =((W40/$Y$6)*1000)*$N$4 -> 3.2485449
B41: 30 | C41: 30 | D41: =$N$4 -> 0.2857 | E41: =((C41/$E$6)*1000)*$N$4 -> 3.609412 | G41: 30 | H41: 22 | I41: =$N$4 -> 0.2857 | J41: =((H41/$J$6)*1000)*$N$4 -> 2.553214 | L41: 30 | M41: 30 | N41: =$N$4 -> 0.2857 | O41: =((M41/$O$6)*1000)*$N$4 -> 3.609412 | Q41: 30 | R41: 30 | S41: =$N$4 -> 0.2857 | T41: =((R41/$T$6)*1000)*$N$4 -> 3.609412 | V41: 30 | W41: 30 | X41: =$N$4 -> 0.2857 | Y41: =((W41/$Y$6)*1000)*$N$4 -> 3.3605637
...

Sheet PLI PB2
A2: Formasi | B2: Kode | C2: Panjang Sampel | D2: Jarak Konus (Diameter) | E2: Diameter dalam cm | F2: Tekanan | G2: Area | H2: Diameter ekuivalen^2 | I2: Diameter ekuivalen | J2: Indeks PL | K2: Faktor Koreksi 1 | L2: Faktor Koreksi 2 | M2: Indeks PL Terkoreksi 1 | N2: Indeks PL Terkoreksi 2 | O2: Indeks PL digunakan | P2: Is(50) terhitung
C3: W (mm) | D3: D (mm) | E3: D (cm) | F3: P (kN) | G3: A (mm2) | H3: De2 (mm2) | I3: De (mm) | J3: Is (Mpa) | K3: F (-) | L3: F (-) | M3: Is(50) - (Mpa) | N3: Is(50) - (Mpa) | O3: Is(50) - (Mpa) | P3: Is(50) - (Mpa)
A4: Lokasi 2 | B4: PL A | C4: 56 | D4: 49 | E4: =D4/10 -> 4.9 | F4: 2.2 | G4: =D4*C4 -> 2744 | H4: =SQRT(I4) -> 59.123104 | I4: =4*G4/3.14 -> 3495.5414 | J4: =(F4/I4)*1000 -> 0.62937318 | K4: =(H4/50)^0.45 -> 1.0783364 | L4: =SQRT(H4/50) -> 1.0874107 | M4: =(K4*F4/I4)*1000 -> 0.67867598 | N4: =(L4*F4/I4)*1000 -> 0.68438714 | O4: =N4 -> 0.68438714 | P4: =O4 -> 0.68438714
B5: PL B | C5: 57 | D5: 51 | E5: =D5/10 -> 5.1 | F5: 1.3 | G5: =D5*C5 -> 2907 | H5: =SQRT(I5) -> 60.853798 | I5: =4*G5/3.14 -> 3703.1847 | J5: =(F5/I5)*1000 -> 0.35104919 | K5: =(H5/50)^0.45 -> 1.0924283 | L5: =SQRT(H5/50) -> 1.1032117 | M5: =(K5*F5/I5)*1000 -> 0.38349608 | N5: =(L5*F5/I5)*1000 -> 0.38728156 | O5: =N5 -> 0.38728156 | P5: =O5 -> 0.38728156
B6: PL C | C6: 56 | D6: 51 | E6: =D6/10 -> 5.1 | F6: 2.1 | G6: =D6*C6 -> 2856 | H6: =SQRT(I6) -> 60.317631 | I6: =4*G6/3.14 -> 3638.2166 | J6: =(F6/I6)*1000 -> 0.57720588 | K6: =(H6/50)^0.45 -> 1.0880865 | L6: =SQRT(H6/50) -> 1.0983408 | M6: =(K6*F6/I6)*1000 -> 0.62804993 | N6: =(L6*F6/I6)*1000 -> 0.6339688 | O6: =N6 -> 0.6339688 | P6: =O6 -> 0.6339688
B7: PL D | C7: 57 | D7: 51 | E7: =D7/10 -> 5.1 | F7: 1.4 | G7: =D7*C7 -> 2907 | H7: =SQRT(I7) -> 60.853798 | I7: =4*G7/3.14 -> 3703.1847 | J7: =(F7/I7)*1000 -> 0.37805298 | K7: =(H7/50)^0.45 -> 1.0924283 | L7: =SQRT(H7/50) -> 1.1032117 | M7: =(K7*F7/I7)*1000 -> 0.41299578 | N7: =(L7*F7/I7)*1000 -> 0.41707245 | O7: =N7 -> 0.41707245 | P7: =O7 -> 0.41707245
B8: PL E | C8: 59 | D8: 49 | E8: =D8/10 -> 4.9 | F8: 1.3 | G8: =D8*C8 -> 2891 | H8: =SQRT(I8) -> 60.686098 | I8: =4*G8/3.14 -> 3682.8025 | J8: =(F8/I8)*1000 -> 0.35299204 | K8: =(H8/50)^0.45 -> 1.0910726 | L8: =SQRT(H8/50) -> 1.1016905 | M8: =(K8*F8/I8)*1000 -> 0.38513994 | N8: =(L8*F8/I8)*1000 -> 0.38888798 | O8: =N8 -> 0.38888798 | P8: =O8 -> 0.38888798
B9: PL F | C9: 57 | D9: 50 | E9: =D9/10 -> 5 | F9: 1.9 | G9: =D9*C9 -> 2850 | H9: =SQRT(I9) -> 60.254238 | I9: =4*G9/3.14 -> 3630.5732 | J9: =(F9/I9)*1000 -> 0.52333333 | K9: =(H9/50)^0.45 -> 1.0875718 | L9: =SQRT(H9/50) -> 1.0977635 | M9: =(K9*F9/I9)*1000 -> 0.56916255 | N9: =(L9*F9/I9)*1000 -> 0.57449625 | O9: =N9 -> 0.57449625 | P9: =O9 -> 0.57449625
B10: PL G | C10: 58 | D10: 48 | E10: =D10/10 -> 4.8 | F10: 1.5 | G10: =D10*C10 -> 2784 | H10: =SQRT(I10) -> 59.552471 | I10: =4*G10/3.14 -> 3546.4968 | J10: =(F10/I10)*1000 -> 0.42295259 | K10: =(H10/50)^0.45 -> 1.0818534 | L10: =SQRT(H10/50) -> 1.0913521 | M10: =(K10*F10/I10)*1000 -> 0.45757268 | N10: =(L10*F10/I10)*1000 -> 0.4615902 | O10: =M10 -> 0.45757268 | P10: =O10 -> 0.45757268
B11: x | C11: 54 | D11: 51 | E11: =D11/10 -> 5.1 | F11: 2.4 | G11: =D11*C11 -> 2754 | H11: =SQRT(I11) -> 59.230737 | I11: =4*G11/3.14 -> 3508.2803 | J11: =(F11/I11)*1000 -> 0.68409586 | K11: =(H11/50)^0.45 -> 1.0792193 | L11: =SQRT(H11/50) -> 1.0884001 | M11: =(K11*F11/I11)*1000 -> 0.73828947 | N11: =(L11*F11/I11)*1000 -> 0.74456999 | O11: =N11 -> 0.74456999 | P11: =O12 -> 0.63929979
B12: PL H | C12: 57 | D12: 52 | E12: =D12/10 -> 5.2 | F12: 2.2 | G12: =D12*C12 -> 2964 | H12: =SQRT(I12) -> 61.447508 | I12: =4*G12/3.14 -> 3775.7962 | J12: =(F12/I12)*1000 -> 0.58265857 | K12: =(H12/50)^0.45 -> 1.0972117 | L12: =SQRT(H12/50) -> 1.1085802 | M12: =(K12*F12/I12)*1000 -> 0.63929979 | N12: =(L12*F12/I12)*1000 -> 0.64592378 | O12: =M12 -> 0.63929979 | P12: =O13 -> 0.52019541
B13: PL I | C13: 55 | D13: 51 | E13: =D13/10 -> 5.1 | F13: 1.7 | G13: =D13*C13 -> 2805 | H13: =SQRT(I13) -> 59.776654 | I13: =4*G13/3.14 -> 3573.2484 | J13: =(F13/I13)*1000 -> 0.47575758 | K13: =(H13/50)^0.45 -> 1.0836841 | L13: =SQRT(H13/50) -> 1.0934044 | M13: =(K13*F13/I13)*1000 -> 0.51557094 | N13: =(L13*F13/I13)*1000 -> 0.52019541 | O13: =N13 -> 0.52019541 | P13: =O14 -> 0.41707245
B14: PL J | C14: 57 | D14: 51 | E14: =D14/10 -> 5.1 | F14: 1.4 | G14: =D14*C14 -> 2907 | H14: =SQRT(I14) -> 60.853798 | I14: =4*G14/3.14 -> 3703.1847 | J14: =(F14/I14)*1000 -> 0.37805298 | K14: =(H14/50)^0.45 -> 1.0924283 | L14: =SQRT(H14/50) -> 1.1032117 | M14: =(K14*F14/I14)*1000 -> 0.41299578 | N14: =(L14*F14/I14)*1000 -> 0.41707245 | O14: =N14 -> 0.41707245
B15: x | C15: 55 | D15: 50 | E15: =D15/10 -> 5 | F15: 0.9 | G15: =D15*C15 -> 2750 | H15: =SQRT(I15) -> 59.187707 | I15: =4*G15/3.14 -> 3503.1847 | J15: =(F15/I15)*1000 -> 0.25690909 | K15: =(H15/50)^0.45 -> 1.0788664 | L15: =SQRT(H15/50) -> 1.0880047 | M15: =(K15*F15/I15)*1000 -> 0.27717059 | N15: =(L15*F15/I15)*1000 -> 0.27951829 | O15: =N15 -> 0.27951829
M16: jika nilai dekat 2% | N16: jika nilai jauh >2% | O16: yang dimerahkan tidak digunakan
D17: plot skripsi | P17: =AVERAGE(P4:P13) -> 0.51202345
A18: Formasi | B18: Kode | C18: Panjang Sampel | D18: Jarak Konus (Diameter) | E18: Tekanan | F18: Indeks Point Load
C19: W (mm) | D19: D (mm) | E19: P (kN) | F19: Is(50) - (Mpa)
A20: Lokasi 1 | B20: PL A | C20: =C4 -> 56 | D20: =D4 -> 49 | E20: =F4 -> 2.2 | F20: =O4 -> 0.68438714
B21: PL B | C21: =C5 -> 57 | D21: =D5 -> 51 | E21: =F5 -> 1.3 | F21: =O5 -> 0.38728156
B22: PL C | C22: =C6 -> 56 | D22: =D6 -> 51 | E22: =F6 -> 2.1 | F22: =O6 -> 0.6339688
B23: PL D | C23: =C7 -> 57 | D23: =D7 -> 51 | E23: =F7 -> 1.4 | F23: =O7 -> 0.41707245
B24: PL E | C24: =C8 -> 59 | D24: =D8 -> 49 | E24: =F8 -> 1.3 | F24: =O8 -> 0.38888798
B25: PL F | C25: =C9 -> 57 | D25: =D9 -> 50 | E25: =F9 -> 1.9 | F25: =O9 -> 0.57449625
B26: PL G | C26: =C10 -> 58 | D26: =D10 -> 48 | E26: =F10 -> 1.5 | F26: =O10 -> 0.45757268
B27: X | C27: =C11 -> 54 | D27: =D11 -> 51 | E27: =F11 -> 2.4 | F27: =O11 -> 0.74456999
B28: PL I | C28: =C12 -> 57 | D28: =D12 -> 52 | E28: =F12 -> 2.2 | F28: =O12 -> 0.63929979
B29: PL J | C29: =C13 -> 55 | D29: =D13 -> 51 | E29: =F13 -> 1.7 | F29: =O13 -> 0.52019541
B30: PL K | C30: =C14 -> 57 | D30: =D14 -> 51 | E30: =F14 -> 1.4 | F30: =O14 -> 0.41707245
B31: X | C31: =C15 -> 55 | D31: =D15 -> 50 | E31: =F15 -> 0.9 | F31: =O15 -> 0.27951829

Sheet Korelai PB2
B2: KORELASI DAERAH PERJUANGAN
B4: No. | C4: Y (UCS) | D4: X (PLI) | E4: Y^2 | F4: X^2 | G4: XY | I4: A. Mencari nilai r
B5: 1 | C5: ='UCS PB2'!AF11 -> 7.8203927 | D5: ='PLI PB2'!P4 -> 0.68438714 | E5: =C5^2 -> 61.158542 | F5: =D5^2 -> 0.46838576 | G5: =C5*D5 -> 5.3521762 | I5: a. Σx'^2 = | J5: Σx^2 - ((Σx)^2/n) | O5: c. Σx'y'= | P5: Σxy - ((Σy x Σx)/n)
B6: 2 | C6: ='UCS PB2'!AF12 -> 3.3656002 | D6: ='PLI PB2'!P5 -> 0.38728156 | E6: =C6^2 -> 11.327265 | F6: =D6^2 -> 0.14998701 | G6: =C6*D6 -> 1.3034349 | I6: = | J6: =F15 -> 2.7381481 | K6: - | L6: =D15^2 -> 26.216801 | M6: / | N6: =B14 -> 10 | O6: = | P6: =G15 -> 27.9003 | Q6: - | R6: =C15*D15 -> 264.39209 | S6: / | T6: =B14 -> 10
B7: 3 | C7: ='UCS PB2'!AF13 -> 5.895373 | D7: ='PLI PB2'!P6 -> 0.6339688 | E7: =C7^2 -> 34.755422 | F7: =D7^2 -> 0.40191644 | G7: =C7*D7 -> 3.7374825 | I7: = | J7: =J6 -> 2.7381481 | K7: - | L7: =L6/N6 -> 2.6216801 | O7: = | P7: =P6 -> 27.9003 | Q7: - | R7: =R6/T6 -> 26.439209
B8: 4 | C8: ='UCS PB2'!AF14 -> 4.2109807 | D8: ='PLI PB2'!P7 -> 0.41707245 | E8: =C8^2 -> 17.732358 | F8: =D8^2 -> 0.17394943 | G8: =C8*D8 -> 1.756284 | I8: = | J8: =J7-L7 -> 0.11646796 | O8: = | P8: =P7-R7 -> 1.4610911
B9: 5 | C9: ='UCS PB2'!AF15 -> 3.9206576 | D9: ='PLI PB2'!P8 -> 0.38888798 | E9: =C9^2 -> 15.371556 | F9: =D9^2 -> 0.15123386 | G9: =C9*D9 -> 1.5246966
B10: 6 | C10: ='UCS PB2'!AF16 -> 4.9328631 | D10: ='PLI PB2'!P9 -> 0.57449625 | E10: =C10^2 -> 24.333138 | F10: =D10^2 -> 0.33004594 | G10: =C10*D10 -> 2.8339113 | I10: b. Σy'^2 = | J10: Σy^2 - ((Σy)^2/n) | O10: rx'y' = | P10: Σx'y'/sqrt(Σx'^2 x Σy'^2)
B11: 7 | C11: ='UCS PB2'!AF17 -> 4.4931981 | D11: ='PLI PB2'!P10 -> 0.45757268 | E11: =C11^2 -> 20.188829 | F11: =D11^2 -> 0.20937276 | G11: =C11*D11 -> 2.0559647 | I11: = | J11: =E15 -> 288.08651 | K11: - | L11: =C15^2 -> 2666.3503 | M11: / | N11: =B14 -> 10 | O11: = | P11: =P8 -> 1.4610911 | Q11: / | R11: =SQRT(S11) -> 1.5806359 | S11: =J8*J13 -> 2.4984098
B12: 8 | C12: ='UCS PB2'!AF18 -> 7.7382856 | D12: ='PLI PB2'!P11 -> 0.63929979 | E12: =C12^2 -> 59.881064 | F12: =D12^2 -> 0.40870422 | G12: =C12*D12 -> 4.9470843 | I12: = | J12: =J11 -> 288.08651 | K12: - | L12: =L11/N11 -> 266.63503 | O12: = | P12: =P11/R11 -> 0.92436917
B13: 9 | C13: ='UCS PB2'!AF19 -> 5.1146685 | D13: ='PLI PB2'!P12 -> 0.52019541 | E13: =C13^2 -> 26.159834 | F13: =D13^2 -> 0.27060326 | G13: =C13*D13 -> 2.6606271 | I13: = | J13: =J12-L12 -> 21.451477 | P13: (nilai r -koefisien korelasi)
B14: 10 | C14: ='UCS PB2'!AF20 -> 4.1446952 | D14: ='PLI PB2'!P13 -> 0.41707245 | E14: =C14^2 -> 17.178498 | F14: =D14^2 -> 0.17394943 | G14: =C14*D14 -> 1.7286382 | I14: karna nilai r telah memenuhi standar dari tabel R 1% maka penelitian dapat dilanjutkan
B15: Jumlah | C15: =SUM(C5:C14) -> 51.636715 | D15: =SUM(D5:D14) -> 5.1202345 | E15: =SUM(E5:E14) -> 288.08651 | F15: =SUM(F5:F14) -> 2.7381481 | G15: =SUM(G5:G14) -> 27.9003 | I15: secara teoritis berarti variabel X (PLI) dapat digunakan untuk memprediksi variabel Y (UCS)
B16: Mean | C16: =AVERAGE(C5:C14) -> 5.1636715 | D16: =AVERAGE(D5:D14) -> 0.51202345 | E16: =AVERAGE(E5:E14) -> 28.808651 | F16: =AVERAGE(F5:F14) -> 0.27381481 | G16: =AVERAGE(G5:G14) -> 2.79003
B18: B. Menghitung prediktor (a) dan angka Konstan (K)
B19: nilai a dihitung menggunakan persamaan 1 dan 2 | H19: Nilai K dihitung dengan memasukan nilai a dalam salah satu persamaan
B20: 1. Σxy = a . Σx^2 + K Σx | H20: misalkan yang digunakan adalah persamaan 2:
B21: 2. Σy = a . Σx +nK | H21: =B27 -> 5.1636715 | I21: = | J21: a | K21: =E27 -> 0.51202345 | L21: . +K
H22: =H21 -> 5.1636715 | I22: = | J22: =B29 -> 12.545004 | K22: =K21 -> 0.51202345 | L22: . +K
B23: =G15 -> 27.9003 | C23: = | D23: a | E23: =F15 -> 2.7381481 | F23: . + K | G23: =D15 -> 5.1202345 | H23: =H22 -> 5.1636715 | I23: = | J23: =J22*K22 -> 6.4233364 | L23: . + K
B24: =C15 -> 51.636715 | C24: = | D24: a | E24: =D15 -> 5.1202345 | F24: . + K | G24: 10 | H24: =H23-J23 -> -1.259665 | I24: = | J24: K
B25: kemudian dilakuakan persamaan menjadi,
B26: =B23/G23 -> 5.4490277 | C26: = | D26: a | E26: =E23/G23 -> 0.53477006 | F26: . +K | H26: Jadi Persamaan korelasi keseluruhan yang diperoleh adalah
B27: =B24/G24 -> 5.1636715 | C27: = | D27: a | E27: =E24/G24 -> 0.51202345 | F27: . + K | H27: r | I27: = | J27: =P12 -> 0.92436917
B28: =B26-B27 -> 0.28535628 | C28: = | D28: a | E28: =E26-E27 -> 0.022746607 | H28: Y (UCS) | I28: = | J28: 11.139 a(PLI) | K28: + | L28: =H24 -> -1.259665
B29: =B28/E28 -> 12.545004 | C29: = | D29: a

Sheet DAERAH PENELITIAN
B2: KORELASI DAERAH PENELITIAN
B4: No. | C4: Y (UCS) | D4: X (PLI) | E4: Y^2 | F4: X^2 | G4: XY | I4: A. Mencari nilai r
B5: 1 | C5: ='Korelasi BPP1'!C5 -> 5.7750592 | D5: ='PLI BPP1'!P4 -> 0.51267441 | E5: =C5^2 -> 33.351309 | F5: =D5^2 -> 0.26283505 | G5: =C5*D5 -> 2.9607251 | I5: a. Σx'^2 = | J5: Σx^2 - ((Σx)^2/n) | O5: c. Σx'y'= | P5: Σxy - ((Σy x Σx)/n)
B6: 2 | C6: ='Korelasi BPP1'!C6 -> 5.9909308 | D6: ='PLI BPP1'!P5 -> 0.47898741 | E6: =C6^2 -> 35.891252 | F6: =D6^2 -> 0.22942893 | G6: =C6*D6 -> 2.8695804 | I6: = | J6: =F25 -> 3.8966638 | K6: - | L6: =D25^2 -> 69.968756 | M6: / | N6: 20 | O6: = | P6: =G25 -> 43.255966 | Q6: - | R6: =C25*D25 -> 803.96026 | S6: / | T6: 20
B7: 3 | C7: ='Korelasi BPP1'!C7 -> 5.1172534 | D7: ='PLI BPP1'!P6 -> 0.38728156 | E7: =C7^2 -> 26.186282 | F7: =D7^2 -> 0.14998701 | G7: =C7*D7 -> 1.9818179 | I7: = | J7: =J6 -> 3.8966638 | K7: - | L7: =L6/N6 -> 3.4984378 | O7: = | P7: =P6 -> 43.255966 | Q7: - | R7: =R6/T6 -> 40.198013
B8: 4 | C8: ='Korelasi BPP1'!C8 -> 4.9328631 | D8: ='PLI BPP1'!P7 -> 0.36768843 | E8: =C8^2 -> 24.333138 | F8: =D8^2 -> 0.13519478 | G8: =C8*D8 -> 1.8137567 | I8: = | J8: =J7-L7 -> 0.39822602 | O8: = | P8: =P7-R7 -> 3.0579533
B9: 5 | C9: ='Korelasi BPP1'!C9 -> 4.3275748 | D9: ='PLI BPP1'!P8 -> 0.24189316 | E9: =C9^2 -> 18.727904 | F9: =D9^2 -> 0.058512299 | G9: =C9*D9 -> 1.0468107
B10: 6 | C10: ='Korelasi BPP1'!C10 -> 4.0906669 | D10: ='PLI BPP1'!P9 -> 0.268118 | E10: =C10^2 -> 16.733556 | F10: =D10^2 -> 0.071887264 | G10: =C10*D10 -> 1.0967815 | I10: b. Σy'^2 = | J10: Σy^2 - ((Σy)^2/n) | O10: rx'y' = | P10: Σx'y'/sqrt(Σx'^2 x Σy'^2)
B11: 7 | C11: ='Korelasi BPP1'!C11 -> 3.1334899 | D11: ='PLI BPP1'!P10 -> 0.24189316 | E11: =C11^2 -> 9.8187587 | F11: =D11^2 -> 0.058512299 | G11: =C11*D11 -> 0.75796975 | I11: = | J11: =E25 -> 495.05159 | K11: - | L11: =C25^2 -> 9237.7246 | M11: / | N11: 20 | O11: = | P11: =P8 -> 3.0579533 | Q11: / | R11: =SQRT(S11) -> 3.6341859 | S11: =J8*J13 -> 13.207307
B12: 8 | C12: ='Korelasi BPP1'!C12 -> 4.3687328 | D12: ='PLI BPP1'!P11 -> 0.31533259 | E12: =C12^2 -> 19.085826 | F12: =D12^2 -> 0.099434641 | G12: =C12*D12 -> 1.3776038 | I12: = | J12: =J11 -> 495.05159 | K12: - | L12: =L11/N11 -> 461.88623 | O12: = | P12: =P11/R11 -> 0.84144108
B13: 9 | C13: ='Korelasi BPP1'!C13 -> 3.1202764 | D13: ='PLI BPP1'!P12 -> 0.21643154 | E13: =C13^2 -> 9.7361251 | F13: =D13^2 -> 0.046842612 | G13: =C13*D13 -> 0.67532624 | I13: = | J13: =J12-L12 -> 33.165355 | P13: (nilai r -koefisien korelasi)
B14: 10 | C14: ='Korelasi BPP1'!C14 -> 3.6195207 | D14: ='PLI BPP1'!P13 -> 0.21419811 | E14: =C14^2 -> 13.10093 | F14: =D14^2 -> 0.04588083 | G14: =C14*D14 -> 0.77529448 | I14: karna nilai r telah memenuhi standar dari tabel R 1% maka penelitian dapat dilanjutkan
B15: 11 | C15: ='UCS PB2'!AF11 -> 7.8203927 | D15: ='PLI PB2'!P4 -> 0.68438714 | E15: =C15^2 -> 61.158542 | F15: =D15^2 -> 0.46838576 | G15: =C15*D15 -> 5.3521762 | I15: secara teoritis berarti variabel X (PLI) dapat digunakan untuk memprediksi variabel Y (UCS)
B16: 12 | C16: ='UCS PB2'!AF12 -> 3.3656002 | D16: ='PLI PB2'!P5 -> 0.38728156 | E16: =C16^2 -> 11.327265 | F16: =D16^2 -> 0.14998701 | G16: =C16*D16 -> 1.3034349
B17: 13 | C17: ='UCS PB2'!AF13 -> 5.895373 | D17: ='PLI PB2'!P6 -> 0.6339688 | E17: =C17^2 -> 34.755422 | F17: =D17^2 -> 0.40191644 | G17: =C17*D17 -> 3.7374825
B18: 14 | C18: ='UCS PB2'!AF14 -> 4.2109807 | D18: ='PLI PB2'!P7 -> 0.41707245 | E18: =C18^2 -> 17.732358 | F18: =D18^2 -> 0.17394943 | G18: =C18*D18 -> 1.756284
B19: 15 | C19: ='UCS PB2'!AF15 -> 3.9206576 | D19: ='PLI PB2'!P8 -> 0.38888798 | E19: =C19^2 -> 15.371556 | F19: =D19^2 -> 0.15123386 | G19: =C19*D19 -> 1.5246966 | I19: Jika Menggunakan Intercept =0
B20: 16 | C20: ='UCS PB2'!AF16 -> 4.9328631 | D20: ='PLI PB2'!P9 -> 0.57449625 | E20: =C20^2 -> 24.333138 | F20: =D20^2 -> 0.33004594 | G20: =C20*D20 -> 2.8339113 | I20: Memperoleh koefisien prediktor (a) dan angka konstan (K) dilakukan
B21: 17 | C21: ='UCS PB2'!AF17 -> 4.4931981 | D21: ='PLI PB2'!P10 -> 0.45757268 | E21: =C21^2 -> 20.188829 | F21: =D21^2 -> 0.20937276 | G21: =C21*D21 -> 2.0559647 | I21: menggunakan skor deviasi dan memanfaatkan persamaan sebagai berikut
B22: 18 | C22: ='UCS PB2'!AF18 -> 7.7382856 | D22: ='PLI PB2'!P11 -> 0.63929979 | E22: =C22^2 -> 59.881064 | F22: =D22^2 -> 0.40870422 | G22: =C22*D22 -> 4.9470843 | I22: a | J22: = | K22: Σxy / Σx^2
B23: 19 | C23: ='UCS PB2'!AF19 -> 5.1146685 | D23: ='PLI PB2'!P12 -> 0.52019541 | E23: =C23^2 -> 26.159834 | F23: =D23^2 -> 0.27060326 | G23: =C23*D23 -> 2.6606271 | K23: =G25/F25 -> 11.100769
