Workbook

Sheet Form Responses 1
A1: Timestamp | B1: Email Address | C1: Saya telah membaca keterangan diatas dan bersedia berpartisipasi dalam penelitian ini | D1: Jenis kelamin | E1: Asal Provinsi (Contoh : Jawa Timur) | F1: Status / Pekerjaan | G1: Usia (Contoh : 21) | H1: Total Pendapatan Perbulan | I1: Asal pendapatan | J1: Lama menjadi kpopers | K1: Total pengeluaran untuk pembelian barang yang berhubungan dengan idol atau selebriti korea | L1: No. Telp (Bagi yang ingin mengikuti undian) | M1: 1. Selebriti yang tampil dalam iklan produk menarik | N1: 2. Selebriti yang tampil dalam iklan produk adalah orang yang berkelas | O1: 3. Selebriti yang tampil dalam iklan produk tampan/cantik | P1: 4. Selebriti yang tampil dalam iklan produk adalah orang yang elegan | Q1: 5. Selebriti yang tampil dalam iklan produk seksi | R1: 6. Selebriti yang tampil dalam iklan adalah orang yang ahli dalam mewakili produk | S1: 7. Selebriti yang tampil dalam iklan adalah orang yang berpengalaman dalam mewakili produk | T1: 8. Selebriti yang tampil dalam iklan adalah orang yang memiliki pengetahuan dalam mewakili produk | U1: 8. Selebriti yang tampil dalam iklan adalah orang yang berkualitas untuk mewakili produk | V1: 10. Selebriti yang tampil dalam iklan adalah orang yang terampil dalam mewakili produk | W1: 11. Selebriti yang tampil dalam iklan adalah orang yang dapat diandalkan dalam kategori produk | X1: 12. Selebriti yang tampil dalam iklan adalah orang yang jujur dalam kategori produk | Y1: 13. Selebriti yang tampil dalam iklan adalah orang yang dapat diandalkan untuk mewakili produk | Z1: 14. Selebriti yang tampil dalam iklan adalah orang yang tulus dalam mewakili produk | AA1: 15. Selebriti yang tampil dalam iklan adalah orang yang dapat dipercaya untuk mewakili produk | AB1: 1. Saya biasanya berpikir dengan hati-hati sebelum membeli sesuatu | AC1: 2. Saya biasanya hanya membeli barang yang telah saya rencanakan untuk dibeli | AD1: 3. Saya biasanya membeli sesuatu secara spontan | AE1: 4. Kebanyakan pembelian yang saya lakukan telah direncanakan dengan baik | AF1: 5. Saya hanya membeli barang yang benar-benar saya butuhkan | AG1: 6. Saya bukan tipe orang yang melakukan pembelian secara spontan | AH1: 7. Saya suka membandingkan beberapa merek sebelum membeli barang | AI1: 8. Sebelum saya membeli sesuatu, saya selalu mempertimbangkan kembali apakah saya membutuhkan barang tersebut | AJ1: 9. Saya terbiasa untuk membeli barang secara langsung ditempat | AK1: 10. Saya sering membeli barang tanpa berpikir | AL1: 11. Saya merasa kesulitan untuk tidak membeli barang yang menarik | AM1: 12. Saya terkadang tidak bisa menahan diri untuk membeli sesuatu | AN1: 13. Saya terkadang merasa bersalah setelah membeli sesuatu | AO1: 14. Saya bukan tipe orang yang langsung menyukai sesuatu pada saat pertama kali saya melihatnya | AP1: 15. Saya bisa menjadi sangat bersemangat saat melihat sesuatu yang ingin saya beli | AQ1: 16. Saya selalu melihat sesuatu yang menarik setiap kali saya melewati toko | AR1: 17. Saya merasa kesulitan untuk melewatkan suatu penawaran | AS1: 18. Saat saya melihat sesuatu yang baru, saya ingin membelinya | AT1: 19. Saya sedikit sembrono saat membeli sesuatu | AU1: 20. Terkadang saya membeli barang karena saya menyukainya, bukan karena saya membutuhkannya | AV1: 1. Saya tidak menyadari dampak dari tindakan saya hingga sudah terlanjur terjadi | AW1: 2. Saya menunda untuk membuat keputusan | AX1: 3. Sulit bagi saya untuk merasa “cukup” (untuk mengonsumsi sesuatu ) | AY1: 4. Saya memiliki kesulitan untuk bertindak lebih lanjut setelah saya membuat keputusan. | AZ1: 5. Saya merasa tidak belajar dari kesalahan | BA1: 6. Saya biasanya hanya perlu membuat kesalahan satu kali untuk belajar dari kesalahan tersebut. | BB1: 7. Saya biasanya dapat menemukan beberapa kemungkinan jika saya ingin mengubah sesuatu. | BC1: 8. Saya seringkali tidak memperhatikan apa yang saya lakukan sampai seseorang mengingatkan saya. | BD1: 9. Saya biasanya berpikir sebelum bertindak | BE1: 10. Saya belajar dari kesalahan saya | BF1: 11. Saya cepat menyerah | BG1: 12. Saya biasanya melacak perkembangan saya dalam mencapai suatu tujuan | BH1: 13. Saya dapat mencapai tujuan yang sudah saya tetapkan untuk diri saya | BI1: 14. Saya memiliki standar tertentu dan berusaha hidup sesuai standar tersebut | BJ1: 15. Ketika menghadapi suatu masalah atau tantangan, saya segera mencari solusi yang memungkinkan | BK1: 16. Saya merasa kesulitan untuk menetapkan tujuan bagi diri saya | BL1: 17. Ketika saya mencoba mengubah sesuatu, saya memperhatikan apa yang saya lakukan. | BM1: 18. Saya kesulitan membuat rencana untuk membantu saya mencapai tujuan | BN1: 19. Saya menetapkan tujuan untuk diri saya sendiri dan melacak kemajuan saya. | BO1: 20. Jika saya membuat resolusi untuk mengubah sesuatu, saya memperhatikan apa yang saya lakukan | BP1: 21. Saya tahu saya ingin menjadi apa
A2: 45329.447 | B2: nursalmaa27@gmail.com | C2: Ya, Saya bersedia | D2: Perempuan | E2: Jakarta Timur | F2: Mahasiswa/i | G2: 20 | H2: Rp1.000.000 - Rp3.000.000 | I2: Uang saku | J2: < 1 tahun | K2: Rp500.000 - Rp1.000.000 | L2: 0895604681603 | M2: 4 | N2: 4 | O2: 5 | P2: 4 | Q2: 5 | R2: 5 | S2: 4 | T2: 4 | U2: 4 | V2: 5 | W2: 4 | X2: 4 | Y2: 4 | Z2: 5 | AA2: 4 | AB2: 2 | AC2: 2 | AD2: 6 | AE2: 3 | AF2: 2 | AG2: 2 | AH2: 2 | AI2: 2 | AJ2: 5 | AK2: 6 | AL2: 6 | AM2: 6 | AN2: 2 | AO2: 6 | AP2: 6 | AQ2: 6 | AR2: 6 | AS2: 6 | AT2: 6 | AU2: 6 | AV2: 4 | AW2: 4 | AX2: 4 | AY2: 4 | AZ2: 4 | BA2: 4 | BB2: 4 | BC2: 4 | BD2: 2 | BE2: 2 | BF2: 4 | BG2: 3 | BH2: 4 | BI2: 3 | BJ2: 4 | BK2: 4 | BL2: 3 | BM2: 4 | BN2: 4 | BO2: 3 | BP2: 4
A3: 45329.46 | B3: erikrmdhn10@gmail.com | C3: Ya, Saya bersedia | D3: Laki-laki | E3: Jawa Barat | F3: Karyawan Swasta | G3: 25 | H3: < Rp1.000.000 | I3: Uang saku, Gaji | J3: < 1 tahun | K3: < Rp200.000 | L3: 085157264557 | M3: 4 | N3: 5 | O3: 4 | P3: 5 | Q3: 3 | R3: 5 | S3: 4 | T3: 5 | U3: 4 | V3: 5 | W3: 4 | X3: 5 | Y3: 5 | Z3: 3 | AA3: 5 | AB3: 7 | AC3: 7 | AD3: 3 | AE3: 7 | AF3: 7 | AG3: 7 | AH3: 7 | AI3: 7 | AJ3: 4 | AK3: 1 | AL3: 3 | AM3: 1 | AN3: 6 | AO3: 7 | AP3: 5 | AQ3: 5 | AR3: 1 | AS3: 1 | AT3: 1 | AU3: 1 | AV3: 4 | AW3: 1 | AX3: 1 | AY3: 5 | AZ3: 1 | BA3: 5 | BB3: 4 | BC3: 2 | BD3: 5 | BE3: 5 | BF3: 1 | BG3: 4 | BH3: 5 | BI3: 4 | BJ3: 5 | BK3: 4 | BL3: 5 | BM3: 1 | BN3: 3 | BO3: 5 | BP3: 5
A4: 45329.462 | B4: debchoi91@gmail.com | C4: Ya, Saya bersedia | D4: Perempuan | E4: banten | F4: Karyawan Swasta | G4: 25 | H4: Rp3.000.000 - Rp5.000.000 | I4: Gaji | J4: > 7 tahun | K4: Rp500.000 - Rp1.000.000 | L4: 085782251151 | M4: 5 | N4: 5 | O4: 5 | P4: 5 | Q4: 5 | R4: 5 | S4: 5 | T4: 5 | U4: 5 | V4: 5 | W4: 5 | X4: 5 | Y4: 5 | Z4: 5 | AA4: 5 | AB4: 7 | AC4: 7 | AD4: 7 | AE4: 7 | AF4: 7 | AG4: 7 | AH4: 7 | AI4: 7 | AJ4: 7 | AK4: 7 | AL4: 7 | AM4: 7 | AN4: 6 | AO4: 2 | AP4: 7 | AQ4: 7 | AR4: 7 | AS4: 7 | AT4: 7 | AU4: 7 | AV4: 5 | AW4: 5 | AX4: 5 | AY4: 5 | AZ4: 5 | BA4: 2 | BB4: 2 | BC4: 5 | BD4: 5 | BE4: 2 | BF4: 2 | BG4: 5 | BH4: 5 | BI4: 4 | BJ4: 5 | BK4: 5 | BL4: 5 | BM4: 5 | BN4: 5 | BO4: 5 | BP4: 4
A5: 45329.471 | B5: anandawarleggan11@gmail.com | C5: Ya, Saya bersedia | D5: Laki-laki | E5: Anderson | F5: Mahasiswa/i | G5: 23 | H5: Rp3.000.000 - Rp5.000.000 | I5: Uang saku | J5: 1 - 3 tahun | K5: Rp200.000 - Rp500.000 | M5: 4 | N5: 4 | O5: 4 | P5: 4 | Q5: 4 | R5: 4 | S5: 5 | T5: 3 | U5: 5 | V5: 4 | W5: 5 | X5: 5 | Y5: 5 | Z5: 4 | AA5: 5 | AB5: 6 | AC5: 6 | AD5: 6 | AE5: 5 | AF5: 6 | AG5: 6 | AH5: 7 | AI5: 6 | AJ5: 6 | AK5: 5 | AL5: 6 | AM5: 6 | AN5: 6 | AO5: 5 | AP5: 6 | AQ5: 5 | AR5: 5 | AS5: 6 | AT5: 6 | AU5: 6 | AV5: 4 | AW5: 5 | AX5: 5 | AY5: 4 | AZ5: 5 | BA5: 5 | BB5: 4 | BC5: 5 | BD5: 5 | BE5: 5 | BF5: 5 | BG5: 4 | BH5: 5 | BI5: 4 | BJ5: 4 | BK5: 3 | BL5: 5 | BM5: 5 | BN5: 5 | BO5: 5 | BP5: 3
A6: 45329.473 | B6: biyarasyid3@gmail.com | C6: Ya, Saya bersedia | D6: Perempuan | E6: Jawa Tengah | F6: Mahasiswa/i | G6: 20 | H6: Rp1.000.000 - Rp3.000.000 | I6: Uang saku | J6: 5 - 7 tahun | K6: > Rp5.000.000 | L6: 085398613470 | M6: 5 | N6: 4 | O6: 5 | P6: 4 | Q6: 5 | R6: 4 | S6: 5 | T6: 4 | U6: 5 | V6: 4 | W6: 5 | X6: 4 | Y6: 5 | Z6: 4 | AA6: 5 | AB6: 3 | AC6: 2 | AD6: 1 | AE6: 2 | AF6: 3 | AG6: 1 | AH6: 2 | AI6: 1 | AJ6: 3 | AK6: 1 | AL6: 2 | AM6: 1 | AN6: 3 | AO6: 2 | AP6: 3 | AQ6: 1 | AR6: 3 | AS6: 1 | AT6: 2 | AU6: 1 | AV6: 5 | AW6: 4 | AX6: 5 | AY6: 4 | AZ6: 5 | BA6: 2 | BB6: 1 | BC6: 4 | BD6: 1 | BE6: 2 | BF6: 5 | BG6: 2 | BH6: 1 | BI6: 2 | BJ6: 2 | BK6: 4 | BL6: 2 | BM6: 4 | BN6: 2 | BO6: 2 | BP6: 1
A7: 45329.477 | B7: rifaisnaininurzain@gmail.com | C7: Ya, Saya bersedia | D7: Perempuan | E7: Jogja | F7: Mahasiswa/i | G7: 22 | H7: < Rp1.000.000 | I7: Uang saku | J7: 1 - 3 tahun | K7: < Rp200.000 | L7: 082225086029 | M7: 5 | N7: 4 | O7: 5 | P7: 4 | Q7: 5 | R7: 4 | S7: 5 | T7: 4 | U7: 5 | V7: 4 | W7: 5 | X7: 4 | Y7: 5 | Z7: 4 | AA7: 5 | AB7: 7 | AC7: 6 | AD7: 7 | AE7: 5 | AF7: 6 | AG7: 7 | AH7: 6 | AI7: 7 | AJ7: 5 | AK7: 6 | AL7: 7 | AM7: 6 | AN7: 7 | AO7: 5 | AP7: 6 | AQ7: 7 | AR7: 6 | AS7: 6 | AT7: 7 | AU7: 5 | AV7: 5 | AW7: 4 | AX7: 5 | AY7: 4 | AZ7: 5 | BA7: 4 | BB7: 5 | BC7: 3 | BD7: 5 | BE7: 4 | BF7: 3 | BG7: 4 | BH7: 5 | BI7: 4 | BJ7: 5 | BK7: 4 | BL7: 4 | BM7: 5 | BN7: 4 | BO7: 5 | BP7: 4
A8: 45329.502 | B8: destyaalfitri@gmail.com | C8: Ya, Saya bersedia | D8: Perempuan | E8: DKI Jakarta | F8: Mahasiswa/i | G8: 22 | H8: Rp1.000.000 - Rp3.000.000 | I8: Uang saku | J8: 1 - 3 tahun | K8: Rp200.000 - Rp500.000 | M8: 4 | N8: 5 | O8: 5 | P8: 4 | Q8: 4 | R8: 5 | S8: 5 | T8: 4 | U8: 4 | V8: 5 | W8: 5 | X8: 5 | Y8: 5 | Z8: 4 | AA8: 5 | AB8: 6 | AC8: 7 | AD8: 6 | AE8: 6 | AF8: 6 | AG8: 6 | AH8: 7 | AI8: 5 | AJ8: 7 | AK8: 6 | AL8: 5 | AM8: 7 | AN8: 5 | AO8: 6 | AP8: 6 | AQ8: 7 | AR8: 6 | AS8: 5 | AT8: 5 | AU8: 6 | AV8: 4 | AW8: 5 | AX8: 4 | AY8: 5 | AZ8: 5 | BA8: 4 | BB8: 5 | BC8: 4 | BD8: 5 | BE8: 4 | BF8: 5 | BG8: 4 | BH8: 5 | BI8: 4 | BJ8: 4 | BK8: 5 | BL8: 5 | BM8: 4 | BN8: 5 | BO8: 5 | BP8: 4
A9: 45329.639 | B9: jovankangel12@gmail.com | C9: Ya, Saya bersedia | D9: Perempuan | E9: Banten | F9: Mahasiswa/i | G9: 20 | H9: Rp1.000.000 - Rp3.000.000 | I9: Uang saku | J9: 3 - 5 tahun | K9: < Rp200.000 | L9: 082169372515 | M9: 4 | N9: 5 | O9: 5 | P9: 4 | Q9: 4 | R9: 5 | S9: 5 | T9: 4 | U9: 4 | V9: 5 | W9: 4 | X9: 4 | Y9: 4 | Z9: 5 | AA9: 5 | AB9: 5 | AC9: 5 | AD9: 3 | AE9: 5 | AF9: 5 | AG9: 5 | AH9: 6 | AI9: 5 | AJ9: 3 | AK9: 4 | AL9: 5 | AM9: 6 | AN9: 6 | AO9: 2 | AP9: 5 | AQ9: 5 | AR9: 5 | AS9: 5 | AT9: 5 | AU9: 5 | AV9: 4 | AW9: 4 | AX9: 2 | AY9: 4 | AZ9: 4 | BA9: 4 | BB9: 4 | BC9: 4 | BD9: 4 | BE9: 4 | BF9: 4 | BG9: 4 | BH9: 4 | BI9: 4 | BJ9: 4 | BK9: 5 | BL9: 4 | BM9: 5 | BN9: 5 | BO9: 2 | BP9: 2
A10: 45329.656 | B10: lutviahintans22@gmail.com | C10: Ya, Saya bersedia | D10: Perempuan | E10: Jawa Timur | F10: Mahasiswa/i | G10: 21 | H10: < Rp1.000.000 | I10: Uang saku | J10: 1 - 3 tahun | K10: Rp200.000 - Rp500.000 | L10: 085156993636 | M10: 4 | N10: 5 | O10: 5 | P10: 5 | Q10: 4 | R10: 3 | S10: 3 | T10: 3 | U10: 4 | V10: 4 | W10: 4 | X10: 4 | Y10: 5 | Z10: 4 | AA10: 5 | AB10: 6 | AC10: 5 | AD10: 4 | AE10: 5 | AF10: 5 | AG10: 6 | AH10: 7 | AI10: 5 | AJ10: 6 | AK10: 6 | AL10: 5 | AM10: 6 | AN10: 6 | AO10: 5 | AP10: 6 | AQ10: 5 | AR10: 7 | AS10: 6 | AT10: 5 | AU10: 6 | AV10: 4 | AW10: 3 | AX10: 3 | AY10: 3 | AZ10: 2 | BA10: 3 | BB10: 4 | BC10: 3 | BD10: 4 | BE10: 4 | BF10: 3 | BG10: 4 | BH10: 4 | BI10: 4 | BJ10: 4 | BK10: 4 | BL10: 3 | BM10: 4 | BN10: 3 | BO10: 4 | BP10: 4
A11: 45329.665 | B11: afdhilla2103@gmail.com | C11: Ya, Saya bersedia | D11: Perempuan | E11: Lampung | F11: Mahasiswa/i | G11: 22 | H11: < Rp1.000.000 | I11: Uang saku | J11: 1 - 3 tahun | K11: < Rp200.000 | L11: 081440043967 | M11: 4 | N11: 4 | O11: 5 | P11: 5 | Q11: 5 | R11: 4 | S11: 4 | T11: 4 | U11: 4 | V11: 4 | W11: 4 | X11: 3 | Y11: 4 | Z11: 2 | AA11: 3 | AB11: 7 | AC11: 6 | AD11: 4 | AE11: 6 | AF11: 6 | AG11: 4 | AH11: 7 | AI11: 7 | AJ11: 7 | AK11: 2 | AL11: 2 | AM11: 2 | AN11: 6 | AO11: 5 | AP11: 7 | AQ11: 7 | AR11: 4 | AS11: 3 | AT11: 5 | AU11: 4 | AV11: 4 | AW11: 4 | AX11: 2 | AY11: 2 | AZ11: 2 | BA11: 4 | BB11: 4 | BC11: 4 | BD11: 5 | BE11: 5 | BF11: 3 | BG11: 4 | BH11: 4 | BI11: 5 | BJ11: 5 | BK11: 5 | BL11: 5 | BM11: 4 | BN11: 4 | BO11: 3 | BP11: 5
A12: 45329.691 | B12: nuryanisafitri28@gmail.com | C12: Ya, Saya bersedia | D12: Perempuan | E12: Jawa Timur | F12: Mahasiswa/i | G12: 22 | H12: < Rp1.000.000 | I12: Uang saku | J12: > 7 tahun | K12: Rp200.000 - Rp500.000 | L12: 089682320352 | M12: 4 | N12: 4 | O12: 5 | P12: 4 | Q12: 4 | R12: 4 | S12: 4 | T12: 4 | U12: 5 | V12: 4 | W12: 4 | X12: 3 | Y12: 4 | Z12: 3 | AA12: 4 | AB12: 6 | AC12: 2 | AD12: 6 | AE12: 3 | AF12: 5 | AG12: 2 | AH12: 7 | AI12: 6 | AJ12: 7 | AK12: 6 | AL12: 7 | AM12: 7 | AN12: 7 | AO12: 2 | AP12: 7 | AQ12: 7 | AR12: 5 | AS12: 6 | AT12: 6 | AU12: 7 | AV12: 4 | AW12: 5 | AX12: 4 | AY12: 5 | AZ12: 5 | BA12: 3 | BB12: 4 | BC12: 4 | BD12: 4 | BE12: 5 | BF12: 4 | BG12: 5 | BH12: 2 | BI12: 4 | BJ12: 4 | BK12: 5 | BL12: 4 | BM12: 4 | BN12: 4 | BO12: 4 | BP12: 2
A13: 45329.692 | B13: kmasudhin@gmail.com | C13: Ya, Saya bersedia | D13: Laki-laki | E13: Jawa Timur | F13: Karyawan Swasta | G13: 25 | H13: Rp3.000.000 - Rp5.000.000 | I13: Gaji | J13: 5 - 7 tahun | K13: Rp200.000 - Rp500.000 | L13: 087703382756 | M13: 4 | N13: 2 | O13: 4 | P13: 2 | Q13: 4 | R13: 2 | S13: 2 | T13: 2 | U13: 2 | V13: 2 | W13: 2 | X13: 2 | Y13: 2 | Z13: 2 | AA13: 2 | AB13: 6 | AC13: 6 | AD13: 2 | AE13: 6 | AF13: 2 | AG13: 6 | AH13: 6 | AI13: 6 | AJ13: 2 | AK13: 2 | AL13: 6 | AM13: 6 | AN13: 6 | AO13: 6 | AP13: 6 | AQ13: 6 | AR13: 2 | AS13: 6 | AT13: 2 | AU13: 6 | AV13: 4 | AW13: 2 | AX13: 4 | AY13: 4 | AZ13: 2 | BA13: 4 | BB13: 4 | BC13: 4 | BD13: 2 | BE13: 1 | BF13: 2 | BG13: 4 | BH13: 4 | BI13: 4 | BJ13: 4 | BK13: 2 | BL13: 4 | BM13: 4 | BN13: 4 | BO13: 4 | BP13: 2
A14: 45329.709 | B14: haniefm271@gmail.com | C14: Ya, Saya bersedia | D14: Laki-laki | E14: Jawa Timur | F14: Mahasiswa/i | G14: 22 | H14: Rp1.000.000 - Rp3.000.000 | I14: Uang saku | J14: < 1 tahun | K14: Rp200.000 - Rp500.000 | M14: 3 | N14: 4 | O14: 4 | P14: 4 | Q14: 5 | R14: 4 | S14: 4 | T14: 3 | U14: 5 | V14: 5 | W14: 4 | X14: 4 | Y14: 5 | Z14: 4 | AA14: 3 | AB14: 5 | AC14: 4 | AD14: 4 | AE14: 5 | AF14: 4 | AG14: 5 | AH14: 4 | AI14: 5 | AJ14: 5 | AK14: 4 | AL14: 7 | AM14: 6 | AN14: 6 | AO14: 4 | AP14: 6 | AQ14: 6 | AR14: 5 | AS14: 5 | AT14: 6 | AU14: 4 | AV14: 4 | AW14: 4 | AX14: 3 | AY14: 5 | AZ14: 5 | BA14: 4 | BB14: 3 | BC14: 3 | BD14: 4 | BE14: 4 | BF14: 2 | BG14: 3 | BH14: 3 | BI14: 4 | BJ14: 3 | BK14: 5 | BL14: 5 | BM14: 3 | BN14: 3 | BO14: 3 | BP14: 3
A15: 45329.816 | B15: fiskadevina@gmail.com | C15: Ya, Saya bersedia | D15: Perempuan | E15: Jawa Timur | F15: Mahasiswa/i | G15: 19 | H15: Rp3.000.000 - Rp5.000.000 | I15: Uang saku | J15: 1 - 3 tahun | K15: Rp200.000 - Rp500.000 | L15: 085895088920 | M15: 4 | N15: 3 | O15: 5 | P15: 4 | Q15: 3 | R15: 5 | S15: 4 | T15: 5 | U15: 5 | V15: 4 | W15: 5 | X15: 3 | Y15: 5 | Z15: 4 | AA15: 4 | AB15: 7 | AC15: 6 | AD15: 4 | AE15: 6 | AF15: 7 | AG15: 5 | AH15: 5 | AI15: 7 | AJ15: 4 | AK15: 4 | AL15: 6 | AM15: 5 | AN15: 4 | AO15: 4 | AP15: 7 | AQ15: 6 | AR15: 5 | AS15: 4 | AT15: 5 | AU15: 5 | AV15: 3 | AW15: 4 | AX15: 4 | AY15: 3 | AZ15: 3 | BA15: 5 | BB15: 4 | BC15: 3 | BD15: 5 | BE15: 5 | BF15: 3 | BG15: 3 | BH15: 4 | BI15: 5 | BJ15: 5 | BK15: 3 | BL15: 4 | BM15: 3 | BN15: 5 | BO15: 4 | BP15: 3
A16: 45329.918 | B16: shafnadinaraulani@gmail.com | C16: Ya, Saya bersedia | D16: Perempuan | E16: Jawa Tengah | F16: Mahasiswa/i | G16: 21 | H16: Rp1.000.000 - Rp3.000.000 | I16: Uang saku | J16: > 7 tahun | K16: Rp1.000.000 - Rp3.000.000 | M16: 5 | N16: 4 | O16: 5 | P16: 5 | Q16: 5 | R16: 4 | S16: 4 | T16: 4 | U16: 5 | V16: 5 | W16: 4 | X16: 4 | Y16: 5 | Z16: 4 | AA16: 5 | AB16: 4 | AC16: 3 | AD16: 6 | AE16: 4 | AF16: 4 | AG16: 3 | AH16: 4 | AI16: 4 | AJ16: 6 | AK16: 5 | AL16: 7 | AM16: 6 | AN16: 7 | AO16: 3 | AP16: 6 | AQ16: 5 | AR16: 7 | AS16: 5 | AT16: 6 | AU16: 6 | AV16: 3 | AW16: 5 | AX16: 4 | AY16: 2 | AZ16: 1 | BA16: 4 | BB16: 4 | BC16: 3 | BD16: 2 | BE16: 4 | BF16: 2 | BG16: 2 | BH16: 4 | BI16: 4 | BJ16: 5 | BK16: 5 | BL16: 4 | BM16: 4 | BN16: 2 | BO16: 4 | BP16: 3
A17: 45330.538 | B17: hanna.melya@gmail.com | C17: Ya, Saya bersedia | D17: Perempuan | E17: DKI Jakarta | F17: Mahasiswa/i | G17: 20 | H17: Rp1.000.000 - Rp3.000.000 | I17: Uang saku | J17: 3 - 5 tahun | K17: Rp500.000 - Rp1.000.000 | L17: 085716508262 | M17: 4 | N17: 5 | O17: 5 | P17: 4 | Q17: 5 | R17: 5 | S17: 4 | T17: 5 | U17: 5 | V17: 5 | W17: 4 | X17: 5 | Y17: 4 | Z17: 4 | AA17: 5 | AB17: 6 | AC17: 2 | AD17: 6 | AE17: 3 | AF17: 3 | AG17: 2 | AH17: 6 | AI17: 4 | AJ17: 6 | AK17: 6 | AL17: 6 | AM17: 6 | AN17: 6 | AO17: 3 | AP17: 7 | AQ17: 6 | AR17: 6 | AS17: 6 | AT17: 6 | AU17: 7 | AV17: 5 | AW17: 5 | AX17: 4 | AY17: 4 | AZ17: 3 | BA17: 2 | BB17: 5 | BC17: 4 | BD17: 4 | BE17: 4 | BF17: 2 | BG17: 4 | BH17: 5 | BI17: 5 | BJ17: 5 | BK17: 2 | BL17: 5 | BM17: 3 | BN17: 4 | BO17: 5 | BP17: 5
A18: 45330.557 | B18: hanna.melya@gmail.com | C18: Ya, Saya bersedia | D18: Perempuan | E18: Jakarta | F18: Mahasiswa/i | G18: 19 | H18: Rp1.000.000 - Rp3.000.000 | I18: Uang saku | J18: 5 - 7 tahun | K18: Rp1.000.000 - Rp3.000.000 | L18: 087821637196 | M18: 4 | N18: 5 | O18: 5 | P18: 4 | Q18: 5 | R18: 4 | S18: 4 | T18: 5 | U18: 5 | V18: 5 | W18: 5 | X18: 4 | Y18: 5 | Z18: 4 | AA18: 4 | AB18: 6 | AC18: 2 | AD18: 6 | AE18: 2 | AF18: 3 | AG18: 2 | AH18: 6 | AI18: 2 | AJ18: 7 | AK18: 6 | AL18: 6 | AM18: 6 | AN18: 7 | AO18: 2 | AP18: 7 | AQ18: 6 | AR18: 6 | AS18: 7 | AT18: 6 | AU18: 7 | AV18: 5 | AW18: 5 | AX18: 4 | AY18: 4 | AZ18: 2 | BA18: 2 | BB18: 5 | BC18: 4 | BD18: 5 | BE18: 4 | BF18: 2 | BG18: 5 | BH18: 5 | BI18: 5 | BJ18: 5 | BK18: 1 | BL18: 4 | BM18: 4 | BN18: 5 | BO18: 5 | BP18: 4
A19: 45330.558 | B19: hanna.melya@gmail.com | C19: Ya, Saya bersedia | D19: Perempuan | E19: Jakarta | F19: Mahasiswa/i | G19: 21 | H19: < Rp1.000.000 | I19: Uang saku | J19: 1 - 3 tahun | K19: Rp500.000 - Rp1.000.000 | L19: 085816729913 | M19: 5 | N19: 4 | O19: 5 | P19: 5 | Q19: 4 | R19: 5 | S19: 4 | T19: 4 | U19: 5 | V19: 5 | W19: 4 | X19: 4 | Y19: 4 | Z19: 5 | AA19: 5 | AB19: 6 | AC19: 3 | AD19: 7 | AE19: 2 | AF19: 3 | AG19: 3 | AH19: 6 | AI19: 6 | AJ19: 6 | AK19: 5 | AL19: 7 | AM19: 6 | AN19: 7 | AO19: 3 | AP19: 6 | AQ19: 6 | AR19: 7 | AS19: 7 | AT19: 6 | AU19: 6 | AV19: 4 | AW19: 5 | AX19: 4 | AY19: 4 | AZ19: 3 | BA19: 1 | BB19: 5 | BC19: 4 | BD19: 5 | BE19: 5 | BF19: 2 | BG19: 5 | BH19: 4 | BI19: 5 | BJ19: 5 | BK19: 1 | BL19: 5 | BM19: 3 | BN19: 5 | BO19: 4 | BP19: 4
A20: 45330.587 | B20: ellameisyach@gmail.com | C20: Ya, Saya bersedia | D20: Perempuan | E20: Jawa Tengah | F20: Mahasiswa/i | G20: 21 | H20: < Rp1.000.000 | I20: Uang saku | J20: 1 - 3 tahun | K20: Rp200.000 - Rp500.000 | M20: 4 | N20: 4 | O20: 4 | P20: 4 | Q20: 3 | R20: 4 | S20: 4 | T20: 3 | U20: 4 | V20: 4 | W20: 4 | X20: 4 | Y20: 4 | Z20: 4 | AA20: 4 | AB20: 6 | AC20: 5 | AD20: 4 | AE20: 4 | AF20: 4 | AG20: 4 | AH20: 5 | AI20: 6 | AJ20: 4 | AK20: 3 | AL20: 4 | AM20: 3 | AN20: 3 | AO20: 4 | AP20: 5 | AQ20: 2 | AR20: 3 | AS20: 3 | AT20: 2 | AU20: 4 | AV20: 2 | AW20: 3 | AX20: 2 | AY20: 2 | AZ20: 2 | BA20: 3 | BB20: 2 | BC20: 2 | BD20: 4 | BE20: 4 | BF20: 1 | BG20: 4 | BH20: 4 | BI20: 4 | BJ20: 4 | BK20: 3 | BL20: 4 | BM20: 3 | BN20: 3 | BO20: 3 | BP20: 3
A21: 45331.468 | B21: sbilnlfaz1@gmail.com | C21: Ya, Saya bersedia | D21: Perempuan | E21: Jawa Barat | F21: Mahasiswa/i | G21: 21 | H21: < Rp1.000.000 | I21: Uang saku | J21: > 7 tahun | K21: Rp200.000 - Rp500.000 | L21: 085703617186 | M21: 5 | N21: 4 | O21: 5 | P21: 4 | Q21: 1 | R21: 3 | S21: 3 | T21: 3 | U21: 4 | V21: 5 | W21: 4 | X21: 4 | Y21: 4 | Z21: 4 | AA21: 5 | AB21: 5 | AC21: 3 | AD21: 6 | AE21: 4 | AF21: 3 | AG21: 3 | AH21: 5 | AI21: 5 | AJ21: 5 | AK21: 5 | AL21: 5 | AM21: 7 | AN21: 5 | AO21: 5 | AP21: 5 | AQ21: 4 | AR21: 4 | AS21: 4 | AT21: 4 | AU21: 7 | AV21: 3 | AW21: 2 | AX21: 4 | AY21: 3 | AZ21: 4 | BA21: 3 | BB21: 3 | BC21: 4 | BD21: 3 | BE21: 3 | BF21: 4 | BG21: 3 | BH21: 2 | BI21: 4 | BJ21: 4 | BK21: 5 | BL21: 4 | BM21: 4 | BN21: 3 | BO21: 3 | BP21: 1
A22: 45331.897 | B22: linandasavitri@gmail.com | C22: Ya, Saya bersedia | D22: Perempuan | E22: Jawa Timur | F22: Mahasiswa/i | G22: 22 | H22: Rp1.000.000 - Rp3.000.000 | I22: Uang saku | J22: 3 - 5 tahun | K22: Rp200.000 - Rp500.000 | M22: 4 | N22: 5 | O22: 4 | P22: 5 | Q22: 2 | R22: 5 | S22: 5 | T22: 4 | U22: 4 | V22: 4 | W22: 4 | X22: 4 | Y22: 4 | Z22: 3 | AA22: 4 | AB22: 3 | AC22: 6 | AD22: 7 | AE22: 2 | AF22: 3 | AG22: 1 | AH22: 5 | AI22: 4 | AJ22: 5 | AK22: 7 | AL22: 6 | AM22: 7 | AN22: 6 | AO22: 4 | AP22: 5 | AQ22: 3 | AR22: 6 | AS22: 6 | AT22: 7 | AU22: 6 | AV22: 2 | AW22: 4 | AX22: 4 | AY22: 5 | AZ22: 3 | BA22: 2 | BB22: 4 | BC22: 4 | BD22: 3 | BE22: 4 | BF22: 1 | BG22: 5 | BH22: 4 | BI22: 4 | BJ22: 5 | BK22: 3 | BL22: 4 | BM22: 5 | BN22: 3 | BO22: 3 | BP22: 4
A23: 45332.641 | B23: zulfahna08@gmail.com | C23: Ya, Saya bersedia | D23: Perempuan | E23: Jawa Tengah | F23: Mahasiswa/i | G23: 20 | H23: < Rp1.000.000 | I23: Uang saku | J23: 3 - 5 tahun | K23: Rp500.000 - Rp1.000.000 | L23: 088802645667 | M23: 4 | N23: 3 | O23: 4 | P23: 3 | Q23: 2 | R23: 3 | S23: 3 | T23: 3 | U23: 3 | V23: 3 | W23: 3 | X23: 3 | Y23: 3 | Z23: 2 | AA23: 3 | AB23: 5 | AC23: 4 | AD23: 3 | AE23: 3 | AF23: 3 | AG23: 4 | AH23: 5 | AI23: 4 | AJ23: 6 | AK23: 5 | AL23: 4 | AM23: 5 | AN23: 5 | AO23: 5 | AP23: 5 | AQ23: 5 | AR23: 3 | AS23: 2 | AT23: 5 | AU23: 5 | AV23: 3 | AW23: 4 | AX23: 3 | AY23: 4 | AZ23: 4 | BA23: 2 | BB23: 4 | BC23: 4 | BD23: 4 | BE23: 2 | BF23: 4 | BG23: 3 | BH23: 3 | BI23: 4 | BJ23: 4 | BK23: 4 | BL23: 3 | BM23: 4 | BN23: 4 | BO23: 4 | BP23: 3
A24: 45332.842 | B24: nabilarahandi@gmail.com | C24: Ya, Saya bersedia | D24: Perempuan | E24: Sumatra Barat | F24: Mahasiswa/i | G24: 21 | H24: Rp1.000.000 - Rp3.000.000 | I24: Uang saku | J24: 3 - 5 tahun | K24: Rp500.000 - Rp1.000.000 | L24: 082171381885 | M24: 5 | N24: 5 | O24: 5 | P24: 5 | Q24: 4 | R24: 4 | S24: 5 | T24: 4 | U24: 5 | V24: 4 | W24: 4 | X24: 4 | Y24: 4 | Z24: 4 | AA24: 4 | AB24: 6 | AC24: 3 | AD24: 5 | AE24: 5 | AF24: 3 | AG24: 3 | AH24: 7 | AI24: 5 | AJ24: 3 | AK24: 5 | AL24: 5 | AM24: 5 | AN24: 5 | AO24: 3 | AP24: 7 | AQ24: 6 | AR24: 6 | AS24: 5 | AT24: 3 | AU24: 5 | AV24: 2 | AW24: 2 | AX24: 1 | AY24: 2 | AZ24: 1 | BA24: 4 | BB24: 4 | BC24: 2 | BD24: 5 | BE24: 5 | BF24: 2 | BG24: 4 | BH24: 4 | BI24: 4 | BJ24: 5 | BK24: 2 | BL24: 4 | BM24: 1 | BN24: 4 | BO24: 4 | BP24: 4
A25: 45334.575 | B25: suci.sasti26@gmail.com | C25: Ya, Saya bersedia | D25: Perempuan | E25: Jakarta | F25: Mahasiswa/i | G25: 21 | H25: < Rp1.000.000 | I25: Uang saku | J25: 1 - 3 tahun | K25: Rp500.000 - Rp1.000.000 | L25: 085773605978 | M25: 5 | N25: 5 | O25: 4 | P25: 5 | Q25: 4 | R25: 5 | S25: 4 | T25: 5 | U25: 4 | V25: 5 | W25: 4 | X25: 3 | Y25: 4 | Z25: 5 | AA25: 4 | AB25: 6 | AC25: 3 | AD25: 6 | AE25: 7 | AF25: 5 | AG25: 4 | AH25: 6 | AI25: 6 | AJ25: 5 | AK25: 3 | AL25: 5 | AM25: 6 | AN25: 4 | AO25: 5 | AP25: 7 | AQ25: 5 | AR25: 5 | AS25: 5 | AT25: 6 | AU25: 6 | AV25: 4 | AW25: 5 | AX25: 5 | AY25: 4 | AZ25: 5 | BA25: 4 | BB25: 5 | BC25: 4 | BD25: 5 | BE25: 4 | BF25: 5 | BG25: 4 | BH25: 5 | BI25: 4 | BJ25: 5 | BK25: 4 | BL25: 5 | BM25: 5 | BN25: 4 | BO25: 5 | BP25: 5
A26: 45337.384 | B26: kiranahayu@gmail.com | C26: Ya, Saya bersedia | D26: Perempuan | E26: DKI Jakarta | F26: Freelancer | G26: 23 | H26: < Rp1.000.000 | I26: Gaji | J26: 3 - 5 tahun | K26: Rp200.000 - Rp500.000 | L26: 081285439018 | M26: 4 | N26: 4 | O26: 5 | P26: 4 | Q26: 2 | R26: 3 | S26: 3 | T26: 4 | U26: 3 | V26: 3 | W26: 3 | X26: 4 | Y26: 4 | Z26: 4 | AA26: 4 | AB26: 6 | AC26: 7 | AD26: 3 | AE26: 7 | AF26: 5 | AG26: 6 | AH26: 7 | AI26: 5 | AJ26: 2 | AK26: 1 | AL26: 1 | AM26: 1 | AN26: 1 | AO26: 4 | AP26: 6 | AQ26: 4 | AR26: 5 | AS26: 4 | AT26: 1 | AU26: 4 | AV26: 1 | AW26: 2 | AX26: 1 | AY26: 1 | AZ26: 1 | BA26: 3 | BB26: 3 | BC26: 1 | BD26: 4 | BE26: 5 | BF26: 1 | BG26: 3 | BH26: 4 | BI26: 4 | BJ26: 4 | BK26: 1 | BL26: 3 | BM26: 1 | BN26: 4 | BO26: 4 | BP26: 5
A27: 45337.39 | B27: madebysuar@gmail.com | C27: Ya, Saya bersedia | D27: Perempuan | E27: Jawa Timur | F27: Mahasiswa/i | G27: 23 | H27: < Rp1.000.000 | I27: Uang saku | J27: 1 - 3 tahun | K27: Rp1.000.000 - Rp3.000.000 | L27: 087864935760 | M27: 4 | N27: 4 | O27: 4 | P27: 4 | Q27: 3 | R27: 4 | S27: 4 | T27: 4 | U27: 4 | V27: 4 | W27: 4 | X27: 4 | Y27: 4 | Z27: 4 | AA27: 4 | AB27: 4 | AC27: 5 | AD27: 6 | AE27: 5 | AF27: 4 | AG27: 2 | AH27: 7 | AI27: 6 | AJ27: 4 | AK27: 4 | AL27: 7 | AM27: 6 | AN27: 4 | AO27: 2 | AP27: 6 | AQ27: 4 | AR27: 4 | AS27: 6 | AT27: 5 | AU27: 7 | AV27: 1 | AW27: 3 | AX27: 1 | AY27: 2 | AZ27: 1 | BA27: 4 | BB27: 3 | BC27: 2 | BD27: 4 | BE27: 5 | BF27: 2 | BG27: 5 | BH27: 5 | BI27: 5 | BJ27: 5 | BK27: 1 | BL27: 5 | BM27: 1 | BN27: 5 | BO27: 5 | BP27: 5
A28: 45337.392 | B28: rizqikhattatah24@gmail.com | C28: Ya, Saya bersedia | D28: Perempuan | E28: Jawa Timur | F28: Mahasiswa/i | G28: 20 | H28: < Rp1.000.000 | I28: Uang saku | J28: 3 - 5 tahun | K28: < Rp200.000 | L28: 085746157515 | M28: 5 | N28: 5 | O28: 5 | P28: 5 | Q28: 1 | R28: 5 | S28: 5 | T28: 5 | U28: 5 | V28: 5 | W28: 5 | X28: 5 | Y28: 5 | Z28: 5 | AA28: 5 | AB28: 7 | AC28: 7 | AD28: 6 | AE28: 7 | AF28: 7 | AG28: 2 | AH28: 7 | AI28: 7 | AJ28: 6 | AK28: 1 | AL28: 1 | AM28: 1 | AN28: 4 | AO28: 1 | AP28: 6 | AQ28: 7 | AR28: 3 | AS28: 1 | AT28: 2 | AU28: 1 | AV28: 1 | AW28: 4 | AX28: 1 | AY28: 3 | AZ28: 1 | BA28: 3 | BB28: 5 | BC28: 4 | BD28: 5 | BE28: 5 | BF28: 1 | BG28: 5 | BH28: 5 | BI28: 4 | BJ28: 5 | BK28: 1 | BL28: 5 | BM28: 2 | BN28: 4 | BO28: 5 | BP28: 5
A29: 45337.393 | B29: nuraini.7219@gmail.com | C29: Ya, Saya bersedia | D29: Perempuan | E29: Jawa Timur | F29: Mahasiswa/i | G29: 21 | H29: Rp1.000.000 - Rp3.000.000 | I29: Uang saku | J29: < 1 tahun | K29: < Rp200.000 | L29: 081235429244 | M29: 4 | N29: 3 | O29: 4 | P29: 4 | Q29: 4 | R29: 3 | S29: 3 | T29: 4 | U29: 3 | V29: 4 | W29: 3 | X29: 3 | Y29: 3 | Z29: 3 | AA29: 5 | AB29: 6 | AC29: 5 | AD29: 4 | AE29: 5 | AF29: 5 | AG29: 6 | AH29: 7 | AI29: 6 | AJ29: 6 | AK29: 2 | AL29: 5 | AM29: 4 | AN29: 5 | AO29: 5 | AP29: 5 | AQ29: 3 | AR29: 3 | AS29: 2 | AT29: 2 | AU29: 5 | AV29: 4 | AW29: 4 | AX29: 2 | AY29: 3 | AZ29: 2 | BA29: 5 | BB29: 4 | BC29: 2 | BD29: 3 | BE29: 4 | BF29: 2 | BG29: 5 | BH29: 4 | BI29: 4 | BJ29: 4 | BK29: 2 | BL29: 3 | BM29: 3 | BN29: 3 | BO29: 4 | BP29: 4
A30: 45337.424 | B30: shirokuro197@gmail.com | C30: Ya, Saya bersedia | D30: Laki-laki | E30: Jawa Timur | F30: Karyawan Swasta | G30: 23 | H30: Rp3.000.000 - Rp5.000.000 | I30: Gaji | J30: 1 - 3 tahun | K30: < Rp200.000 | L30: 082264207956 | M30: 5 | N30: 5 | O30: 5 | P30: 5 | Q30: 4 | R30: 5 | S30: 4 | T30: 3 | U30: 5 | V30: 5 | W30: 4 | X30: 4 | Y30: 4 | Z30: 3 | AA30: 5 | AB30: 7 | AC30: 7 | AD30: 3 | AE30: 6 | AF30: 5 | AG30: 6 | AH30: 7 | AI30: 7 | AJ30: 7 | AK30: 2 | AL30: 6 | AM30: 4 | AN30: 5 | AO30: 5 | AP30: 6 | AQ30: 5 | AR30: 4 | AS30: 4 | AT30: 3 | AU30: 4 | AV30: 3 | AW30: 4 | AX30: 4 | AY30: 4 | AZ30: 4 | BA30: 3 | BB30: 4 | BC30: 5 | BD30: 3 | BE30: 4 | BF30: 3 | BG30: 4 | BH30: 3 | BI30: 5 | BJ30: 4 | BK30: 3 | BL30: 5 | BM30: 4 | BN30: 5 | BO30: 5 | BP30: 4
A31: 45337.471 | B31: fitriannisa0220@gmail.com | C31: Ya, Saya bersedia | D31: Perempuan | E31: Riau | F31: Mahasiswa/i | G31: 18 | H31: Rp1.000.000 - Rp3.000.000 | I31: Uang saku | J31: > 7 tahun | K31: < Rp200.000 | L31: 0 | M31: 4 | N31: 4 | O31: 5 | P31: 4 | Q31: 5 | R31: 4 | S31: 5 | T31: 4 | U31: 4 | V31: 5 | W31: 4 | X31: 5 | Y31: 5 | Z31: 5 | AA31: 5 | AB31: 3 | AC31: 3 | AD31: 6 | AE31: 4 | AF31: 1 | AG31: 3 | AH31: 1 | AI31: 2 | AJ31: 1 | AK31: 7 | AL31: 5 | AM31: 5 | AN31: 6 | AO31: 7 | AP31: 6 | AQ31: 5 | AR31: 7 | AS31: 5 | AT31: 5 | AU31: 6 | AV31: 4 | AW31: 4 | AX31: 5 | AY31: 5 | AZ31: 4 | BA31: 1 | BB31: 2 | BC31: 4 | BD31: 2 | BE31: 2 | BF31: 5 | BG31: 1 | BH31: 2 | BI31: 3 | BJ31: 1 | BK31: 4 | BL31: 2 | BM31: 5 | BN31: 3 | BO31: 2 | BP31: 1
A32: 45337.472 | B32: gitanasha53@gmail.com | C32: Ya, Saya bersedia | D32: Perempuan | E32: Jawa Tengah | F32: Mahasiswa/i | G32: 20 | H32: Rp1.000.000 - Rp3.000.000 | I32: Uang saku, Gaji | J32: 3 - 5 tahun | K32: Rp500.000 - Rp1.000.000 | L32: 0882003623180 | M32: 5 | N32: 5 | O32: 5 | P32: 4 | Q32: 4 | R32: 5 | S32: 5 | T32: 4 | U32: 5 | V32: 4 | W32: 5 | X32: 4 | Y32: 5 | Z32: 4 | AA32: 5 | AB32: 2 | AC32: 3 | AD32: 7 | AE32: 1 | AF32: 2 | AG32: 1 | AH32: 1 | AI32: 2 | AJ32: 7 | AK32: 6 | AL32: 7 | AM32: 6 | AN32: 7 | AO32: 1 | AP32: 7 | AQ32: 6 | AR32: 5 | AS32: 6 | AT32: 7 | AU32: 7 | AV32: 4 | AW32: 5 | AX32: 5 | AY32: 4 | AZ32: 4 | BA32: 2 | BB32: 3 | BC32: 5 | BD32: 1 | BE32: 2 | BF32: 5 | BG32: 2 | BH32: 1 | BI32: 1 | BJ32: 2 | BK32: 5 | BL32: 1 | BM32: 5 | BN32: 1 | BO32: 2 | BP32: 1
A33: 45337.476 | B33: mahenmahesa02@gmail.com | C33: Ya, Saya bersedia | D33: Laki-laki | E33: Jawa Barat | F33: Mahasiswa/i | G33: 21 | H33: Rp1.000.000 - Rp3.000.000 | I33: Uang saku | J33: 1 - 3 tahun | K33: Rp500.000 - Rp1.000.000 | M33: 5 | N33: 4 | O33: 4 | P33: 5 | Q33: 4 | R33: 5 | S33: 5 | T33: 4 | U33: 5 | V33: 4 | W33: 4 | X33: 5 | Y33: 4 | Z33: 5 | AA33: 5 | AB33: 2 | AC33: 3 | AD33: 6 | AE33: 2 | AF33: 1 | AG33: 3 | AH33: 1 | AI33: 2 | AJ33: 7 | AK33: 6 | AL33: 5 | AM33: 7 | AN33: 5 | AO33: 2 | AP33: 6 | AQ33: 7 | AR33: 6 | AS33: 5 | AT33: 7 | AU33: 6 | AV33: 5 | AW33: 4 | AX33: 5 | AY33: 5 | AZ33: 4 | BA33: 2 | BB33: 1 | BC33: 5 | BD33: 2 | BE33: 3 | BF33: 4 | BG33: 2 | BH33: 1 | BI33: 3 | BJ33: 1 | BK33: 4 | BL33: 2 | BM33: 5 | BN33: 1 | BO33: 3 | BP33: 2
A34: 45337.477 | B34: justurbycha10@gmail.com | C34: Ya, Saya bersedia | D34: Perempuan | E34: Jawa Barat | F34: Siswa/i | G34: 18 | H34: < Rp1.000.000 | I34: Uang saku | J34: 3 - 5 tahun | K34: Rp500.000 - Rp1.000.000 | L34: 085640486704 | M34: 5 | N34: 4 | O34: 5 | P34: 5 | Q34: 4 | R34: 5 | S34: 5 | T34: 5 | U34: 4 | V34: 4 | W34: 5 | X34: 4 | Y34: 5 | Z34: 4 | AA34: 5 | AB34: 1 | AC34: 2 | AD34: 7 | AE34: 2 | AF34: 1 | AG34: 1 | AH34: 1 | AI34: 2 | AJ34: 7 | AK34: 6 | AL34: 7 | AM34: 7 | AN34: 6 | AO34: 2 | AP34: 7 | AQ34: 7 | AR34: 5 | AS34: 6 | AT34: 7 | AU34: 7 | AV34: 5 | AW34: 4 | AX34: 4 | AY34: 5 | AZ34: 4 | BA34: 2 | BB34: 1 | BC34: 4 | BD34: 1 | BE34: 1 | BF34: 5 | BG34: 2 | BH34: 1 | BI34: 3 | BJ34: 2 | BK34: 4 | BL34: 1 | BM34: 5 | BN34: 1 | BO34: 2 | BP34: 1
A35: 45337.479 | B35: afisallaryadi@gmail.com | C35: Ya, Saya bersedia | D35: Laki-laki | E35: Jawa Barat | F35: Karyawan Swasta | G35: 25 | H35: Rp3.000.000 - Rp5.000.000 | I35: Gaji | J35: 3 - 5 tahun | K35: Rp500.000 - Rp1.000.000 | M35: 4 | N35: 4 | O35: 5 | P35: 4 | Q35: 5 | R35: 4 | S35: 5 | T35: 4 | U35: 4 | V35: 5 | W35: 5 | X35: 4 | Y35: 4 | Z35: 4 | AA35: 5 | AB35: 3 | AC35: 4 | AD35: 5 | AE35: 4 | AF35: 3 | AG35: 4 | AH35: 4 | AI35: 3 | AJ35: 5 | AK35: 6 | AL35: 5 | AM35: 6 | AN35: 7 | AO35: 3 | AP35: 6 | AQ35: 5 | AR35: 6 | AS35: 5 | AT35: 5 | AU35: 6 | AV35: 5 | AW35: 4 | AX35: 4 | AY35: 4 | AZ35: 5 | BA35: 2 | BB35: 1 | BC35: 4 | BD35: 2 | BE35: 2 | BF35: 4 | BG35: 2 | BH35: 3 | BI35: 3 | BJ35: 3 | BK35: 4 | BL35: 3 | BM35: 5 | BN35: 3 | BO35: 2 | BP35: 1
A36: 45337.484 | B36: azkaamanda123@gmail.com | C36: Ya, Saya bersedia | D36: Perempuan | E36: Jawa Timur | F36: Mahasiswa/i | G36: 21 | H36: Rp1.000.000 - Rp3.000.000 | I36: Uang saku, beasiswa | J36: 1 - 3 tahun | K36: Rp200.000 - Rp500.000 | L36: 08885490329 | M36: 4 | N36: 4 | O36: 4 | P36: 5 | Q36: 4 | R36: 5 | S36: 5 | T36: 4 | U36: 5 | V36: 4 | W36: 4 | X36: 4 | Y36: 4 | Z36: 4 | AA36: 5 | AB36: 4 | AC36: 3 | AD36: 5 | AE36: 3 | AF36: 3 | AG36: 4 | AH36: 3 | AI36: 4 | AJ36: 6 | AK36: 5 | AL36: 6 | AM36: 5 | AN36: 7 | AO36: 4 | AP36: 7 | AQ36: 6 | AR36: 5 | AS36: 5 | AT36: 6 | AU36: 5 | AV36: 4 | AW36: 4 | AX36: 5 | AY36: 4 | AZ36: 4 | BA36: 3 | BB36: 2 | BC36: 4 | BD36: 3 | BE36: 2 | BF36: 4 | BG36: 2 | BH36: 3 | BI36: 3 | BJ36: 2 | BK36: 4 | BL36: 3 | BM36: 4 | BN36: 2 | BO36: 3 | BP36: 2
A37: 45337.485 | B37: apsun666@gmail.com | C37: Ya, Saya bersedia | D37: Laki-laki | E37: Jawa Barat | F37: Mahasiswa/i | G37: 22 | H37: Rp1.000.000 - Rp3.000.000 | I37: Uang saku | J37: 1 - 3 tahun | K37: Rp200.000 - Rp500.000 | M37: 5 | N37: 4 | O37: 4 | P37: 4 | Q37: 4 | R37: 5 | S37: 5 | T37: 5 | U37: 4 | V37: 5 | W37: 4 | X37: 4 | Y37: 5 | Z37: 4 | AA37: 5 | AB37: 4 | AC37: 4 | AD37: 5 | AE37: 3 | AF37: 4 | AG37: 2 | AH37: 4 | AI37: 3 | AJ37: 5 | AK37: 5 | AL37: 6 | AM37: 6 | AN37: 7 | AO37: 3 | AP37: 6 | AQ37: 5 | AR37: 6 | AS37: 6 | AT37: 5 | AU37: 6 | AV37: 5 | AW37: 4 | AX37: 4 | AY37: 5 | AZ37: 4 | BA37: 3 | BB37: 2 | BC37: 4 | BD37: 3 | BE37: 2 | BF37: 4 | BG37: 2 | BH37: 3 | BI37: 2 | BJ37: 3 | BK37: 4 | BL37: 2 | BM37: 5 | BN37: 2 | BO37: 1 | BP37: 1
A38: 45337.488 | B38: alisiafachirahasyim@gmail.com | C38: Ya, Saya bersedia | D38: Perempuan | E38: DKI Jakarta | F38: Mahasiswa/i | G38: 21 | H38: Rp1.000.000 - Rp3.000.000 | I38: Uang saku, Gaji | J38: 3 - 5 tahun | K38: Rp1.000.000 - Rp3.000.000 | M38: 5 | N38: 5 | O38: 5 | P38: 4 | Q38: 4 | R38: 5 | S38: 5 | T38: 4 | U38: 5 | V38: 4 | W38: 4 | X38: 4 | Y38: 5 | Z38: 4 | AA38: 5 | AB38: 3 | AC38: 1 | AD38: 7 | AE38: 2 | AF38: 3 | AG38: 1 | AH38: 3 | AI38: 4 | AJ38: 6 | AK38: 7 | AL38: 5 | AM38: 5 | AN38: 6 | AO38: 3 | AP38: 6 | AQ38: 5 | AR38: 7 | AS38: 7 | AT38: 6 | AU38: 7 | AV38: 4 | AW38: 5 | AX38: 5 | AY38: 4 | AZ38: 4 | BA38: 3 | BB38: 3 | BC38: 5 | BD38: 1 | BE38: 2 | BF38: 5 | BG38: 2 | BH38: 1 | BI38: 3 | BJ38: 2 | BK38: 4 | BL38: 2 | BM38: 4 | BN38: 2 | BO38: 1 | BP38: 3
A39: 45337.498 | B39: tiaraprmswrr@gmail.com | C39: Ya, Saya bersedia | D39: Perempuan | E39: Jawa Barat | F39: Karyawan Swasta | G39: 26 | H39: Rp3.000.000 - Rp5.000.000 | I39: Gaji | J39: 3 - 5 tahun | K39: Rp500.000 - Rp1.000.000 | L39: 085602880858 | M39: 4 | N39: 5 | O39: 4 | P39: 4 | Q39: 5 | R39: 4 | S39: 5 | T39: 4 | U39: 5 | V39: 4 | W39: 4 | X39: 5 | Y39: 4 | Z39: 5 | AA39: 4 | AB39: 3 | AC39: 1 | AD39: 5 | AE39: 2 | AF39: 1 | AG39: 2 | AH39: 4 | AI39: 3 | AJ39: 5 | AK39: 6 | AL39: 7 | AM39: 6 | AN39: 6 | AO39: 4 | AP39: 7 | AQ39: 6 | AR39: 5 | AS39: 7 | AT39: 6 | AU39: 6 | AV39: 4 | AW39: 5 | AX39: 5 | AY39: 4 | AZ39: 5 | BA39: 3 | BB39: 2 | BC39: 4 | BD39: 3 | BE39: 2 | BF39: 4 | BG39: 2 | BH39: 2 | BI39: 3 | BJ39: 2 | BK39: 4 | BL39: 2 | BM39: 4 | BN39: 2 | BO39: 1 | BP39: 2
A40: 45337.505 | B40: nurulllhumaira@gmail.com | C40: Ya, Saya bersedia | D40: Perempuan | E40: DKI Jakarta | F40: Mahasiswa/i | G40: 22 | H40: Rp1.000.000 - Rp3.000.000 | I40: Uang saku | J40: 1 - 3 tahun | K40: Rp200.000 - Rp500.000 | L40: 0859106628835 | M40: 4 | N40: 5 | O40: 5 | P40: 4 | Q40: 5 | R40: 4 | S40: 5 | T40: 4 | U40: 4 | V40: 5 | W40: 4 | X40: 5 | Y40: 4 | Z40: 5 | AA40: 4 | AB40: 2 | AC40: 3 | AD40: 5 | AE40: 3 | AF40: 2 | AG40: 1 | AH40: 4 | AI40: 3 | AJ40: 5 | AK40: 5 | AL40: 7 | AM40: 6 | AN40: 7 | AO40: 3 | AP40: 5 | AQ40: 7 | AR40: 5 | AS40: 6 | AT40: 5 | AU40: 7 | AV40: 4 | AW40: 5 | AX40: 4 | AY40: 5 | AZ40: 5 | BA40: 2 | BB40: 3 | BC40: 5 | BD40: 3 | BE40: 1 | BF40: 4 | BG40: 2 | BH40: 1 | BI40: 2 | BJ40: 1 | BK40: 4 | BL40: 2 | BM40: 4 | BN40: 2 | BO40: 1 | BP40: 3
...

Sheet Copy of Form Responses 1
A1: Timestamp | B1: Email Address | C1: Saya telah membaca keterangan diatas dan bersedia berpartisipasi dalam penelitian ini | D1: Jenis kelamin | E1: Asal Provinsi (Contoh : Jawa Timur) | F1: Status / Pekerjaan | G1: Usia (Contoh : 21) | H1: Total Pendapatan Perbulan | I1: Asal pendapatan | J1: Lama menjadi kpopers | K1: Total pengeluaran untuk pembelian barang yang berhubungan dengan idol atau selebriti korea | L1: No. Telp (Bagi yang ingin mengikuti undian) | M1: CEC_A_1 | N1: CEC_A_2 | O1: CEC_A_3 | P1: CEC_A_4 | Q1: CEC_A_5 | R1: CEC_T_1 | S1: CEC_T_2 | T1: CEC_T_3 | U1: CEC_T_4 | V1: CEC_T_5 | W1: CEC_E_1 | X1: CEC_E_2 | Y1: CEC_E_3 | Z1: CEC_E_4 | AA1: CEC_E_5 | AB1: IB_C_1 | AC1: IB_C_2 | AD1: IB_C_3 | AE1: IB_C_4 | AF1: IB_C_5 | AG1: IB_C_6 | AH1: IB_C_7 | AI1: IB_C_8 | AJ1: IB_C_9 | AK1: IB_C_10 | AL1: IB_A_1 | AM1: IB_A_2 | AN1: IB_A_3 | AO1: IB_A_4 | AP1: IB_A_5 | AQ1: IB_A_6 | AR1: IB_A_7 | AS1: IB_A_8 | AT1: IB_A_9 | AU1: IB_A_10 | AV1: RD_IC_1 | AW1: RD_IC_2 | AX1: RD_IC_3 | AY1: RD_IC_4 | AZ1: RD_IC_5 | BA1: RD_IC_6 | BB1: RD_IC_7 | BC1: RD_IC_8 | BD1: RD_IC_9 | BE1: RD_IC_10 | BF1: RD_IC_11 | BG1: RD_GS_1 | BH1: RD_GS_2 | BI1: RD_GS_3 | BJ1: RD_GS_4 | BK1: RD_GS_5 | BL1: RD_GS_6 | BM1: RD_GS_7 | BN1: RD_GS_8 | BO1: RD_GS_9 | BP1: RD_GS_10
A2: 45329.447 | B2: nursalmaa27@gmail.com | C2: Ya, Saya bersedia | D2: Perempuan | E2: Jakarta Timur | F2: Mahasiswa/i | G2: 20 | H2: Rp1.000.000 - Rp3.000.000 | I2: Uang saku | J2: < 1 tahun | K2: Rp500.000 - Rp1.000.000 | L2: 0895604681603 | M2: 4 | N2: 4 | O2: 5 | P2: 4 | Q2: 5 | R2: 5 | S2: 4 | T2: 4 | U2: 4 | V2: 5 | W2: 4 | X2: 4 | Y2: 4 | Z2: 5 | AA2: 4 | AB2: 2 | AC2: 2 | AD2: 6 | AE2: 3 | AF2: 2 | AG2: 2 | AH2: 2 | AI2: 2 | AJ2: 5 | AK2: 6 | AL2: 6 | AM2: 6 | AN2: 2 | AO2: 6 | AP2: 6 | AQ2: 6 | AR2: 6 | AS2: 6 | AT2: 6 | AU2: 6 | AV2: 4 | AW2: 4 | AX2: 4 | AY2: 4 | AZ2: 4 | BA2: 4 | BB2: 4 | BC2: 4 | BD2: 2 | BE2: 2 | BF2: 4 | BG2: 3 | BH2: 4 | BI2: 3 | BJ2: 4 | BK2: 4 | BL2: 3 | BM2: 4 | BN2: 4 | BO2: 3 | BP2: 4
A3: 45329.46 | B3: erikrmdhn10@gmail.com | C3: Ya, Saya bersedia | D3: Laki-laki | E3: Jawa Barat | F3: Karyawan Swasta | G3: 25 | H3: < Rp1.000.000 | I3: Uang saku, Gaji | J3: < 1 tahun | K3: < Rp200.000 | L3: 085157264557 | M3: 4 | N3: 5 | O3: 4 | P3: 5 | Q3: 3 | R3: 5 | S3: 4 | T3: 5 | U3: 4 | V3: 5 | W3: 4 | X3: 5 | Y3: 5 | Z3: 3 | AA3: 5 | AB3: 7 | AC3: 7 | AD3: 3 | AE3: 7 | AF3: 7 | AG3: 7 | AH3: 7 | AI3: 7 | AJ3: 4 | AK3: 1 | AL3: 3 | AM3: 1 | AN3: 6 | AO3: 7 | AP3: 5 | AQ3: 5 | AR3: 1 | AS3: 1 | AT3: 1 | AU3: 1 | AV3: 4 | AW3: 1 | AX3: 1 | AY3: 5 | AZ3: 1 | BA3: 5 | BB3: 4 | BC3: 2 | BD3: 5 | BE3: 5 | BF3: 1 | BG3: 4 | BH3: 5 | BI3: 4 | BJ3: 5 | BK3: 4 | BL3: 5 | BM3: 1 | BN3: 3 | BO3: 5 | BP3: 5
A4: 45329.462 | B4: debchoi91@gmail.com | C4: Ya, Saya bersedia | D4: Perempuan | E4: banten | F4: Karyawan Swasta | G4: 25 | H4: Rp3.000.000 - Rp5.000.000 | I4: Gaji | J4: > 7 tahun | K4: Rp500.000 - Rp1.000.000 | L4: 085782251151 | M4: 5 | N4: 5 | O4: 5 | P4: 5 | Q4: 5 | R4: 5 | S4: 5 | T4: 5 | U4: 5 | V4: 5 | W4: 5 | X4: 5 | Y4: 5 | Z4: 5 | AA4: 5 | AB4: 7 | AC4: 7 | AD4: 7 | AE4: 7 | AF4: 7 | AG4: 7 | AH4: 7 | AI4: 7 | AJ4: 7 | AK4: 7 | AL4: 7 | AM4: 7 | AN4: 6 | AO4: 2 | AP4: 7 | AQ4: 7 | AR4: 7 | AS4: 7 | AT4: 7 | AU4: 7 | AV4: 5 | AW4: 5 | AX4: 5 | AY4: 5 | AZ4: 5 | BA4: 2 | BB4: 2 | BC4: 5 | BD4: 5 | BE4: 2 | BF4: 2 | BG4: 5 | BH4: 5 | BI4: 4 | BJ4: 5 | BK4: 5 | BL4: 5 | BM4: 5 | BN4: 5 | BO4: 5 | BP4: 4
A5: 45329.473 | B5: biyarasyid3@gmail.com | C5: Ya, Saya bersedia | D5: Perempuan | E5: Jawa Tengah | F5: Mahasiswa/i | G5: 20 | H5: Rp1.000.000 - Rp3.000.000 | I5: Uang saku | J5: 5 - 7 tahun | K5: > Rp5.000.000 | L5: 085398613470 | M5: 5 | N5: 4 | O5: 5 | P5: 4 | Q5: 5 | R5: 4 | S5: 5 | T5: 4 | U5: 5 | V5: 4 | W5: 5 | X5: 4 | Y5: 5 | Z5: 4 | AA5: 5 | AB5: 3 | AC5: 2 | AD5: 1 | AE5: 2 | AF5: 3 | AG5: 1 | AH5: 2 | AI5: 1 | AJ5: 3 | AK5: 1 | AL5: 2 | AM5: 1 | AN5: 3 | AO5: 2 | AP5: 3 | AQ5: 1 | AR5: 3 | AS5: 1 | AT5: 2 | AU5: 1 | AV5: 5 | AW5: 4 | AX5: 5 | AY5: 4 | AZ5: 5 | BA5: 2 | BB5: 1 | BC5: 4 | BD5: 1 | BE5: 2 | BF5: 5 | BG5: 2 | BH5: 1 | BI5: 2 | BJ5: 2 | BK5: 4 | BL5: 2 | BM5: 4 | BN5: 2 | BO5: 2 | BP5: 1
A6: 45329.477 | B6: rifaisnaininurzain@gmail.com | C6: Ya, Saya bersedia | D6: Perempuan | E6: Jogja | F6: Mahasiswa/i | G6: 22 | H6: < Rp1.000.000 | I6: Uang saku | J6: 1 - 3 tahun | K6: < Rp200.000 | L6: 082225086029 | M6: 5 | N6: 4 | O6: 5 | P6: 4 | Q6: 5 | R6: 4 | S6: 5 | T6: 4 | U6: 5 | V6: 4 | W6: 5 | X6: 4 | Y6: 5 | Z6: 4 | AA6: 5 | AB6: 7 | AC6: 6 | AD6: 7 | AE6: 5 | AF6: 6 | AG6: 7 | AH6: 6 | AI6: 7 | AJ6: 5 | AK6: 6 | AL6: 7 | AM6: 6 | AN6: 7 | AO6: 5 | AP6: 6 | AQ6: 7 | AR6: 6 | AS6: 6 | AT6: 7 | AU6: 5 | AV6: 5 | AW6: 4 | AX6: 5 | AY6: 4 | AZ6: 5 | BA6: 4 | BB6: 5 | BC6: 3 | BD6: 5 | BE6: 4 | BF6: 3 | BG6: 4 | BH6: 5 | BI6: 4 | BJ6: 5 | BK6: 4 | BL6: 4 | BM6: 5 | BN6: 4 | BO6: 5 | BP6: 4
A7: 45329.502 | B7: destyaalfitri@gmail.com | C7: Ya, Saya bersedia | D7: Perempuan | E7: DKI Jakarta | F7: Mahasiswa/i | G7: 22 | H7: Rp1.000.000 - Rp3.000.000 | I7: Uang saku | J7: 1 - 3 tahun | K7: Rp200.000 - Rp500.000 | M7: 4 | N7: 5 | O7: 5 | P7: 4 | Q7: 4 | R7: 5 | S7: 5 | T7: 4 | U7: 4 | V7: 5 | W7: 5 | X7: 5 | Y7: 5 | Z7: 4 | AA7: 5 | AB7: 6 | AC7: 7 | AD7: 6 | AE7: 6 | AF7: 6 | AG7: 6 | AH7: 7 | AI7: 5 | AJ7: 7 | AK7: 6 | AL7: 5 | AM7: 7 | AN7: 5 | AO7: 6 | AP7: 6 | AQ7: 7 | AR7: 6 | AS7: 5 | AT7: 5 | AU7: 6 | AV7: 4 | AW7: 5 | AX7: 4 | AY7: 5 | AZ7: 5 | BA7: 4 | BB7: 5 | BC7: 4 | BD7: 5 | BE7: 4 | BF7: 5 | BG7: 4 | BH7: 5 | BI7: 4 | BJ7: 4 | BK7: 5 | BL7: 5 | BM7: 4 | BN7: 5 | BO7: 5 | BP7: 4
A8: 45329.639 | B8: jovankangel12@gmail.com | C8: Ya, Saya bersedia | D8: Perempuan | E8: Banten | F8: Mahasiswa/i | G8: 20 | H8: Rp1.000.000 - Rp3.000.000 | I8: Uang saku | J8: 3 - 5 tahun | K8: < Rp200.000 | L8: 082169372515 | M8: 4 | N8: 5 | O8: 5 | P8: 4 | Q8: 4 | R8: 5 | S8: 5 | T8: 4 | U8: 4 | V8: 5 | W8: 4 | X8: 4 | Y8: 4 | Z8: 5 | AA8: 5 | AB8: 5 | AC8: 5 | AD8: 3 | AE8: 5 | AF8: 5 | AG8: 5 | AH8: 6 | AI8: 5 | AJ8: 3 | AK8: 4 | AL8: 5 | AM8: 6 | AN8: 6 | AO8: 2 | AP8: 5 | AQ8: 5 | AR8: 5 | AS8: 5 | AT8: 5 | AU8: 5 | AV8: 4 | AW8: 4 | AX8: 2 | AY8: 4 | AZ8: 4 | BA8: 4 | BB8: 4 | BC8: 4 | BD8: 4 | BE8: 4 | BF8: 4 | BG8: 4 | BH8: 4 | BI8: 4 | BJ8: 4 | BK8: 5 | BL8: 4 | BM8: 5 | BN8: 5 | BO8: 2 | BP8: 2
A9: 45329.656 | B9: lutviahintans22@gmail.com | C9: Ya, Saya bersedia | D9: Perempuan | E9: Jawa Timur | F9: Mahasiswa/i | G9: 21 | H9: < Rp1.000.000 | I9: Uang saku | J9: 1 - 3 tahun | K9: Rp200.000 - Rp500.000 | L9: 085156993636 | M9: 4 | N9: 5 | O9: 5 | P9: 5 | Q9: 4 | R9: 3 | S9: 3 | T9: 3 | U9: 4 | V9: 4 | W9: 4 | X9: 4 | Y9: 5 | Z9: 4 | AA9: 5 | AB9: 6 | AC9: 5 | AD9: 4 | AE9: 5 | AF9: 5 | AG9: 6 | AH9: 7 | AI9: 5 | AJ9: 6 | AK9: 6 | AL9: 5 | AM9: 6 | AN9: 6 | AO9: 5 | AP9: 6 | AQ9: 5 | AR9: 7 | AS9: 6 | AT9: 5 | AU9: 6 | AV9: 4 | AW9: 3 | AX9: 3 | AY9: 3 | AZ9: 2 | BA9: 3 | BB9: 4 | BC9: 3 | BD9: 4 | BE9: 4 | BF9: 3 | BG9: 4 | BH9: 4 | BI9: 4 | BJ9: 4 | BK9: 4 | BL9: 3 | BM9: 4 | BN9: 3 | BO9: 4 | BP9: 4
A10: 45329.665 | B10: afdhilla2103@gmail.com | C10: Ya, Saya bersedia | D10: Perempuan | E10: Lampung | F10: Mahasiswa/i | G10: 22 | H10: < Rp1.000.000 | I10: Uang saku | J10: 1 - 3 tahun | K10: < Rp200.000 | L10: 081440043967 | M10: 4 | N10: 4 | O10: 5 | P10: 5 | Q10: 5 | R10: 4 | S10: 4 | T10: 4 | U10: 4 | V10: 4 | W10: 4 | X10: 3 | Y10: 4 | Z10: 2 | AA10: 3 | AB10: 7 | AC10: 6 | AD10: 4 | AE10: 6 | AF10: 6 | AG10: 4 | AH10: 7 | AI10: 7 | AJ10: 7 | AK10: 2 | AL10: 2 | AM10: 2 | AN10: 6 | AO10: 5 | AP10: 7 | AQ10: 7 | AR10: 4 | AS10: 3 | AT10: 5 | AU10: 4 | AV10: 4 | AW10: 4 | AX10: 2 | AY10: 2 | AZ10: 2 | BA10: 4 | BB10: 4 | BC10: 4 | BD10: 5 | BE10: 5 | BF10: 3 | BG10: 4 | BH10: 4 | BI10: 5 | BJ10: 5 | BK10: 5 | BL10: 5 | BM10: 4 | BN10: 4 | BO10: 3 | BP10: 5
A11: 45329.691 | B11: nuryanisafitri28@gmail.com | C11: Ya, Saya bersedia | D11: Perempuan | E11: Jawa Timur | F11: Mahasiswa/i | G11: 22 | H11: < Rp1.000.000 | I11: Uang saku | J11: > 7 tahun | K11: Rp200.000 - Rp500.000 | L11: 089682320352 | M11: 4 | N11: 4 | O11: 5 | P11: 4 | Q11: 4 | R11: 4 | S11: 4 | T11: 4 | U11: 5 | V11: 4 | W11: 4 | X11: 3 | Y11: 4 | Z11: 3 | AA11: 4 | AB11: 6 | AC11: 2 | AD11: 6 | AE11: 3 | AF11: 5 | AG11: 2 | AH11: 7 | AI11: 6 | AJ11: 7 | AK11: 6 | AL11: 7 | AM11: 7 | AN11: 7 | AO11: 2 | AP11: 7 | AQ11: 7 | AR11: 5 | AS11: 6 | AT11: 6 | AU11: 7 | AV11: 4 | AW11: 5 | AX11: 4 | AY11: 5 | AZ11: 5 | BA11: 3 | BB11: 4 | BC11: 4 | BD11: 4 | BE11: 5 | BF11: 4 | BG11: 5 | BH11: 2 | BI11: 4 | BJ11: 4 | BK11: 5 | BL11: 4 | BM11: 4 | BN11: 4 | BO11: 4 | BP11: 2
A12: 45329.692 | B12: kmasudhin@gmail.com | C12: Ya, Saya bersedia | D12: Laki-laki | E12: Jawa Timur | F12: Karyawan Swasta | G12: 25 | H12: Rp3.000.000 - Rp5.000.000 | I12: Gaji | J12: 5 - 7 tahun | K12: Rp200.000 - Rp500.000 | L12: 087703382756 | M12: 4 | N12: 2 | O12: 4 | P12: 2 | Q12: 4 | R12: 2 | S12: 2 | T12: 2 | U12: 2 | V12: 2 | W12: 2 | X12: 2 | Y12: 2 | Z12: 2 | AA12: 2 | AB12: 6 | AC12: 6 | AD12: 2 | AE12: 6 | AF12: 2 | AG12: 6 | AH12: 6 | AI12: 6 | AJ12: 2 | AK12: 2 | AL12: 6 | AM12: 6 | AN12: 6 | AO12: 6 | AP12: 6 | AQ12: 6 | AR12: 2 | AS12: 6 | AT12: 2 | AU12: 6 | AV12: 4 | AW12: 2 | AX12: 4 | AY12: 4 | AZ12: 2 | BA12: 4 | BB12: 4 | BC12: 4 | BD12: 2 | BE12: 1 | BF12: 2 | BG12: 4 | BH12: 4 | BI12: 4 | BJ12: 4 | BK12: 2 | BL12: 4 | BM12: 4 | BN12: 4 | BO12: 4 | BP12: 2
A13: 45329.709 | B13: haniefm271@gmail.com | C13: Ya, Saya bersedia | D13: Laki-laki | E13: Jawa Timur | F13: Mahasiswa/i | G13: 22 | H13: Rp1.000.000 - Rp3.000.000 | I13: Uang saku | J13: < 1 tahun | K13: Rp200.000 - Rp500.000 | M13: 3 | N13: 4 | O13: 4 | P13: 4 | Q13: 5 | R13: 4 | S13: 4 | T13: 3 | U13: 5 | V13: 5 | W13: 4 | X13: 4 | Y13: 5 | Z13: 4 | AA13: 3 | AB13: 5 | AC13: 4 | AD13: 4 | AE13: 5 | AF13: 4 | AG13: 5 | AH13: 4 | AI13: 5 | AJ13: 5 | AK13: 4 | AL13: 7 | AM13: 6 | AN13: 6 | AO13: 4 | AP13: 6 | AQ13: 6 | AR13: 5 | AS13: 5 | AT13: 6 | AU13: 4 | AV13: 4 | AW13: 4 | AX13: 3 | AY13: 5 | AZ13: 5 | BA13: 4 | BB13: 3 | BC13: 3 | BD13: 4 | BE13: 4 | BF13: 2 | BG13: 3 | BH13: 3 | BI13: 4 | BJ13: 3 | BK13: 5 | BL13: 5 | BM13: 3 | BN13: 3 | BO13: 3 | BP13: 3
A14: 45329.816 | B14: fiskadevina@gmail.com | C14: Ya, Saya bersedia | D14: Perempuan | E14: Jawa Timur | F14: Mahasiswa/i | G14: 19 | H14: Rp3.000.000 - Rp5.000.000 | I14: Uang saku | J14: 1 - 3 tahun | K14: Rp200.000 - Rp500.000 | L14: 085895088920 | M14: 4 | N14: 3 | O14: 5 | P14: 4 | Q14: 3 | R14: 5 | S14: 4 | T14: 5 | U14: 5 | V14: 4 | W14: 5 | X14: 3 | Y14: 5 | Z14: 4 | AA14: 4 | AB14: 7 | AC14: 6 | AD14: 4 | AE14: 6 | AF14: 7 | AG14: 5 | AH14: 5 | AI14: 7 | AJ14: 4 | AK14: 4 | AL14: 6 | AM14: 5 | AN14: 4 | AO14: 4 | AP14: 7 | AQ14: 6 | AR14: 5 | AS14: 4 | AT14: 5 | AU14: 5 | AV14: 3 | AW14: 4 | AX14: 4 | AY14: 3 | AZ14: 3 | BA14: 5 | BB14: 4 | BC14: 3 | BD14: 5 | BE14: 5 | BF14: 3 | BG14: 3 | BH14: 4 | BI14: 5 | BJ14: 5 | BK14: 3 | BL14: 4 | BM14: 3 | BN14: 5 | BO14: 4 | BP14: 3
A15: 45329.918 | B15: shafnadinaraulani@gmail.com | C15: Ya, Saya bersedia | D15: Perempuan | E15: Jawa Tengah | F15: Mahasiswa/i | G15: 21 | H15: Rp1.000.000 - Rp3.000.000 | I15: Uang saku | J15: > 7 tahun | K15: Rp1.000.000 - Rp3.000.000 | M15: 5 | N15: 4 | O15: 5 | P15: 5 | Q15: 5 | R15: 4 | S15: 4 | T15: 4 | U15: 5 | V15: 5 | W15: 4 | X15: 4 | Y15: 5 | Z15: 4 | AA15: 5 | AB15: 4 | AC15: 3 | AD15: 6 | AE15: 4 | AF15: 4 | AG15: 3 | AH15: 4 | AI15: 4 | AJ15: 6 | AK15: 5 | AL15: 7 | AM15: 6 | AN15: 7 | AO15: 3 | AP15: 6 | AQ15: 5 | AR15: 7 | AS15: 5 | AT15: 6 | AU15: 6 | AV15: 3 | AW15: 5 | AX15: 4 | AY15: 2 | AZ15: 1 | BA15: 4 | BB15: 4 | BC15: 3 | BD15: 2 | BE15: 4 | BF15: 2 | BG15: 2 | BH15: 4 | BI15: 4 | BJ15: 5 | BK15: 5 | BL15: 4 | BM15: 4 | BN15: 2 | BO15: 4 | BP15: 3
A16: 45330.538 | B16: hanna.melya@gmail.com | C16: Ya, Saya bersedia | D16: Perempuan | E16: DKI Jakarta | F16: Mahasiswa/i | G16: 20 | H16: Rp1.000.000 - Rp3.000.000 | I16: Uang saku | J16: 3 - 5 tahun | K16: Rp500.000 - Rp1.000.000 | L16: 085716508262 | M16: 4 | N16: 5 | O16: 5 | P16: 4 | Q16: 5 | R16: 5 | S16: 4 | T16: 5 | U16: 5 | V16: 5 | W16: 4 | X16: 5 | Y16: 4 | Z16: 4 | AA16: 5 | AB16: 6 | AC16: 2 | AD16: 6 | AE16: 3 | AF16: 3 | AG16: 2 | AH16: 6 | AI16: 4 | AJ16: 6 | AK16: 6 | AL16: 6 | AM16: 6 | AN16: 6 | AO16: 3 | AP16: 7 | AQ16: 6 | AR16: 6 | AS16: 6 | AT16: 6 | AU16: 7 | AV16: 5 | AW16: 5 | AX16: 4 | AY16: 4 | AZ16: 3 | BA16: 2 | BB16: 5 | BC16: 4 | BD16: 4 | BE16: 4 | BF16: 2 | BG16: 4 | BH16: 5 | BI16: 5 | BJ16: 5 | BK16: 2 | BL16: 5 | BM16: 3 | BN16: 4 | BO16: 5 | BP16: 5
A17: 45330.557 | B17: hanna.melya@gmail.com | C17: Ya, Saya bersedia | D17: Perempuan | E17: Jakarta | F17: Mahasiswa/i | G17: 19 | H17: Rp1.000.000 - Rp3.000.000 | I17: Uang saku | J17: 5 - 7 tahun | K17: Rp1.000.000 - Rp3.000.000 | L17: 087821637196 | M17: 4 | N17: 5 | O17: 5 | P17: 4 | Q17: 5 | R17: 4 | S17: 4 | T17: 5 | U17: 5 | V17: 5 | W17: 5 | X17: 4 | Y17: 5 | Z17: 4 | AA17: 4 | AB17: 6 | AC17: 2 | AD17: 6 | AE17: 2 | AF17: 3 | AG17: 2 | AH17: 6 | AI17: 2 | AJ17: 7 | AK17: 6 | AL17: 6 | AM17: 6 | AN17: 7 | AO17: 2 | AP17: 7 | AQ17: 6 | AR17: 6 | AS17: 7 | AT17: 6 | AU17: 7 | AV17: 5 | AW17: 5 | AX17: 4 | AY17: 4 | AZ17: 2 | BA17: 2 | BB17: 5 | BC17: 4 | BD17: 5 | BE17: 4 | BF17: 2 | BG17: 5 | BH17: 5 | BI17: 5 | BJ17: 5 | BK17: 1 | BL17: 4 | BM17: 4 | BN17: 5 | BO17: 5 | BP17: 4
A18: 45330.558 | B18: hanna.melya@gmail.com | C18: Ya, Saya bersedia | D18: Perempuan | E18: Jakarta | F18: Mahasiswa/i | G18: 21 | H18: < Rp1.000.000 | I18: Uang saku | J18: 1 - 3 tahun | K18: Rp500.000 - Rp1.000.000 | L18: 085816729913 | M18: 5 | N18: 4 | O18: 5 | P18: 5 | Q18: 4 | R18: 5 | S18: 4 | T18: 4 | U18: 5 | V18: 5 | W18: 4 | X18: 4 | Y18: 4 | Z18: 5 | AA18: 5 | AB18: 6 | AC18: 3 | AD18: 7 | AE18: 2 | AF18: 3 | AG18: 3 | AH18: 6 | AI18: 6 | AJ18: 6 | AK18: 5 | AL18: 7 | AM18: 6 | AN18: 7 | AO18: 3 | AP18: 6 | AQ18: 6 | AR18: 7 | AS18: 7 | AT18: 6 | AU18: 6 | AV18: 4 | AW18: 5 | AX18: 4 | AY18: 4 | AZ18: 3 | BA18: 1 | BB18: 5 | BC18: 4 | BD18: 5 | BE18: 5 | BF18: 2 | BG18: 5 | BH18: 4 | BI18: 5 | BJ18: 5 | BK18: 1 | BL18: 5 | BM18: 3 | BN18: 5 | BO18: 4 | BP18: 4
A19: 45330.587 | B19: ellameisyach@gmail.com | C19: Ya, Saya bersedia | D19: Perempuan | E19: Jawa Tengah | F19: Mahasiswa/i | G19: 21 | H19: < Rp1.000.000 | I19: Uang saku | J19: 1 - 3 tahun | K19: Rp200.000 - Rp500.000 | M19: 4 | N19: 4 | O19: 4 | P19: 4 | Q19: 3 | R19: 4 | S19: 4 | T19: 3 | U19: 4 | V19: 4 | W19: 4 | X19: 4 | Y19: 4 | Z19: 4 | AA19: 4 | AB19: 6 | AC19: 5 | AD19: 4 | AE19: 4 | AF19: 4 | AG19: 4 | AH19: 5 | AI19: 6 | AJ19: 4 | AK19: 3 | AL19: 4 | AM19: 3 | AN19: 3 | AO19: 4 | AP19: 5 | AQ19: 2 | AR19: 3 | AS19: 3 | AT19: 2 | AU19: 4 | AV19: 2 | AW19: 3 | AX19: 2 | AY19: 2 | AZ19: 2 | BA19: 3 | BB19: 2 | BC19: 2 | BD19: 4 | BE19: 4 | BF19: 1 | BG19: 4 | BH19: 4 | BI19: 4 | BJ19: 4 | BK19: 3 | BL19: 4 | BM19: 3 | BN19: 3 | BO19: 3 | BP19: 3
A20: 45331.468 | B20: sbilnlfaz1@gmail.com | C20: Ya, Saya bersedia | D20: Perempuan | E20: Jawa Barat | F20: Mahasiswa/i | G20: 21 | H20: < Rp1.000.000 | I20: Uang saku | J20: > 7 tahun | K20: Rp200.000 - Rp500.000 | L20: 085703617186 | M20: 5 | N20: 4 | O20: 5 | P20: 4 | Q20: 1 | R20: 3 | S20: 3 | T20: 3 | U20: 4 | V20: 5 | W20: 4 | X20: 4 | Y20: 4 | Z20: 4 | AA20: 5 | AB20: 5 | AC20: 3 | AD20: 6 | AE20: 4 | AF20: 3 | AG20: 3 | AH20: 5 | AI20: 5 | AJ20: 5 | AK20: 5 | AL20: 5 | AM20: 7 | AN20: 5 | AO20: 5 | AP20: 5 | AQ20: 4 | AR20: 4 | AS20: 4 | AT20: 4 | AU20: 7 | AV20: 3 | AW20: 2 | AX20: 4 | AY20: 3 | AZ20: 4 | BA20: 3 | BB20: 3 | BC20: 4 | BD20: 3 | BE20: 3 | BF20: 4 | BG20: 3 | BH20: 2 | BI20: 4 | BJ20: 4 | BK20: 5 | BL20: 4 | BM20: 4 | BN20: 3 | BO20: 3 | BP20: 1
A21: 45331.897 | B21: linandasavitri@gmail.com | C21: Ya, Saya bersedia | D21: Perempuan | E21: Jawa Timur | F21: Mahasiswa/i | G21: 22 | H21: Rp1.000.000 - Rp3.000.000 | I21: Uang saku | J21: 3 - 5 tahun | K21: Rp200.000 - Rp500.000 | M21: 4 | N21: 5 | O21: 4 | P21: 5 | Q21: 2 | R21: 5 | S21: 5 | T21: 4 | U21: 4 | V21: 4 | W21: 4 | X21: 4 | Y21: 4 | Z21: 3 | AA21: 4 | AB21: 3 | AC21: 6 | AD21: 7 | AE21: 2 | AF21: 3 | AG21: 1 | AH21: 5 | AI21: 4 | AJ21: 5 | AK21: 7 | AL21: 6 | AM21: 7 | AN21: 6 | AO21: 4 | AP21: 5 | AQ21: 3 | AR21: 6 | AS21: 6 | AT21: 7 | AU21: 6 | AV21: 2 | AW21: 4 | AX21: 4 | AY21: 5 | AZ21: 3 | BA21: 2 | BB21: 4 | BC21: 4 | BD21: 3 | BE21: 4 | BF21: 1 | BG21: 5 | BH21: 4 | BI21: 4 | BJ21: 5 | BK21: 3 | BL21: 4 | BM21: 5 | BN21: 3 | BO21: 3 | BP21: 4
A22: 45332.641 | B22: zulfahna08@gmail.com | C22: Ya, Saya bersedia | D22: Perempuan | E22: Jawa Tengah | F22: Mahasiswa/i | G22: 20 | H22: < Rp1.000.000 | I22: Uang saku | J22: 3 - 5 tahun | K22: Rp500.000 - Rp1.000.000 | L22: 088802645667 | M22: 4 | N22: 3 | O22: 4 | P22: 3 | Q22: 2 | R22: 3 | S22: 3 | T22: 3 | U22: 3 | V22: 3 | W22: 3 | X22: 3 | Y22: 3 | Z22: 2 | AA22: 3 | AB22: 5 | AC22: 4 | AD22: 3 | AE22: 3 | AF22: 3 | AG22: 4 | AH22: 5 | AI22: 4 | AJ22: 6 | AK22: 5 | AL22: 4 | AM22: 5 | AN22: 5 | AO22: 5 | AP22: 5 | AQ22: 5 | AR22: 3 | AS22: 2 | AT22: 5 | AU22: 5 | AV22: 3 | AW22: 4 | AX22: 3 | AY22: 4 | AZ22: 4 | BA22: 2 | BB22: 4 | BC22: 4 | BD22: 4 | BE22: 2 | BF22: 4 | BG22: 3 | BH22: 3 | BI22: 4 | BJ22: 4 | BK22: 4 | BL22: 3 | BM22: 4 | BN22: 4 | BO22: 4 | BP22: 3
A23: 45332.842 | B23: nabilarahandi@gmail.com | C23: Ya, Saya bersedia | D23: Perempuan | E23: Sumatra Barat | F23: Mahasiswa/i | G23: 21 | H23: Rp1.000.000 - Rp3.000.000 | I23: Uang saku | J23: 3 - 5 tahun | K23: Rp500.000 - Rp1.000.000 | L23: 082171381885 | M23: 5 | N23: 5 | O23: 5 | P23: 5 | Q23: 4 | R23: 4 | S23: 5 | T23: 4 | U23: 5 | V23: 4 | W23: 4 | X23: 4 | Y23: 4 | Z23: 4 | AA23: 4 | AB23: 6 | AC23: 3 | AD23: 5 | AE23: 5 | AF23: 3 | AG23: 3 | AH23: 7 | AI23: 5 | AJ23: 3 | AK23: 5 | AL23: 5 | AM23: 5 | AN23: 5 | AO23: 3 | AP23: 7 | AQ23: 6 | AR23: 6 | AS23: 5 | AT23: 3 | AU23: 5 | AV23: 2 | AW23: 2 | AX23: 1 | AY23: 2 | AZ23: 1 | BA23: 4 | BB23: 4 | BC23: 2 | BD23: 5 | BE23: 5 | BF23: 2 | BG23: 4 | BH23: 4 | BI23: 4 | BJ23: 5 | BK23: 2 | BL23: 4 | BM23: 1 | BN23: 4 | BO23: 4 | BP23: 4
A24: 45334.575 | B24: suci.sasti26@gmail.com | C24: Ya, Saya bersedia | D24: Perempuan | E24: Jakarta | F24: Mahasiswa/i | G24: 21 | H24: < Rp1.000.000 | I24: Uang saku | J24: 1 - 3 tahun | K24: Rp500.000 - Rp1.000.000 | L24: 085773605978 | M24: 5 | N24: 5 | O24: 4 | P24: 5 | Q24: 4 | R24: 5 | S24: 4 | T24: 5 | U24: 4 | V24: 5 | W24: 4 | X24: 3 | Y24: 4 | Z24: 5 | AA24: 4 | AB24: 6 | AC24: 3 | AD24: 6 | AE24: 7 | AF24: 5 | AG24: 4 | AH24: 6 | AI24: 6 | AJ24: 5 | AK24: 3 | AL24: 5 | AM24: 6 | AN24: 4 | AO24: 5 | AP24: 7 | AQ24: 5 | AR24: 5 | AS24: 5 | AT24: 6 | AU24: 6 | AV24: 4 | AW24: 5 | AX24: 5 | AY24: 4 | AZ24: 5 | BA24: 4 | BB24: 5 | BC24: 4 | BD24: 5 | BE24: 4 | BF24: 5 | BG24: 4 | BH24: 5 | BI24: 4 | BJ24: 5 | BK24: 4 | BL24: 5 | BM24: 5 | BN24: 4 | BO24: 5 | BP24: 5
A25: 45337.384 | B25: kiranahayu@gmail.com | C25: Ya, Saya bersedia | D25: Perempuan | E25: DKI Jakarta | F25: Freelancer | G25: 23 | H25: < Rp1.000.000 | I25: Gaji | J25: 3 - 5 tahun | K25: Rp200.000 - Rp500.000 | L25: 081285439018 | M25: 4 | N25: 4 | O25: 5 | P25: 4 | Q25: 2 | R25: 3 | S25: 3 | T25: 4 | U25: 3 | V25: 3 | W25: 3 | X25: 4 | Y25: 4 | Z25: 4 | AA25: 4 | AB25: 6 | AC25: 7 | AD25: 3 | AE25: 7 | AF25: 5 | AG25: 6 | AH25: 7 | AI25: 5 | AJ25: 2 | AK25: 1 | AL25: 1 | AM25: 1 | AN25: 1 | AO25: 4 | AP25: 6 | AQ25: 4 | AR25: 5 | AS25: 4 | AT25: 1 | AU25: 4 | AV25: 1 | AW25: 2 | AX25: 1 | AY25: 1 | AZ25: 1 | BA25: 3 | BB25: 3 | BC25: 1 | BD25: 4 | BE25: 5 | BF25: 1 | BG25: 3 | BH25: 4 | BI25: 4 | BJ25: 4 | BK25: 1 | BL25: 3 | BM25: 1 | BN25: 4 | BO25: 4 | BP25: 5
A26: 45337.39 | B26: madebysuar@gmail.com | C26: Ya, Saya bersedia | D26: Perempuan | E26: Jawa Timur | F26: Mahasiswa/i | G26: 23 | H26: < Rp1.000.000 | I26: Uang saku | J26: 1 - 3 tahun | K26: Rp1.000.000 - Rp3.000.000 | L26: 087864935760 | M26: 4 | N26: 4 | O26: 4 | P26: 4 | Q26: 3 | R26: 4 | S26: 4 | T26: 4 | U26: 4 | V26: 4 | W26: 4 | X26: 4 | Y26: 4 | Z26: 4 | AA26: 4 | AB26: 4 | AC26: 5 | AD26: 6 | AE26: 5 | AF26: 4 | AG26: 2 | AH26: 7 | AI26: 6 | AJ26: 4 | AK26: 4 | AL26: 7 | AM26: 6 | AN26: 4 | AO26: 2 | AP26: 6 | AQ26: 4 | AR26: 4 | AS26: 6 | AT26: 5 | AU26: 7 | AV26: 1 | AW26: 3 | AX26: 1 | AY26: 2 | AZ26: 1 | BA26: 4 | BB26: 3 | BC26: 2 | BD26: 4 | BE26: 5 | BF26: 2 | BG26: 5 | BH26: 5 | BI26: 5 | BJ26: 5 | BK26: 1 | BL26: 5 | BM26: 1 | BN26: 5 | BO26: 5 | BP26: 5
A27: 45337.392 | B27: rizqikhattatah24@gmail.com | C27: Ya, Saya bersedia | D27: Perempuan | E27: Jawa Timur | F27: Mahasiswa/i | G27: 20 | H27: < Rp1.000.000 | I27: Uang saku | J27: 3 - 5 tahun | K27: < Rp200.000 | L27: 085746157515 | M27: 5 | N27: 5 | O27: 5 | P27: 5 | Q27: 1 | R27: 5 | S27: 5 | T27: 5 | U27: 5 | V27: 5 | W27: 5 | X27: 5 | Y27: 5 | Z27: 5 | AA27: 5 | AB27: 7 | AC27: 7 | AD27: 6 | AE27: 7 | AF27: 7 | AG27: 2 | AH27: 7 | AI27: 7 | AJ27: 6 | AK27: 1 | AL27: 1 | AM27: 1 | AN27: 4 | AO27: 1 | AP27: 6 | AQ27: 7 | AR27: 3 | AS27: 1 | AT27: 2 | AU27: 1 | AV27: 1 | AW27: 4 | AX27: 1 | AY27: 3 | AZ27: 1 | BA27: 3 | BB27: 5 | BC27: 4 | BD27: 5 | BE27: 5 | BF27: 1 | BG27: 5 | BH27: 5 | BI27: 4 | BJ27: 5 | BK27: 1 | BL27: 5 | BM27: 2 | BN27: 4 | BO27: 5 | BP27: 5
A28: 45337.393 | B28: nuraini.7219@gmail.com | C28: Ya, Saya bersedia | D28: Perempuan | E28: Jawa Timur | F28: Mahasiswa/i | G28: 21 | H28: Rp1.000.000 - Rp3.000.000 | I28: Uang saku | J28: < 1 tahun | K28: < Rp200.000 | L28: 081235429244 | M28: 4 | N28: 3 | O28: 4 | P28: 4 | Q28: 4 | R28: 3 | S28: 3 | T28: 4 | U28: 3 | V28: 4 | W28: 3 | X28: 3 | Y28: 3 | Z28: 3 | AA28: 5 | AB28: 6 | AC28: 5 | AD28: 4 | AE28: 5 | AF28: 5 | AG28: 6 | AH28: 7 | AI28: 6 | AJ28: 6 | AK28: 2 | AL28: 5 | AM28: 4 | AN28: 5 | AO28: 5 | AP28: 5 | AQ28: 3 | AR28: 3 | AS28: 2 | AT28: 2 | AU28: 5 | AV28: 4 | AW28: 4 | AX28: 2 | AY28: 3 | AZ28: 2 | BA28: 5 | BB28: 4 | BC28: 2 | BD28: 3 | BE28: 4 | BF28: 2 | BG28: 5 | BH28: 4 | BI28: 4 | BJ28: 4 | BK28: 2 | BL28: 3 | BM28: 3 | BN28: 3 | BO28: 4 | BP28: 4
A29: 45337.424 | B29: shirokuro197@gmail.com | C29: Ya, Saya bersedia | D29: Laki-laki | E29: Jawa Timur | F29: Karyawan Swasta | G29: 23 | H29: Rp3.000.000 - Rp5.000.000 | I29: Gaji | J29: 1 - 3 tahun | K29: < Rp200.000 | L29: 082264207956 | M29: 5 | N29: 5 | O29: 5 | P29: 5 | Q29: 4 | R29: 5 | S29: 4 | T29: 3 | U29: 5 | V29: 5 | W29: 4 | X29: 4 | Y29: 4 | Z29: 3 | AA29: 5 | AB29: 7 | AC29: 7 | AD29: 3 | AE29: 6 | AF29: 5 | AG29: 6 | AH29: 7 | AI29: 7 | AJ29: 7 | AK29: 2 | AL29: 6 | AM29: 4 | AN29: 5 | AO29: 5 | AP29: 6 | AQ29: 5 | AR29: 4 | AS29: 4 | AT29: 3 | AU29: 4 | AV29: 3 | AW29: 4 | AX29: 4 | AY29: 4 | AZ29: 4 | BA29: 3 | BB29: 4 | BC29: 5 | BD29: 3 | BE29: 4 | BF29: 3 | BG29: 4 | BH29: 3 | BI29: 5 | BJ29: 4 | BK29: 3 | BL29: 5 | BM29: 4 | BN29: 5 | BO29: 5 | BP29: 4
A30: 45337.471 | B30: fitriannisa0220@gmail.com | C30: Ya, Saya bersedia | D30: Perempuan | E30: Riau | F30: Mahasiswa/i | G30: 18 | H30: Rp1.000.000 - Rp3.000.000 | I30: Uang saku | J30: > 7 tahun | K30: < Rp200.000 | L30: 0 | M30: 4 | N30: 4 | O30: 5 | P30: 4 | Q30: 5 | R30: 4 | S30: 5 | T30: 4 | U30: 4 | V30: 5 | W30: 4 | X30: 5 | Y30: 5 | Z30: 5 | AA30: 5 | AB30: 3 | AC30: 3 | AD30: 6 | AE30: 4 | AF30: 1 | AG30: 3 | AH30: 1 | AI30: 2 | AJ30: 1 | AK30: 7 | AL30: 5 | AM30: 5 | AN30: 6 | AO30: 7 | AP30: 6 | AQ30: 5 | AR30: 7 | AS30: 5 | AT30: 5 | AU30: 6 | AV30: 4 | AW30: 4 | AX30: 5 | AY30: 5 | AZ30: 4 | BA30: 1 | BB30: 2 | BC30: 4 | BD30: 2 | BE30: 2 | BF30: 5 | BG30: 1 | BH30: 2 | BI30: 3 | BJ30: 1 | BK30: 4 | BL30: 2 | BM30: 5 | BN30: 3 | BO30: 2 | BP30: 1
A31: 45337.472 | B31: gitanasha53@gmail.com | C31: Ya, Saya bersedia | D31: Perempuan | E31: Jawa Tengah | F31: Mahasiswa/i | G31: 20 | H31: Rp1.000.000 - Rp3.000.000 | I31: Uang saku, Gaji | J31: 3 - 5 tahun | K31: Rp500.000 - Rp1.000.000 | L31: 0882003623180 | M31: 5 | N31: 5 | O31: 5 | P31: 4 | Q31: 4 | R31: 5 | S31: 5 | T31: 4 | U31: 5 | V31: 4 | W31: 5 | X31: 4 | Y31: 5 | Z31: 4 | AA31: 5 | AB31: 2 | AC31: 3 | AD31: 7 | AE31: 1 | AF31: 2 | AG31: 1 | AH31: 1 | AI31: 2 | AJ31: 7 | AK31: 6 | AL31: 7 | AM31: 6 | AN31: 7 | AO31: 1 | AP31: 7 | AQ31: 6 | AR31: 5 | AS31: 6 | AT31: 7 | AU31: 7 | AV31: 4 | AW31: 5 | AX31: 5 | AY31: 4 | AZ31: 4 | BA31: 2 | BB31: 3 | BC31: 5 | BD31: 1 | BE31: 2 | BF31: 5 | BG31: 2 | BH31: 1 | BI31: 1 | BJ31: 2 | BK31: 5 | BL31: 1 | BM31: 5 | BN31: 1 | BO31: 2 | BP31: 1
