Workbook

Sheet Form Responses 1
A1: Timestamp | B1: Email Address | C1: Saya telah membaca keterangan diatas dan bersedia berpartisipasi dalam penelitian ini | D1: Jenis kelamin | E1: Asal Provinsi (Contoh : Jawa Timur) | F1: Status / Pekerjaan | G1: Usia (Contoh : 21) | H1: Total Pendapatan Perbulan | I1: Asal pendapatan | J1: Lama menjadi kpopers | K1: Total pengeluaran untuk pembelian barang yang berhubungan dengan idol atau selebriti korea | L1: No. Telp (Bagi yang ingin mengikuti undian) | M1: 1. Selebriti yang tampil dalam iklan produk menarik | N1: 2. Selebriti yang tampil dalam iklan produk adalah orang yang berkelas | O1: 3. Selebriti yang tampil dalam iklan produk tampan/cantik | P1: 4. Selebriti yang tampil dalam iklan produk adalah orang yang elegan | Q1: 5. Selebriti yang tampil dalam iklan produk seksi | R1: 6. Selebriti yang tampil dalam iklan adalah orang yang ahli dalam mewakili produk | S1: 7. Selebriti yang tampil dalam iklan adalah orang yang berpengalaman dalam mewakili produk | T1: 8. Selebriti yang tampil dalam iklan adalah orang yang memiliki pengetahuan dalam mewakili produk | U1: 8. Selebriti yang tampil dalam iklan adalah orang yang berkualitas untuk mewakili produk | V1: 10. Selebriti yang tampil dalam iklan adalah orang yang terampil dalam mewakili produk | W1: 11. Selebriti yang tampil dalam iklan adalah orang yang dapat diandalkan dalam kategori produk | X1: 12. Selebriti yang tampil dalam iklan adalah orang yang jujur dalam kategori produk | Y1: 13. Selebriti yang tampil dalam iklan adalah orang yang dapat diandalkan untuk mewakili produk | Z1: 14. Selebriti yang tampil dalam iklan adalah orang yang tulus dalam mewakili produk | AA1: 15. Selebriti yang tampil dalam iklan adalah orang yang dapat dipercaya untuk mewakili produk | AB1: 1. Saya biasanya berpikir dengan hati-hati sebelum membeli sesuatu | AC1: 2. Saya biasanya hanya membeli barang yang telah saya rencanakan untuk dibeli | AD1: 3. Saya biasanya membeli sesuatu secara spontan | AE1: 4. Kebanyakan pembelian yang saya lakukan telah direncanakan dengan baik | AF1: 5. Saya hanya membeli barang yang benar-benar saya butuhkan | AG1: 6. Saya bukan tipe orang yang melakukan pembelian secara spontan | AH1: 7. Saya suka membandingkan beberapa merek sebelum membeli barang | AI1: 8. Sebelum saya membeli sesuatu, saya selalu mempertimbangkan kembali apakah saya membutuhkan barang tersebut | AJ1: 9. Saya terbiasa untuk membeli barang secara langsung ditempat | AK1: 10. Saya sering membeli barang tanpa berpikir | AL1: 11. Saya merasa kesulitan untuk tidak membeli barang yang menarik | AM1: 12. Saya terkadang tidak bisa menahan diri untuk membeli sesuatu | AN1: 13. Saya terkadang merasa bersalah setelah membeli sesuatu | AO1: 14. Saya bukan tipe orang yang langsung menyukai sesuatu pada saat pertama kali saya melihatnya | AP1: 15. Saya bisa menjadi sangat bersemangat saat melihat sesuatu yang ingin saya beli | AQ1: 16. Saya selalu melihat sesuatu yang menarik setiap kali saya melewati toko | AR1: 17. Saya merasa kesulitan untuk melewatkan suatu penawaran | AS1: 18. Saat saya melihat sesuatu yang baru, saya ingin membelinya | AT1: 19. Saya sedikit sembrono saat membeli sesuatu | AU1: 20. Terkadang saya membeli barang karena saya menyukainya, bukan karena saya membutuhkannya | AV1: 1. Saya tidak menyadari dampak dari tindakan saya hingga sudah terlanjur terjadi | AW1: 2. Saya menunda untuk membuat keputusan | AX1: 3. Sulit bagi saya untuk merasa “cukup” (untuk mengonsumsi sesuatu ) | AY1: 4. Saya memiliki kesulitan untuk bertindak lebih lanjut setelah saya membuat keputusan. | AZ1: 5. Saya merasa tidak belajar dari kesalahan | BA1: 6. Saya biasanya hanya perlu membuat kesalahan satu kali untuk belajar dari kesalahan tersebut. | BB1: 7. Saya biasanya dapat menemukan beberapa kemungkinan jika saya ingin mengubah sesuatu. | BC1: 8. Saya seringkali tidak memperhatikan apa yang saya lakukan sampai seseorang mengingatkan saya. | BD1: 9. Saya biasanya berpikir sebelum bertindak | BE1: 10. Saya belajar dari kesalahan saya | BF1: 11. Saya cepat menyerah | BG1: 12. Saya biasanya melacak perkembangan saya dalam mencapai suatu tujuan | BH1: 13. Saya dapat mencapai tujuan yang sudah saya tetapkan untuk diri saya | BI1: 14. Saya memiliki standar tertentu dan berusaha hidup sesuai standar tersebut | BJ1: 15. Ketika menghadapi suatu masalah atau tantangan, saya segera mencari solusi yang memungkinkan | BK1: 16. Saya merasa kesulitan untuk menetapkan tujuan bagi diri saya | BL1: 17. Ketika saya mencoba mengubah sesuatu, saya memperhatikan apa yang saya lakukan. | BM1: 18. Saya kesulitan membuat rencana untuk membantu saya mencapai tujuan | BN1: 19. Saya menetapkan tujuan untuk diri saya sendiri dan melacak kemajuan saya. | BO1: 20. Jika saya membuat resolusi untuk mengubah sesuatu, saya memperhatikan apa yang saya lakukan | BP1: 21. Saya tahu saya ingin menjadi apa
A2: 45329.447 | B2: nursalmaa27@gmail.com | C2: Ya, Saya bersedia | D2: Perempuan | E2: Jakarta Timur | F2: Mahasiswa/i | G2: 20 | H2: Rp1.000.000 - Rp3.000.000 | I2: Uang saku | J2: < 1 tahun | K2: Rp500.000 - Rp1.000.000 | L2: 0895604681603 | M2: 4 | N2: 4 | O2: 5 | P2: 4 | Q2: 5 | R2: 5 | S2: 4 | T2: 4 | U2: 4 | V2: 5 | W2: 4 | X2: 4 | Y2: 4 | Z2: 5 | AA2: 4 | AB2: 2 | AC2: 2 | AD2: 6 | AE2: 3 | AF2: 2 | AG2: 2 | AH2: 2 | AI2: 2 | AJ2: 5 | AK2: 6 | AL2: 6 | AM2: 6 | AN2: 2 | AO2: 6 | AP2: 6 | AQ2: 6 | AR2: 6 | AS2: 6 | AT2: 6 | AU2: 6 | AV2: 4 | AW2: 4 | AX2: 4 | AY2: 4 | AZ2: 4 | BA2: 4 | BB2: 4 | BC2: 4 | BD2: 2 | BE2: 2 | BF2: 4 | BG2: 3 | BH2: 4 | BI2: 3 | BJ2: 4 | BK2: 4 | BL2: 3 | BM2: 4 | BN2: 4 | BO2: 3 | BP2: 4
A3: 45329.46 | B3: erikrmdhn10@gmail.com | C3: Ya, Saya bersedia | D3: Laki-laki | E3: Jawa Barat | F3: Karyawan Swasta | G3: 25 | H3: < Rp1.000.000 | I3: Uang saku, Gaji | J3: < 1 tahun | K3: < Rp200.000 | L3: 085157264557 | M3: 4 | N3: 5 | O3: 4 | P3: 5 | Q3: 3 | R3: 5 | S3: 4 | T3: 5 | U3: 4 | V3: 5 | W3: 4 | X3: 5 | Y3: 5 | Z3: 3 | AA3: 5 | AB3: 7 | AC3: 7 | AD3: 3 | AE3: 7 | AF3: 7 | AG3: 7 | AH3: 7 | AI3: 7 | AJ3: 4 | AK3: 1 | AL3: 3 | AM3: 1 | AN3: 6 | AO3: 7 | AP3: 5 | AQ3: 5 | AR3: 1 | AS3: 1 | AT3: 1 | AU3: 1 | AV3: 4 | AW3: 1 | AX3: 1 | AY3: 5 | AZ3: 1 | BA3: 5 | BB3: 4 | BC3: 2 | BD3: 5 | BE3: 5 | BF3: 1 | BG3: 4 | BH3: 5 | BI3: 4 | BJ3: 5 | BK3: 4 | BL3: 5 | BM3: 1 | BN3: 3 | BO3: 5 | BP3: 5
A4: 45329.462 | B4: debchoi91@gmail.com | C4: Ya, Saya bersedia | D4: Perempuan | E4: banten | F4: Karyawan Swasta | G4: 25 | H4: Rp3.000.000 - Rp5.000.000 | I4: Gaji | J4: > 7 tahun | K4: Rp500.000 - Rp1.000.000 | L4: 085782251151 | M4: 5 | N4: 5 | O4: 5 | P4: 5 | Q4: 5 | R4: 5 | S4: 5 | T4: 5 | U4: 5 | V4: 5 | W4: 5 | X4: 5 | Y4: 5 | Z4: 5 | AA4: 5 | AB4: 7 | AC4: 7 | AD4: 7 | AE4: 7 | AF4: 7 | AG4: 7 | AH4: 7 | AI4: 7 | AJ4: 7 | AK4: 7 | AL4: 7 | AM4: 7 | AN4: 6 | AO4: 2 | AP4: 7 | AQ4: 7 | AR4: 7 | AS4: 7 | AT4: 7 | AU4: 7 | AV4: 5 | AW4: 5 | AX4: 5 | AY4: 5 | AZ4: 5 | BA4: 2 | BB4: 2 | BC4: 5 | BD4: 5 | BE4: 2 | BF4: 2 | BG4: 5 | BH4: 5 | BI4: 4 | BJ4: 5 | BK4: 5 | BL4: 5 | BM4: 5 | BN4: 5 | BO4: 5 | BP4: 4
A5: 45329.471 | B5: anandawarleggan11@gmail.com | C5: Ya, Saya bersedia | D5: Laki-laki | E5: Anderson | F5: Mahasiswa/i | G5: 23 | H5: Rp3.000.000 - Rp5.000.000 | I5: Uang saku | J5: 1 - 3 tahun | K5: Rp200.000 - Rp500.000 | M5: 4 | N5: 4 | O5: 4 | P5: 4 | Q5: 4 | R5: 4 | S5: 5 | T5: 3 | U5: 5 | V5: 4 | W5: 5 | X5: 5 | Y5: 5 | Z5: 4 | AA5: 5 | AB5: 6 | AC5: 6 | AD5: 6 | AE5: 5 | AF5: 6 | AG5: 6 | AH5: 7 | AI5: 6 | AJ5: 6 | AK5: 5 | AL5: 6 | AM5: 6 | AN5: 6 | AO5: 5 | AP5: 6 | AQ5: 5 | AR5: 5 | AS5: 6 | AT5: 6 | AU5: 6 | AV5: 4 | AW5: 5 | AX5: 5 | AY5: 4 | AZ5: 5 | BA5: 5 | BB5: 4 | BC5: 5 | BD5: 5 | BE5: 5 | BF5: 5 | BG5: 4 | BH5: 5 | BI5: 4 | BJ5: 4 | BK5: 3 | BL5: 5 | BM5: 5 | BN5: 5 | BO5: 5 | BP5: 3
A6: 45329.473 | B6: biyarasyid3@gmail.com | C6: Ya, Saya bersedia | D6: Perempuan | E6: Jawa Tengah | F6: Mahasiswa/i | G6: 20 | H6: Rp1.000.000 - Rp3.000.000 | I6: Uang saku | J6: 5 - 7 tahun | K6: > Rp5.000.000 | L6: 085398613470 | M6: 5 | N6: 4 | O6: 5 | P6: 4 | Q6: 5 | R6: 4 | S6: 5 | T6: 4 | U6: 5 | V6: 4 | W6: 5 | X6: 4 | Y6: 5 | Z6: 4 | AA6: 5 | AB6: 3 | AC6: 2 | AD6: 1 | AE6: 2 | AF6: 3 | AG6: 1 | AH6: 2 | AI6: 1 | AJ6: 3 | AK6: 1 | AL6: 2 | AM6: 1 | AN6: 3 | AO6: 2 | AP6: 3 | AQ6: 1 | AR6: 3 | AS6: 1 | AT6: 2 | AU6: 1 | AV6: 5 | AW6: 4 | AX6: 5 | AY6: 4 | AZ6: 5 | BA6: 2 | BB6: 1 | BC6: 4 | BD6: 1 | BE6: 2 | BF6: 5 | BG6: 2 | BH6: 1 | BI6: 2 | BJ6: 2 | BK6: 4 | BL6: 2 | BM6: 4 | BN6: 2 | BO6: 2 | BP6: 1
A7: 45329.477 | B7: rifaisnaininurzain@gmail.com | C7: Ya, Saya bersedia | D7: Perempuan | E7: Jogja | F7: Mahasiswa/i | G7: 22 | H7: < Rp1.000.000 | I7: Uang saku | J7: 1 - 3 tahun | K7: < Rp200.000 | L7: 082225086029 | M7: 5 | N7: 4 | O7: 5 | P7: 4 | Q7: 5 | R7: 4 | S7: 5 | T7: 4 | U7: 5 | V7: 4 | W7: 5 | X7: 4 | Y7: 5 | Z7: 4 | AA7: 5 | AB7: 7 | AC7: 6 | AD7: 7 | AE7: 5 | AF7: 6 | AG7: 7 | AH7: 6 | AI7: 7 | AJ7: 5 | AK7: 6 | AL7: 7 | AM7: 6 | AN7: 7 | AO7: 5 | AP7: 6 | AQ7: 7 | AR7: 6 | AS7: 6 | AT7: 7 | AU7: 5 | AV7: 5 | AW7: 4 | AX7: 5 | AY7: 4 | AZ7: 5 | BA7: 4 | BB7: 5 | BC7: 3 | BD7: 5 | BE7: 4 | BF7: 3 | BG7: 4 | BH7: 5 | BI7: 4 | BJ7: 5 | BK7: 4 | BL7: 4 | BM7: 5 | BN7: 4 | BO7: 5 | BP7: 4
A8: 45329.502 | B8: destyaalfitri@gmail.com | C8: Ya, Saya bersedia | D8: Perempuan | E8: DKI Jakarta | F8: Mahasiswa/i | G8: 22 | H8: Rp1.000.000 - Rp3.000.000 | I8: Uang saku | J8: 1 - 3 tahun | K8: Rp200.000 - Rp500.000 | M8: 4 | N8: 5 | O8: 5 | P8: 4 | Q8: 4 | R8: 5 | S8: 5 | T8: 4 | U8: 4 | V8: 5 | W8: 5 | X8: 5 | Y8: 5 | Z8: 4 | AA8: 5 | AB8: 6 | AC8: 7 | AD8: 6 | AE8: 6 | AF8: 6 | AG8: 6 | AH8: 7 | AI8: 5 | AJ8: 7 | AK8: 6 | AL8: 5 | AM8: 7 | AN8: 5 | AO8: 6 | AP8: 6 | AQ8: 7 | AR8: 6 | AS8: 5 | AT8: 5 | AU8: 6 | AV8: 4 | AW8: 5 | AX8: 4 | AY8: 5 | AZ8: 5 | BA8: 4 | BB8: 5 | BC8: 4 | BD8: 5 | BE8: 4 | BF8: 5 | BG8: 4 | BH8: 5 | BI8: 4 | BJ8: 4 | BK8: 5 | BL8: 5 | BM8: 4 | BN8: 5 | BO8: 5 | BP8: 4
A9: 45329.639 | B9: jovankangel12@gmail.com | C9: Ya, Saya bersedia | D9: Perempuan | E9: Banten | F9: Mahasiswa/i | G9: 20 | H9: Rp1.000.000 - Rp3.000.000 | I9: Uang saku | J9: 3 - 5 tahun | K9: < Rp200.000 | L9: 082169372515 | M9: 4 | N9: 5 | O9: 5 | P9: 4 | Q9: 4 | R9: 5 | S9: 5 | T9: 4 | U9: 4 | V9: 5 | W9: 4 | X9: 4 | Y9: 4 | Z9: 5 | AA9: 5 | AB9: 5 | AC9: 5 | AD9: 3 | AE9: 5 | AF9: 5 | AG9: 5 | AH9: 6 | AI9: 5 | AJ9: 3 | AK9: 4 | AL9: 5 | AM9: 6 | AN9: 6 | AO9: 2 | AP9: 5 | AQ9: 5 | AR9: 5 | AS9: 5 | AT9: 5 | AU9: 5 | AV9: 4 | AW9: 4 | AX9: 2 | AY9: 4 | AZ9: 4 | BA9: 4 | BB9: 4 | BC9: 4 | BD9: 4 | BE9: 4 | BF9: 4 | BG9: 4 | BH9: 4 | BI9: 4 | BJ9: 4 | BK9: 5 | BL9: 4 | BM9: 5 | BN9: 5 | BO9: 2 | BP9: 2
A10: 45329.656 | B10: lutviahintans22@gmail.com | C10: Ya, Saya bersedia | D10: Perempuan | E10: Jawa Timur | F10: Mahasiswa/i | G10: 21 | H10: < Rp1.000.000 | I10: Uang saku | J10: 1 - 3 tahun | K10: Rp200.000 - Rp500.000 | L10: 085156993636 | M10: 4 | N10: 5 | O10: 5 | P10: 5 | Q10: 4 | R10: 3 | S10: 3 | T10: 3 | U10: 4 | V10: 4 | W10: 4 | X10: 4 | Y10: 5 | Z10: 4 | AA10: 5 | AB10: 6 | AC10: 5 | AD10: 4 | AE10: 5 | AF10: 5 | AG10: 6 | AH10: 7 | AI10: 5 | AJ10: 6 | AK10: 6 | AL10: 5 | AM10: 6 | AN10: 6 | AO10: 5 | AP10: 6 | AQ10: 5 | AR10: 7 | AS10: 6 | AT10: 5 | AU10: 6 | AV10: 4 | AW10: 3 | AX10: 3 | AY10: 3 | AZ10: 2 | BA10: 3 | BB10: 4 | BC10: 3 | BD10: 4 | BE10: 4 | BF10: 3 | BG10: 4 | BH10: 4 | BI10: 4 | BJ10: 4 | BK10: 4 | BL10: 3 | BM10: 4 | BN10: 3 | BO10: 4 | BP10: 4
A11: 45329.665 | B11: afdhilla2103@gmail.com | C11: Ya, Saya bersedia | D11: Perempuan | E11: Lampung | F11: Mahasiswa/i | G11: 22 | H11: < Rp1.000.000 | I11: Uang saku | J11: 1 - 3 tahun | K11: < Rp200.000 | L11: 081440043967 | M11: 4 | N11: 4 | O11: 5 | P11: 5 | Q11: 5 | R11: 4 | S11: 4 | T11: 4 | U11: 4 | V11: 4 | W11: 4 | X11: 3 | Y11: 4 | Z11: 2 | AA11: 3 | AB11: 7 | AC11: 6 | AD11: 4 | AE11: 6 | AF11: 6 | AG11: 4 | AH11: 7 | AI11: 7 | AJ11: 7 | AK11: 2 | AL11: 2 | AM11: 2 | AN11: 6 | AO11: 5 | AP11: 7 | AQ11: 7 | AR11: 4 | AS11: 3 | AT11: 5 | AU11: 4 | AV11: 4 | AW11: 4 | AX11: 2 | AY11: 2 | AZ11: 2 | BA11: 4 | BB11: 4 | BC11: 4 | BD11: 5 | BE11: 5 | BF11: 3 | BG11: 4 | BH11: 4 | BI11: 5 | BJ11: 5 | BK11: 5 | BL11: 5 | BM11: 4 | BN11: 4 | BO11: 3 | BP11: 5
A12: 45329.691 | B12: nuryanisafitri28@gmail.com | C12: Ya, Saya bersedia | D12: Perempuan | E12: Jawa Timur | F12: Mahasiswa/i | G12: 22 | H12: < Rp1.000.000 | I12: Uang saku | J12: > 7 tahun | K12: Rp200.000 - Rp500.000 | L12: 089682320352 | M12: 4 | N12: 4 | O12: 5 | P12: 4 | Q12: 4 | R12: 4 | S12: 4 | T12: 4 | U12: 5 | V12: 4 | W12: 4 | X12: 3 | Y12: 4 | Z12: 3 | AA12: 4 | AB12: 6 | AC12: 2 | AD12: 6 | AE12: 3 | AF12: 5 | AG12: 2 | AH12: 7 | AI12: 6 | AJ12: 7 | AK12: 6 | AL12: 7 | AM12: 7 | AN12: 7 | AO12: 2 | AP12: 7 | AQ12: 7 | AR12: 5 | AS12: 6 | AT12: 6 | AU12: 7 | AV12: 4 | AW12: 5 | AX12: 4 | AY12: 5 | AZ12: 5 | BA12: 3 | BB12: 4 | BC12: 4 | BD12: 4 | BE12: 5 | BF12: 4 | BG12: 5 | BH12: 2 | BI12: 4 | BJ12: 4 | BK12: 5 | BL12: 4 | BM12: 4 | BN12: 4 | BO12: 4 | BP12: 2
A13: 45329.692 | B13: kmasudhin@gmail.com | C13: Ya, Saya bersedia | D13: Laki-laki | E13: Jawa Timur | F13: Karyawan Swasta | G13: 25 | H13: Rp3.000.000 - Rp5.000.000 | I13: Gaji | J13: 5 - 7 tahun | K13: Rp200.000 - Rp500.000 | L13: 087703382756 | M13: 4 | N13: 2 | O13: 4 | P13: 2 | Q13: 4 | R13: 2 | S13: 2 | T13: 2 | U13: 2 | V13: 2 | W13: 2 | X13: 2 | Y13: 2 | Z13: 2 | AA13: 2 | AB13: 6 | AC13: 6 | AD13: 2 | AE13: 6 | AF13: 2 | AG13: 6 | AH13: 6 | AI13: 6 | AJ13: 2 | AK13: 2 | AL13: 6 | AM13: 6 | AN13: 6 | AO13: 6 | AP13: 6 | AQ13: 6 | AR13: 2 | AS13: 6 | AT13: 2 | AU13: 6 | AV13: 4 | AW13: 2 | AX13: 4 | AY13: 4 | AZ13: 2 | BA13: 4 | BB13: 4 | BC13: 4 | BD13: 2 | BE13: 1 | BF13: 2 | BG13: 4 | BH13: 4 | BI13: 4 | BJ13: 4 | BK13: 2 | BL13: 4 | BM13: 4 | BN13: 4 | BO13: 4 | BP13: 2
A14: 45329.709 | B14: haniefm271@gmail.com | C14: Ya, Saya bersedia | D14: Laki-laki | E14: Jawa Timur | F14: Mahasiswa/i | G14: 22 | H14: Rp1.000.000 - Rp3.000.000 | I14: Uang saku | J14: < 1 tahun | K14: Rp200.000 - Rp500.000 | M14: 3 | N14: 4 | O14: 4 | P14: 4 | Q14: 5 | R14: 4 | S14: 4 | T14: 3 | U14: 5 | V14: 5 | W14: 4 | X14: 4 | Y14: 5 | Z14: 4 | AA14: 3 | AB14: 5 | AC14: 4 | AD14: 4 | AE14: 5 | AF14: 4 | AG14: 5 | AH14: 4 | AI14: 5 | AJ14: 5 | AK14: 4 | AL14: 7 | AM14: 6 | AN14: 6 | AO14: 4 | AP14: 6 | AQ14: 6 | AR14: 5 | AS14: 5 | AT14: 6 | AU14: 4 | AV14: 4 | AW14: 4 | AX14: 3 | AY14: 5 | AZ14: 5 | BA14: 4 | BB14: 3 | BC14: 3 | BD14: 4 | BE14: 4 | BF14: 2 | BG14: 3 | BH14: 3 | BI14: 4 | BJ14: 3 | BK14: 5 | BL14: 5 | BM14: 3 | BN14: 3 | BO14: 3 | BP14: 3
A15: 45329.816 | B15: fiskadevina@gmail.com | C15: Ya, Saya bersedia | D15: Perempuan | E15: Jawa Timur | F15: Mahasiswa/i | G15: 19 | H15: Rp3.000.000 - Rp5.000.000 | I15: Uang saku | J15: 1 - 3 tahun | K15: Rp200.000 - Rp500.000 | L15: 085895088920 | M15: 4 | N15: 3 | O15: 5 | P15: 4 | Q15: 3 | R15: 5 | S15: 4 | T15: 5 | U15: 5 | V15: 4 | W15: 5 | X15: 3 | Y15: 5 | Z15: 4 | AA15: 4 | AB15: 7 | AC15: 6 | AD15: 4 | AE15: 6 | AF15: 7 | AG15: 5 | AH15: 5 | AI15: 7 | AJ15: 4 | AK15: 4 | AL15: 6 | AM15: 5 | AN15: 4 | AO15: 4 | AP15: 7 | AQ15: 6 | AR15: 5 | AS15: 4 | AT15: 5 | AU15: 5 | AV15: 3 | AW15: 4 | AX15: 4 | AY15: 3 | AZ15: 3 | BA15: 5 | BB15: 4 | BC15: 3 | BD15: 5 | BE15: 5 | BF15: 3 | BG15: 3 | BH15: 4 | BI15: 5 | BJ15: 5 | BK15: 3 | BL15: 4 | BM15: 3 | BN15: 5 | BO15: 4 | BP15: 3
A16: 45329.918 | B16: shafnadinaraulani@gmail.com | C16: Ya, Saya bersedia | D16: Perempuan | E16: Jawa Tengah | F16: Mahasiswa/i | G16: 21 | H16: Rp1.000.000 - Rp3.000.000 | I16: Uang saku | J16: > 7 tahun | K16: Rp1.000.000 - Rp3.000.000 | M16: 5 | N16: 4 | O16: 5 | P16: 5 | Q16: 5 | R16: 4 | S16: 4 | T16: 4 | U16: 5 | V16: 5 | W16: 4 | X16: 4 | Y16: 5 | Z16: 4 | AA16: 5 | AB16: 4 | AC16: 3 | AD16: 6 | AE16: 4 | AF16: 4 | AG16: 3 | AH16: 4 | AI16: 4 | AJ16: 6 | AK16: 5 | AL16: 7 | AM16: 6 | AN16: 7 | AO16: 3 | AP16: 6 | AQ16: 5 | AR16: 7 | AS16: 5 | AT16: 6 | AU16: 6 | AV16: 3 | AW16: 5 | AX16: 4 | AY16: 2 | AZ16: 1 | BA16: 4 | BB16: 4 | BC16: 3 | BD16: 2 | BE16: 4 | BF16: 2 | BG16: 2 | BH16: 4 | BI16: 4 | BJ16: 5 | BK16: 5 | BL16: 4 | BM16: 4 | BN16: 2 | BO16: 4 | BP16: 3
A17: 45330.538 | B17: hanna.melya@gmail.com | C17: Ya, Saya bersedia | D17: Perempuan | E17: DKI Jakarta | F17: Mahasiswa/i | G17: 20 | H17: Rp1.000.000 - Rp3.000.000 | I17: Uang saku | J17: 3 - 5 tahun | K17: Rp500.000 - Rp1.000.000 | L17: 085716508262 | M17: 4 | N17: 5 | O17: 5 | P17: 4 | Q17: 5 | R17: 5 | S17: 4 | T17: 5 | U17: 5 | V17: 5 | W17: 4 | X17: 5 | Y17: 4 | Z17: 4 | AA17: 5 | AB17: 6 | AC17: 2 | AD17: 6 | AE17: 3 | AF17: 3 | AG17: 2 | AH17: 6 | AI17: 4 | AJ17: 6 | AK17: 6 | AL17: 6 | AM17: 6 | AN17: 6 | AO17: 3 | AP17: 7 | AQ17: 6 | AR17: 6 | AS17: 6 | AT17: 6 | AU17: 7 | AV17: 5 | AW17: 5 | AX17: 4 | AY17: 4 | AZ17: 3 | BA17: 2 | BB17: 5 | BC17: 4 | BD17: 4 | BE17: 4 | BF17: 2 | BG17: 4 | BH17: 5 | BI17: 5 | BJ17: 5 | BK17: 2 | BL17: 5 | BM17: 3 | BN17: 4 | BO17: 5 | BP17: 5
A18: 45330.557 | B18: hanna.melya@gmail.com | C18: Ya, Saya bersedia | D18: Perempuan | E18: Jakarta | F18: Mahasiswa/i | G18: 19 | H18: Rp1.000.000 - Rp3.000.000 | I18: Uang saku | J18: 5 - 7 tahun | K18: Rp1.000.000 - Rp3.000.000 | L18: 087821637196 | M18: 4 | N18: 5 | O18: 5 | P18: 4 | Q18: 5 | R18: 4 | S18: 4 | T18: 5 | U18: 5 | V18: 5 | W18: 5 | X18: 4 | Y18: 5 | Z18: 4 | AA18: 4 | AB18: 6 | AC18: 2 | AD18: 6 | AE18: 2 | AF18: 3 | AG18: 2 | AH18: 6 | AI18: 2 | AJ18: 7 | AK18: 6 | AL18: 6 | AM18: 6 | AN18: 7 | AO18: 2 | AP18: 7 | AQ18: 6 | AR18: 6 | AS18: 7 | AT18: 6 | AU18: 7 | AV18: 5 | AW18: 5 | AX18: 4 | AY18: 4 | AZ18: 2 | BA18: 2 | BB18: 5 | BC18: 4 | BD18: 5 | BE18: 4 | BF18: 2 | BG18: 5 | BH18: 5 | BI18: 5 | BJ18: 5 | BK18: 1 | BL18: 4 | BM18: 4 | BN18: 5 | BO18: 5 | BP18: 4
A19: 45330.558 | B19: hanna.melya@gmail.com | C19: Ya, Saya bersedia | D19: Perempuan | E19: Jakarta | F19: Mahasiswa/i | G19: 21 | H19: < Rp1.000.000 | I19: Uang saku | J19: 1 - 3 tahun | K19: Rp500.000 - Rp1.000.000 | L19: 085816729913 | M19: 5 | N19: 4 | O19: 5 | P19: 5 | Q19: 4 | R19: 5 | S19: 4 | T19: 4 | U19: 5 | V19: 5 | W19: 4 | X19: 4 | Y19: 4 | Z19: 5 | AA19: 5 | AB19: 6 | AC19: 3 | AD19: 7 | AE19: 2 | AF19: 3 | AG19: 3 | AH19: 6 | AI19: 6 | AJ19: 6 | AK19: 5 | AL19: 7 | AM19: 6 | AN19: 7 | AO19: 3 | AP19: 6 | AQ19: 6 | AR19: 7 | AS19: 7 | AT19: 6 | AU19: 6 | AV19: 4 | AW19: 5 | AX19: 4 | AY19: 4 | AZ19: 3 | BA19: 1 | BB19: 5 | BC19: 4 | BD19: 5 | BE19: 5 | BF19: 2 | BG19: 5 | BH19: 4 | BI19: 5 | BJ19: 5 | BK19: 1 | BL19: 5 | BM19: 3 | BN19: 5 | BO19: 4 | BP19: 4
A20: 45330.587 | B20: ellameisyach@gmail.com | C20: Ya, Saya bersedia | D20: Perempuan | E20: Jawa Tengah | F20: Mahasiswa/i | G20: 21 | H20: < Rp1.000.000 | I20: Uang saku | J20: 1 - 3 tahun | K20: Rp200.000 - Rp500.000 | M20: 4 | N20: 4 | O20: 4 | P20: 4 | Q20: 3 | R20: 4 | S20: 4 | T20: 3 | U20: 4 | V20: 4 | W20: 4 | X20: 4 | Y20: 4 | Z20: 4 | AA20: 4 | AB20: 6 | AC20: 5 | AD20: 4 | AE20: 4 | AF20: 4 | AG20: 4 | AH20: 5 | AI20: 6 | AJ20: 4 | AK20: 3 | AL20: 4 | AM20: 3 | AN20: 3 | AO20: 4 | AP20: 5 | AQ20: 2 | AR20: 3 | AS20: 3 | AT20: 2 | AU20: 4 | AV20: 2 | AW20: 3 | AX20: 2 | AY20: 2 | AZ20: 2 | BA20: 3 | BB20: 2 | BC20: 2 | BD20: 4 | BE20: 4 | BF20: 1 | BG20: 4 | BH20: 4 | BI20: 4 | BJ20: 4 | BK20: 3 | BL20: 4 | BM20: 3 | BN20: 3 | BO20: 3 | BP20: 3
A21: 45331.468 | B21: sbilnlfaz1@gmail.com | C21: Ya, Saya bersedia | D21: Perempuan | E21: Jawa Barat | F21: Mahasiswa/i | G21: 21 | H21: < Rp1.000.000 | I21: Uang saku | J21: > 7 tahun | K21: Rp200.000 - Rp500.000 | L21: 085703617186 | M21: 5 | N21: 4 | O21: 5 | P21: 4 | Q21: 1 | R21: 3 | S21: 3 | T21: 3 | U21: 4 | V21: 5 | W21: 4 | X21: 4 | Y21: 4 | Z21: 4 | AA21: 5 | AB21: 5 | AC21: 3 | AD21: 6 | AE21: 4 | AF21: 3 | AG21: 3 | AH21: 5 | AI21: 5 | AJ21: 5 | AK21: 5 | AL21: 5 | AM21: 7 | AN21: 5 | AO21: 5 | AP21: 5 | AQ21: 4 | AR21: 4 | AS21: 4 | AT21: 4 | AU21: 7 | AV21: 3 | AW21: 2 | AX21: 4 | AY21: 3 | AZ21: 4 | BA21: 3 | BB21: 3 | BC21: 4 | BD21: 3 | BE21: 3 | BF21: 4 | BG21: 3 | BH21: 2 | BI21: 4 | BJ21: 4 | BK21: 5 | BL21: 4 | BM21: 4 | BN21: 3 | BO21: 3 | BP21: 1
A22: 45331.897 | B22: linandasavitri@gmail.com | C22: Ya, Saya bersedia | D22: Perempuan | E22: Jawa Timur | F22: Mahasiswa/i | G22: 22 | H22: Rp1.000.000 - Rp3.000.000 | I22: Uang saku | J22: 3 - 5 tahun | K22: Rp200.000 - Rp500.000 | M22: 4 | N22: 5 | O22: 4 | P22: 5 | Q22: 2 | R22: 5 | S22: 5 | T22: 4 | U22: 4 | V22: 4 | W22: 4 | X22: 4 | Y22: 4 | Z22: 3 | AA22: 4 | AB22: 3 | AC22: 6 | AD22: 7 | AE22: 2 | AF22: 3 | AG22: 1 | AH22: 5 | AI22: 4 | AJ22: 5 | AK22: 7 | AL22: 6 | AM22: 7 | AN22: 6 | AO22: 4 | AP22: 5 | AQ22: 3 | AR22: 6 | AS22: 6 | AT22: 7 | AU22: 6 | AV22: 2 | AW22: 4 | AX22: 4 | AY22: 5 | AZ22: 3 | BA22: 2 | BB22: 4 | BC22: 4 | BD22: 3 | BE22: 4 | BF22: 1 | BG22: 5 | BH22: 4 | BI22: 4 | BJ22: 5 | BK22: 3 | BL22: 4 | BM22: 5 | BN22: 3 | BO22: 3 | BP22: 4
A23: 45332.641 | B23: zulfahna08@gmail.com | C23: Ya, Saya bersedia | D23: Perempuan | E23: Jawa Tengah | F23: Mahasiswa/i | G23: 20 | H23: < Rp1.000.000 | I23: Uang saku | J23: 3 - 5 tahun | K23: Rp500.000 - Rp1.000.000 | L23: 088802645667 | M23: 4 | N23: 3 | O23: 4 | P23: 3 | Q23: 2 | R23: 3 | S23: 3 | T23: 3 | U23: 3 | V23: 3 | W23: 3 | X23: 3 | Y23: 3 | Z23: 2 | AA23: 3 | AB23: 5 | AC23: 4 | AD23: 3 | AE23: 3 | AF23: 3 | AG23: 4 | AH23: 5 | AI23: 4 | AJ23: 6 | AK23: 5 | AL23: 4 | AM23: 5 | AN23: 5 | AO23: 5 | AP23: 5 | AQ23: 5 | AR23: 3 | AS23: 2 | AT23: 5 | AU23: 5 | AV23: 3 | AW23: 4 | AX23: 3 | AY23: 4 | AZ23: 4 | BA23: 2 | BB23: 4 | BC23: 4 | BD23: 4 | BE23: 2 | BF23: 4 | BG23: 3 | BH23: 3 | BI23: 4 | BJ23: 4 | BK23: 4 | BL23: 3 | BM23: 4 | BN23: 4 | BO23: 4 | BP23: 3
A24: 45332.842 | B24: nabilarahandi@gmail.com | C24: Ya, Saya bersedia | D24: Perempuan | E24: Sumatra Barat | F24: Mahasiswa/i | G24: 21 | H24: Rp1.000.000 - Rp3.000.000 | I24: Uang saku | J24: 3 - 5 tahun | K24: Rp500.000 - Rp1.000.000 | L24: 082171381885 | M24: 5 | N24: 5 | O24: 5 | P24: 5 | Q24: 4 | R24: 4 | S24: 5 | T24: 4 | U24: 5 | V24: 4 | W24: 4 | X24: 4 | Y24: 4 | Z24: 4 | AA24: 4 | AB24: 6 | AC24: 3 | AD24: 5 | AE24: 5 | AF24: 3 | AG24: 3 | AH24: 7 | AI24: 5 | AJ24: 3 | AK24: 5 | AL24: 5 | AM24: 5 | AN24: 5 | AO24: 3 | AP24: 7 | AQ24: 6 | AR24: 6 | AS24: 5 | AT24: 3 | AU24: 5 | AV24: 2 | AW24: 2 | AX24: 1 | AY24: 2 | AZ24: 1 | BA24: 4 | BB24: 4 | BC24: 2 | BD24: 5 | BE24: 5 | BF24: 2 | BG24: 4 | BH24: 4 | BI24: 4 | BJ24: 5 | BK24: 2 | BL24: 4 | BM24: 1 | BN24: 4 | BO24: 4 | BP24: 4
A25: 45334.575 | B25: suci.sasti26@gmail.com | C25: Ya, Saya bersedia | D25: Perempuan | E25: Jakarta | F25: Mahasiswa/i | G25: 21 | H25: < Rp1.000.000 | I25: Uang saku | J25: 1 - 3 tahun | K25: Rp500.000 - Rp1.000.000 | L25: 085773605978 | M25: 5 | N25: 5 | O25: 4 | P25: 5 | Q25: 4 | R25: 5 | S25: 4 | T25: 5 | U25: 4 | V25: 5 | W25: 4 | X25: 3 | Y25: 4 | Z25: 5 | AA25: 4 | AB25: 6 | AC25: 3 | AD25: 6 | AE25: 7 | AF25: 5 | AG25: 4 | AH25: 6 | AI25: 6 | AJ25: 5 | AK25: 3 | AL25: 5 | AM25: 6 | AN25: 4 | AO25: 5 | AP25: 7 | AQ25: 5 | AR25: 5 | AS25: 5 | AT25: 6 | AU25: 6 | AV25: 4 | AW25: 5 | AX25: 5 | AY25: 4 | AZ25: 5 | BA25: 4 | BB25: 5 | BC25: 4 | BD25: 5 | BE25: 4 | BF25: 5 | BG25: 4 | BH25: 5 | BI25: 4 | BJ25: 5 | BK25: 4 | BL25: 5 | BM25: 5 | BN25: 4 | BO25: 5 | BP25: 5
A26: 45337.384 | B26: kiranahayu@gmail.com | C26: Ya, Saya bersedia | D26: Perempuan | E26: DKI Jakarta | F26: Freelancer | G26: 23 | H26: < Rp1.000.000 | I26: Gaji | J26: 3 - 5 tahun | K26: Rp200.000 - Rp500.000 | L26: 081285439018 | M26: 4 | N26: 4 | O26: 5 | P26: 4 | Q26: 2 | R26: 3 | S26: 3 | T26: 4 | U26: 3 | V26: 3 | W26: 3 | X26: 4 | Y26: 4 | Z26: 4 | AA26: 4 | AB26: 6 | AC26: 7 | AD26: 3 | AE26: 7 | AF26: 5 | AG26: 6 | AH26: 7 | AI26: 5 | AJ26: 2 | AK26: 1 | AL26: 1 | AM26: 1 | AN26: 1 | AO26: 4 | AP26: 6 | AQ26: 4 | AR26: 5 | AS26: 4 | AT26: 1 | AU26: 4 | AV26: 1 | AW26: 2 | AX26: 1 | AY26: 1 | AZ26: 1 | BA26: 3 | BB26: 3 | BC26: 1 | BD26: 4 | BE26: 5 | BF26: 1 | BG26: 3 | BH26: 4 | BI26: 4 | BJ26: 4 | BK26: 1 | BL26: 3 | BM26: 1 | BN26: 4 | BO26: 4 | BP26: 5
A27: 45337.39 | B27: madebysuar@gmail.com | C27: Ya, Saya bersedia | D27: Perempuan | E27: Jawa Timur | F27: Mahasiswa/i | G27: 23 | H27: < Rp1.000.000 | I27: Uang saku | J27: 1 - 3 tahun | K27: Rp1.000.000 - Rp3.000.000 | L27: 087864935760 | M27: 4 | N27: 4 | O27: 4 | P27: 4 | Q27: 3 | R27: 4 | S27: 4 | T27: 4 | U27: 4 | V27: 4 | W27: 4 | X27: 4 | Y27: 4 | Z27: 4 | AA27: 4 | AB27: 4 | AC27: 5 | AD27: 6 | AE27: 5 | AF27: 4 | AG27: 2 | AH27: 7 | AI27: 6 | AJ27: 4 | AK27: 4 | AL27: 7 | AM27: 6 | AN27: 4 | AO27: 2 | AP27: 6 | AQ27: 4 | AR27: 4 | AS27: 6 | AT27: 5 | AU27: 7 | AV27: 1 | AW27: 3 | AX27: 1 | AY27: 2 | AZ27: 1 | BA27: 4 | BB27: 3 | BC27: 2 | BD27: 4 | BE27: 5 | BF27: 2 | BG27: 5 | BH27: 5 | BI27: 5 | BJ27: 5 | BK27: 1 | BL27: 5 | BM27: 1 | BN27: 5 | BO27: 5 | BP27: 5
A28: 45337.392 | B28: rizqikhattatah24@gmail.com | C28: Ya, Saya bersedia | D28: Perempuan | E28: Jawa Timur | F28: Mahasiswa/i | G28: 20 | H28: < Rp1.000.000 | I28: Uang saku | J28: 3 - 5 tahun | K28: < Rp200.000 | L28: 085746157515 | M28: 5 | N28: 5 | O28: 5 | P28: 5 | Q28: 1 | R28: 5 | S28: 5 | T28: 5 | U28: 5 | V28: 5 | W28: 5 | X28: 5 | Y28: 5 | Z28: 5 | AA28: 5 | AB28: 7 | AC28: 7 | AD28: 6 | AE28: 7 | AF28: 7 | AG28: 2 | AH28: 7 | AI28: 7 | AJ28: 6 | AK28: 1 | AL28: 1 | AM28: 1 | AN28: 4 | AO28: 1 | AP28: 6 | AQ28: 7 | AR28: 3 | AS28: 1 | AT28: 2 | AU28: 1 | AV28: 1 | AW28: 4 | AX28: 1 | AY28: 3 | AZ28: 1 | BA28: 3 | BB28: 5 | BC28: 4 | BD28: 5 | BE28: 5 | BF28: 1 | BG28: 5 | BH28: 5 | BI28: 4 | BJ28: 5 | BK28: 1 | BL28: 5 | BM28: 2 | BN28: 4 | BO28: 5 | BP28: 5
A29: 45337.393 | B29: nuraini.7219@gmail.com | C29: Ya, Saya bersedia | D29: Perempuan | E29: Jawa Timur | F29: Mahasiswa/i | G29: 21 | H29: Rp1.000.000 - Rp3.000.000 | I29: Uang saku | J29: < 1 tahun | K29: < Rp200.000 | L29: 081235429244 | M29: 4 | N29: 3 | O29: 4 | P29: 4 | Q29: 4 | R29: 3 | S29: 3 | T29: 4 | U29: 3 | V29: 4 | W29: 3 | X29: 3 | Y29: 3 | Z29: 3 | AA29: 5 | AB29: 6 | AC29: 5 | AD29: 4 | AE29: 5 | AF29: 5 | AG29: 6 | AH29: 7 | AI29: 6 | AJ29: 6 | AK29: 2 | AL29: 5 | AM29: 4 | AN29: 5 | AO29: 5 | AP29: 5 | AQ29: 3 | AR29: 3 | AS29: 2 | AT29: 2 | AU29: 5 | AV29: 4 | AW29: 4 | AX29: 2 | AY29: 3 | AZ29: 2 | BA29: 5 | BB29: 4 | BC29: 2 | BD29: 3 | BE29: 4 | BF29: 2 | BG29: 5 | BH29: 4 | BI29: 4 | BJ29: 4 | BK29: 2 | BL29: 3 | BM29: 3 | BN29: 3 | BO29: 4 | BP29: 4
A30: 45337.424 | B30: shirokuro197@gmail.com | C30: Ya, Saya bersedia | D30: Laki-laki | E30: Jawa Timur | F30: Karyawan Swasta | G30: 23 | H30: Rp3.000.000 - Rp5.000.000 | I30: Gaji | J30: 1 - 3 tahun | K30: < Rp200.000 | L30: 082264207956 | M30: 5 | N30: 5 | O30: 5 | P30: 5 | Q30: 4 | R30: 5 | S30: 4 | T30: 3 | U30: 5 | V30: 5 | W30: 4 | X30: 4 | Y30: 4 | Z30: 3 | AA30: 5 | AB30: 7 | AC30: 7 | AD30: 3 | AE30: 6 | AF30: 5 | AG30: 6 | AH30: 7 | AI30: 7 | AJ30: 7 | AK30: 2 | AL30: 6 | AM30: 4 | AN30: 5 | AO30: 5 | AP30: 6 | AQ30: 5 | AR30: 4 | AS30: 4 | AT30: 3 | AU30: 4 | AV30: 3 | AW30: 4 | AX30: 4 | AY30: 4 | AZ30: 4 | BA30: 3 | BB30: 4 | BC30: 5 | BD30: 3 | BE30: 4 | BF30: 3 | BG30: 4 | BH30: 3 | BI30: 5 | BJ30: 4 | BK30: 3 | BL30: 5 | BM30: 4 | BN30: 5 | BO30: 5 | BP30: 4
A31: 45337.471 | B31: fitriannisa0220@gmail.com | C31: Ya, Saya bersedia | D31: Perempuan | E31: Riau | F31: Mahasiswa/i | G31: 18 | H31: Rp1.000.000 - Rp3.000.000 | I31: Uang saku | J31: > 7 tahun | K31: < Rp200.000 | L31: 0 | M31: 4 | N31: 4 | O31: 5 | P31: 4 | Q31: 5 | R31: 4 | S31: 5 | T31: 4 | U31: 4 | V31: 5 | W31: 4 | X31: 5 | Y31: 5 | Z31: 5 | AA31: 5 | AB31: 3 | AC31: 3 | AD31: 6 | AE31: 4 | AF31: 1 | AG31: 3 | AH31: 1 | AI31: 2 | AJ31: 1 | AK31: 7 | AL31: 5 | AM31: 5 | AN31: 6 | AO31: 7 | AP31: 6 | AQ31: 5 | AR31: 7 | AS31: 5 | AT31: 5 | AU31: 6 | AV31: 4 | AW31: 4 | AX31: 5 | AY31: 5 | AZ31: 4 | BA31: 1 | BB31: 2 | BC31: 4 | BD31: 2 | BE31: 2 | BF31: 5 | BG31: 1 | BH31: 2 | BI31: 3 | BJ31: 1 | BK31: 4 | BL31: 2 | BM31: 5 | BN31: 3 | BO31: 2 | BP31: 1
A32: 45337.472 | B32: gitanasha53@gmail.com | C32: Ya, Saya bersedia | D32: Perempuan | E32: Jawa Tengah | F32: Mahasiswa/i | G32: 20 | H32: Rp1.000.000 - Rp3.000.000 | I32: Uang saku, Gaji | J32: 3 - 5 tahun | K32: Rp500.000 - Rp1.000.000 | L32: 0882003623180 | M32: 5 | N32: 5 | O32: 5 | P32: 4 | Q32: 4 | R32: 5 | S32: 5 | T32: 4 | U32: 5 | V32: 4 | W32: 5 | X32: 4 | Y32: 5 | Z32: 4 | AA32: 5 | AB32: 2 | AC32: 3 | AD32: 7 | AE32: 1 | AF32: 2 | AG32: 1 | AH32: 1 | AI32: 2 | AJ32: 7 | AK32: 6 | AL32: 7 | AM32: 6 | AN32: 7 | AO32: 1 | AP32: 7 | AQ32: 6 | AR32: 5 | AS32: 6 | AT32: 7 | AU32: 7 | AV32: 4 | AW32: 5 | AX32: 5 | AY32: 4 | AZ32: 4 | BA32: 2 | BB32: 3 | BC32: 5 | BD32: 1 | BE32: 2 | BF32: 5 | BG32: 2 | BH32: 1 | BI32: 1 | BJ32: 2 | BK32: 5 | BL32: 1 | BM32: 5 | BN32: 1 | BO32: 2 | BP32: 1
A33: 45337.476 | B33: mahenmahesa02@gmail.com | C33: Ya, Saya bersedia | D33: Laki-laki | E33: Jawa Barat | F33: Mahasiswa/i | G33: 21 | H33: Rp1.000.000 - Rp3.000.000 | I33: Uang saku | J33: 1 - 3 tahun | K33: Rp500.000 - Rp1.000.000 | M33: 5 | N33: 4 | O33: 4 | P33: 5 | Q33: 4 | R33: 5 | S33: 5 | T33: 4 | U33: 5 | V33: 4 | W33: 4 | X33: 5 | Y33: 4 | Z33: 5 | AA33: 5 | AB33: 2 | AC33: 3 | AD33: 6 | AE33: 2 | AF33: 1 | AG33: 3 | AH33: 1 | AI33: 2 | AJ33: 7 | AK33: 6 | AL33: 5 | AM33: 7 | AN33: 5 | AO33: 2 | AP33: 6 | AQ33: 7 | AR33: 6 | AS33: 5 | AT33: 7 | AU33: 6 | AV33: 5 | AW33: 4 | AX33: 5 | AY33: 5 | AZ33: 4 | BA33: 2 | BB33: 1 | BC33: 5 | BD33: 2 | BE33: 3 | BF33: 4 | BG33: 2 | BH33: 1 | BI33: 3 | BJ33: 1 | BK33: 4 | BL33: 2 | BM33: 5 | BN33: 1 | BO33: 3 | BP33: 2
A34: 45337.477 | B34: justurbycha10@gmail.com | C34: Ya, Saya bersedia | D34: Perempuan | E34: Jawa Barat | F34: Siswa/i | G34: 18 | H34: < Rp1.000.000 | I34: Uang saku | J34: 3 - 5 tahun | K34: Rp500.000 - Rp1.000.000 | L34: 085640486704 | M34: 5 | N34: 4 | O34: 5 | P34: 5 | Q34: 4 | R34: 5 | S34: 5 | T34: 5 | U34: 4 | V34: 4 | W34: 5 | X34: 4 | Y34: 5 | Z34: 4 | AA34: 5 | AB34: 1 | AC34: 2 | AD34: 7 | AE34: 2 | AF34: 1 | AG34: 1 | AH34: 1 | AI34: 2 | AJ34: 7 | AK34: 6 | AL34: 7 | AM34: 7 | AN34: 6 | AO34: 2 | AP34: 7 | AQ34: 7 | AR34: 5 | AS34: 6 | AT34: 7 | AU34: 7 | AV34: 5 | AW34: 4 | AX34: 4 | AY34: 5 | AZ34: 4 | BA34: 2 | BB34: 1 | BC34: 4 | BD34: 1 | BE34: 1 | BF34: 5 | BG34: 2 | BH34: 1 | BI34: 3 | BJ34: 2 | BK34: 4 | BL34: 1 | BM34: 5 | BN34: 1 | BO34: 2 | BP34: 1
A35: 45337.479 | B35: afisallaryadi@gmail.com | C35: Ya, Saya bersedia | D35: Laki-laki | E35: Jawa Barat | F35: Karyawan Swasta | G35: 25 | H35: Rp3.000.000 - Rp5.000.000 | I35: Gaji | J35: 3 - 5 tahun | K35: Rp500.000 - Rp1.000.000 | M35: 4 | N35: 4 | O35: 5 | P35: 4 | Q35: 5 | R35: 4 | S35: 5 | T35: 4 | U35: 4 | V35: 5 | W35: 5 | X35: 4 | Y35: 4 | Z35: 4 | AA35: 5 | AB35: 3 | AC35: 4 | AD35: 5 | AE35: 4 | AF35: 3 | AG35: 4 | AH35: 4 | AI35: 3 | AJ35: 5 | AK35: 6 | AL35: 5 | AM35: 6 | AN35: 7 | AO35: 3 | AP35: 6 | AQ35: 5 | AR35: 6 | AS35: 5 | AT35: 5 | AU35: 6 | AV35: 5 | AW35: 4 | AX35: 4 | AY35: 4 | AZ35: 5 | BA35: 2 | BB35: 1 | BC35: 4 | BD35: 2 | BE35: 2 | BF35: 4 | BG35: 2 | BH35: 3 | BI35: 3 | BJ35: 3 | BK35: 4 | BL35: 3 | BM35: 5 | BN35: 3 | BO35: 2 | BP35: 1
A36: 45337.484 | B36: azkaamanda123@gmail.com | C36: Ya, Saya bersedia | D36: Perempuan | E36: Jawa Timur | F36: Mahasiswa/i | G36: 21 | H36: Rp1.000.000 - Rp3.000.000 | I36: Uang saku, beasiswa | J36: 1 - 3 tahun | K36: Rp200.000 - Rp500.000 | L36: 08885490329 | M36: 4 | N36: 4 | O36: 4 | P36: 5 | Q36: 4 | R36: 5 | S36: 5 | T36: 4 | U36: 5 | V36: 4 | W36: 4 | X36: 4 | Y36: 4 | Z36: 4 | AA36: 5 | AB36: 4 | AC36: 3 | AD36: 5 | AE36: 3 | AF36: 3 | AG36: 4 | AH36: 3 | AI36: 4 | AJ36: 6 | AK36: 5 | AL36: 6 | AM36: 5 | AN36: 7 | AO36: 4 | AP36: 7 | AQ36: 6 | AR36: 5 | AS36: 5 | AT36: 6 | AU36: 5 | AV36: 4 | AW36: 4 | AX36: 5 | AY36: 4 | AZ36: 4 | BA36: 3 | BB36: 2 | BC36: 4 | BD36: 3 | BE36: 2 | BF36: 4 | BG36: 2 | BH36: 3 | BI36: 3 | BJ36: 2 | BK36: 4 | BL36: 3 | BM36: 4 | BN36: 2 | BO36: 3 | BP36: 2
A37: 45337.485 | B37: apsun666@gmail.com | C37: Ya, Saya bersedia | D37: Laki-laki | E37: Jawa Barat | F37: Mahasiswa/i | G37: 22 | H37: Rp1.000.000 - Rp3.000.000 | I37: Uang saku | J37: 1 - 3 tahun | K37: Rp200.000 - Rp500.000 | M37: 5 | N37: 4 | O37: 4 | P37: 4 | Q37: 4 | R37: 5 | S37: 5 | T37: 5 | U37: 4 | V37: 5 | W37: 4 | X37: 4 | Y37: 5 | Z37: 4 | AA37: 5 | AB37: 4 | AC37: 4 | AD37: 5 | AE37: 3 | AF37: 4 | AG37: 2 | AH37: 4 | AI37: 3 | AJ37: 5 | AK37: 5 | AL37: 6 | AM37: 6 | AN37: 7 | AO37: 3 | AP37: 6 | AQ37: 5 | AR37: 6 | AS37: 6 | AT37: 5 | AU37: 6 | AV37: 5 | AW37: 4 | AX37: 4 | AY37: 5 | AZ37: 4 | BA37: 3 | BB37: 2 | BC37: 4 | BD37: 3 | BE37: 2 | BF37: 4 | BG37: 2 | BH37: 3 | BI37: 2 | BJ37: 3 | BK37: 4 | BL37: 2 | BM37: 5 | BN37: 2 | BO37: 1 | BP37: 1
A38: 45337.488 | B38: alisiafachirahasyim@gmail.com | C38: Ya, Saya bersedia | D38: Perempuan | E38: DKI Jakarta | F38: Mahasiswa/i | G38: 21 | H38: Rp1.000.000 - Rp3.000.000 | I38: Uang saku, Gaji | J38: 3 - 5 tahun | K38: Rp1.000.000 - Rp3.000.000 | M38: 5 | N38: 5 | O38: 5 | P38: 4 | Q38: 4 | R38: 5 | S38: 5 | T38: 4 | U38: 5 | V38: 4 | W38: 4 | X38: 4 | Y38: 5 | Z38: 4 | AA38: 5 | AB38: 3 | AC38: 1 | AD38: 7 | AE38: 2 | AF38: 3 | AG38: 1 | AH38: 3 | AI38: 4 | AJ38: 6 | AK38: 7 | AL38: 5 | AM38: 5 | AN38: 6 | AO38: 3 | AP38: 6 | AQ38: 5 | AR38: 7 | AS38: 7 | AT38: 6 | AU38: 7 | AV38: 4 | AW38: 5 | AX38: 5 | AY38: 4 | AZ38: 4 | BA38: 3 | BB38: 3 | BC38: 5 | BD38: 1 | BE38: 2 | BF38: 5 | BG38: 2 | BH38: 1 | BI38: 3 | BJ38: 2 | BK38: 4 | BL38: 2 | BM38: 4 | BN38: 2 | BO38: 1 | BP38: 3
A39: 45337.498 | B39: tiaraprmswrr@gmail.com | C39: Ya, Saya bersedia | D39: Perempuan | E39: Jawa Barat | F39: Karyawan Swasta | G39: 26 | H39: Rp3.000.000 - Rp5.000.000 | I39: Gaji | J39: 3 - 5 tahun | K39: Rp500.000 - Rp1.000.000 | L39: 085602880858 | M39: 4 | N39: 5 | O39: 4 | P39: 4 | Q39: 5 | R39: 4 | S39: 5 | T39: 4 | U39: 5 | V39: 4 | W39: 4 | X39: 5 | Y39: 4 | Z39: 5 | AA39: 4 | AB39: 3 | AC39: 1 | AD39: 5 | AE39: 2 | AF39: 1 | AG39: 2 | AH39: 4 | AI39: 3 | AJ39: 5 | AK39: 6 | AL39: 7 | AM39: 6 | AN39: 6 | AO39: 4 | AP39: 7 | AQ39: 6 | AR39: 5 | AS39: 7 | AT39: 6 | AU39: 6 | AV39: 4 | AW39: 5 | AX39: 5 | AY39: 4 | AZ39: 5 | BA39: 3 | BB39: 2 | BC39: 4 | BD39: 3 | BE39: 2 | BF39: 4 | BG39: 2 | BH39: 2 | BI39: 3 | BJ39: 2 | BK39: 4 | BL39: 2 | BM39: 4 | BN39: 2 | BO39: 1 | BP39: 2
A40: 45337.505 | B40: nurulllhumaira@gmail.com | C40: Ya, Saya bersedia | D40: Perempuan | E40: DKI Jakarta | F40: Mahasiswa/i | G40: 22 | H40: Rp1.000.000 - Rp3.000.000 | I40: Uang saku | J40: 1 - 3 tahun | K40: Rp200.000 - Rp500.000 | L40: 0859106628835 | M40: 4 | N40: 5 | O40: 5 | P40: 4 | Q40: 5 | R40: 4 | S40: 5 | T40: 4 | U40: 4 | V40: 5 | W40: 4 | X40: 5 | Y40: 4 | Z40: 5 | AA40: 4 | AB40: 2 | AC40: 3 | AD40: 5 | AE40: 3 | AF40: 2 | AG40: 1 | AH40: 4 | AI40: 3 | AJ40: 5 | AK40: 5 | AL40: 7 | AM40: 6 | AN40: 7 | AO40: 3 | AP40: 5 | AQ40: 7 | AR40: 5 | AS40: 6 | AT40: 5 | AU40: 7 | AV40: 4 | AW40: 5 | AX40: 4 | AY40: 5 | AZ40: 5 | BA40: 2 | BB40: 3 | BC40: 5 | BD40: 3 | BE40: 1 | BF40: 4 | BG40: 2 | BH40: 1 | BI40: 2 | BJ40: 1 | BK40: 4 | BL40: 2 | BM40: 4 | BN40: 2 | BO40: 1 | BP40: 3
A41: 45337.509 | B41: dulunyananda@gmail.com | C41: Ya, Saya bersedia | D41: Perempuan | E41: Jawa Barat | F41: Mahasiswa/i | G41: 22 | H41: Rp5.000.000 - Rp8.000.000 | I41: Gaji | J41: 1 - 3 tahun | K41: Rp500.000 - Rp1.000.000 | L41: 08885490329 | M41: 5 | N41: 4 | O41: 4 | P41: 5 | Q41: 4 | R41: 4 | S41: 5 | T41: 4 | U41: 4 | V41: 5 | W41: 5 | X41: 4 | Y41: 5 | Z41: 5 | AA41: 4 | AB41: 4 | AC41: 3 | AD41: 5 | AE41: 4 | AF41: 3 | AG41: 4 | AH41: 3 | AI41: 4 | AJ41: 6 | AK41: 5 | AL41: 6 | AM41: 7 | AN41: 6 | AO41: 3 | AP41: 7 | AQ41: 6 | AR41: 5 | AS41: 6 | AT41: 5 | AU41: 6 | AV41: 4 | AW41: 4 | AX41: 5 | AY41: 4 | AZ41: 5 | BA41: 3 | BB41: 2 | BC41: 4 | BD41: 3 | BE41: 3 | BF41: 4 | BG41: 3 | BH41: 3 | BI41: 2 | BJ41: 3 | BK41: 4 | BL41: 3 | BM41: 4 | BN41: 2 | BO41: 2 | BP41: 3
A42: 45337.51 | B42: bilqisazzahraa72@gmail.com | C42: Ya, Saya bersedia | D42: Perempuan | E42: Jawa Barat | F42: Mahasiswa/i | G42: 20 | H42: < Rp1.000.000 | I42: Uang saku | J42: 1 - 3 tahun | K42: Rp200.000 - Rp500.000 | L42: 082112477327 | M42: 4 | N42: 4 | O42: 5 | P42: 4 | Q42: 5 | R42: 4 | S42: 5 | T42: 4 | U42: 5 | V42: 4 | W42: 5 | X42: 4 | Y42: 5 | Z42: 4 | AA42: 5 | AB42: 3 | AC42: 1 | AD42: 5 | AE42: 3 | AF42: 2 | AG42: 1 | AH42: 4 | AI42: 3 | AJ42: 6 | AK42: 5 | AL42: 7 | AM42: 6 | AN42: 5 | AO42: 2 | AP42: 5 | AQ42: 7 | AR42: 6 | AS42: 7 | AT42: 5 | AU42: 6 | AV42: 5 | AW42: 4 | AX42: 5 | AY42: 5 | AZ42: 4 | BA42: 3 | BB42: 2 | BC42: 4 | BD42: 2 | BE42: 3 | BF42: 5 | BG42: 2 | BH42: 1 | BI42: 3 | BJ42: 2 | BK42: 4 | BL42: 2 | BM42: 5 | BN42: 2 | BO42: 1 | BP42: 3
A43: 45337.517 | B43: aleksiakalinaputeri@gmail.com | C43: Ya, Saya bersedia | D43: Perempuan | E43: Jawa Barat | F43: Mahasiswa/i | G43: 22 | H43: Rp3.000.000 - Rp5.000.000 | I43: Uang saku, Gaji | J43: 3 - 5 tahun | K43: Rp200.000 - Rp500.000 | M43: 4 | N43: 4 | O43: 5 | P43: 4 | Q43: 5 | R43: 5 | S43: 4 | T43: 4 | U43: 4 | V43: 5 | W43: 5 | X43: 4 | Y43: 4 | Z43: 5 | AA43: 4 | AB43: 2 | AC43: 3 | AD43: 5 | AE43: 3 | AF43: 1 | AG43: 2 | AH43: 4 | AI43: 4 | AJ43: 7 | AK43: 6 | AL43: 6 | AM43: 5 | AN43: 6 | AO43: 1 | AP43: 7 | AQ43: 6 | AR43: 5 | AS43: 5 | AT43: 6 | AU43: 7 | AV43: 5 | AW43: 5 | AX43: 4 | AY43: 4 | AZ43: 5 | BA43: 1 | BB43: 3 | BC43: 4 | BD43: 2 | BE43: 1 | BF43: 5 | BG43: 1 | BH43: 1 | BI43: 2 | BJ43: 3 | BK43: 4 | BL43: 2 | BM43: 5 | BN43: 2 | BO43: 1 | BP43: 1
A44: 45337.577 | B44: pmaysari1510@gmail.com | C44: Ya, Saya bersedia | D44: Perempuan | E44: Jawa Timur | F44: Karyawan Swasta | G44: 21 | H44: Rp1.000.000 - Rp3.000.000 | I44: Gaji | J44: > 7 tahun | K44: Rp500.000 - Rp1.000.000 | L44: 082111248404 | M44: 3 | N44: 5 | O44: 5 | P44: 5 | Q44: 5 | R44: 5 | S44: 5 | T44: 5 | U44: 5 | V44: 5 | W44: 5 | X44: 5 | Y44: 5 | Z44: 5 | AA44: 5 | AB44: 7 | AC44: 7 | AD44: 1 | AE44: 6 | AF44: 6 | AG44: 6 | AH44: 7 | AI44: 7 | AJ44: 3 | AK44: 1 | AL44: 4 | AM44: 1 | AN44: 4 | AO44: 6 | AP44: 7 | AQ44: 4 | AR44: 3 | AS44: 1 | AT44: 1 | AU44: 3 | AV44: 3 | AW44: 3 | AX44: 3 | AY44: 3 | AZ44: 2 | BA44: 4 | BB44: 4 | BC44: 3 | BD44: 5 | BE44: 5 | BF44: 3 | BG44: 3 | BH44: 2 | BI44: 3 | BJ44: 3 | BK44: 3 | BL44: 4 | BM44: 3 | BN44: 3 | BO44: 4 | BP44: 4
A45: 45337.581 | B45: mldnrahma2@gmail.com | C45: Ya, Saya bersedia | D45: Perempuan | E45: Jawa Timur | F45: Mahasiswa/i | G45: 21 | H45: < Rp1.000.000 | I45: Uang saku | J45: > 7 tahun | K45: < Rp200.000 | L45: 089699784165 | M45: 4 | N45: 4 | O45: 5 | P45: 3 | Q45: 3 | R45: 4 | S45: 3 | T45: 3 | U45: 5 | V45: 4 | W45: 5 | X45: 3 | Y45: 5 | Z45: 3 | AA45: 5 | AB45: 6 | AC45: 7 | AD45: 5 | AE45: 6 | AF45: 4 | AG45: 6 | AH45: 6 | AI45: 7 | AJ45: 4 | AK45: 4 | AL45: 5 | AM45: 5 | AN45: 5 | AO45: 4 | AP45: 7 | AQ45: 7 | AR45: 4 | AS45: 3 | AT45: 4 | AU45: 3 | AV45: 3 | AW45: 3 | AX45: 2 | AY45: 3 | AZ45: 1 | BA45: 5 | BB45: 5 | BC45: 4 | BD45: 5 | BE45: 5 | BF45: 1 | BG45: 5 | BH45: 5 | BI45: 5 | BJ45: 5 | BK45: 2 | BL45: 5 | BM45: 2 | BN45: 5 | BO45: 5 | BP45: 5
A46: 45337.619 | B46: dinerizqiaa30@gmail.com | C46: Ya, Saya bersedia | D46: Perempuan | E46: Jawa Barat | F46: Siswa/i | G46: 17 | H46: Rp1.000.000 - Rp3.000.000 | I46: Uang saku | J46: 5 - 7 tahun | K46: Rp500.000 - Rp1.000.000 | L46: 088804184595 | M46: 4 | N46: 5 | O46: 5 | P46: 4 | Q46: 5 | R46: 5 | S46: 4 | T46: 4 | U46: 5 | V46: 5 | W46: 4 | X46: 4 | Y46: 5 | Z46: 5 | AA46: 4 | AB46: 2 | AC46: 4 | AD46: 5 | AE46: 3 | AF46: 4 | AG46: 2 | AH46: 1 | AI46: 3 | AJ46: 6 | AK46: 5 | AL46: 7 | AM46: 6 | AN46: 6 | AO46: 3 | AP46: 7 | AQ46: 5 | AR46: 6 | AS46: 6 | AT46: 7 | AU46: 6 | AV46: 4 | AW46: 5 | AX46: 5 | AY46: 4 | AZ46: 5 | BA46: 2 | BB46: 1 | BC46: 4 | BD46: 2 | BE46: 1 | BF46: 4 | BG46: 1 | BH46: 2 | BI46: 2 | BJ46: 3 | BK46: 4 | BL46: 1 | BM46: 4 | BN46: 3 | BO46: 3 | BP46: 1
A47: 45337.666 | B47: fahirrazizah11@gmail.com | C47: Ya, Saya bersedia | D47: Perempuan | E47: Banten | F47: Mahasiswa/i | G47: 20 | H47: Rp1.000.000 - Rp3.000.000 | I47: Uang saku | J47: 3 - 5 tahun | K47: Rp200.000 - Rp500.000 | L47: 081292919893 | M47: 4 | N47: 4 | O47: 5 | P47: 4 | Q47: 5 | R47: 5 | S47: 4 | T47: 5 | U47: 4 | V47: 4 | W47: 5 | X47: 4 | Y47: 5 | Z47: 5 | AA47: 4 | AB47: 3 | AC47: 4 | AD47: 6 | AE47: 3 | AF47: 4 | AG47: 2 | AH47: 3 | AI47: 3 | AJ47: 5 | AK47: 7 | AL47: 5 | AM47: 6 | AN47: 5 | AO47: 3 | AP47: 6 | AQ47: 6 | AR47: 7 | AS47: 5 | AT47: 6 | AU47: 6 | AV47: 4 | AW47: 5 | AX47: 4 | AY47: 5 | AZ47: 5 | BA47: 3 | BB47: 2 | BC47: 4 | BD47: 2 | BE47: 3 | BF47: 5 | BG47: 3 | BH47: 2 | BI47: 2 | BJ47: 1 | BK47: 4 | BL47: 2 | BM47: 5 | BN47: 3 | BO47: 2 | BP47: 2
A48: 45337.672 | B48: cindynursofia@gmail.com | C48: Ya, Saya bersedia | D48: Perempuan | E48: DKI Jakarta | F48: Mahasiswa/i | G48: 21 | H48: Rp1.000.000 - Rp3.000.000 | I48: Uang saku | J48: 1 - 3 tahun | K48: Rp200.000 - Rp500.000 | L48: 0895413098832 | M48: 5 | N48: 4 | O48: 5 | P48: 4 | Q48: 4 | R48: 5 | S48: 4 | T48: 5 | U48: 5 | V48: 4 | W48: 5 | X48: 4 | Y48: 5 | Z48: 5 | AA48: 4 | AB48: 2 | AC48: 3 | AD48: 6 | AE48: 3 | AF48: 2 | AG48: 3 | AH48: 2 | AI48: 2 | AJ48: 5 | AK48: 6 | AL48: 6 | AM48: 5 | AN48: 7 | AO48: 4 | AP48: 6 | AQ48: 5 | AR48: 6 | AS48: 7 | AT48: 5 | AU48: 6 | AV48: 5 | AW48: 4 | AX48: 4 | AY48: 5 | AZ48: 4 | BA48: 2 | BB48: 1 | BC48: 4 | BD48: 2 | BE48: 3 | BF48: 5 | BG48: 3 | BH48: 2 | BI48: 3 | BJ48: 1 | BK48: 4 | BL48: 2 | BM48: 4 | BN48: 3 | BO48: 1 | BP48: 2
A49: 45337.741 | B49: zayn.malikk2011@gmail.com | C49: Ya, Saya bersedia | D49: Laki-laki | E49: DKI Jakarta | F49: Mahasiswa/i | G49: 23 | H49: Rp3.000.000 - Rp5.000.000 | I49: Uang saku, Gaji | J49: 3 - 5 tahun | K49: Rp500.000 - Rp1.000.000 | L49: 089660900150 | M49: 5 | N49: 5 | O49: 5 | P49: 4 | Q49: 5 | R49: 4 | S49: 5 | T49: 4 | U49: 4 | V49: 4 | W49: 4 | X49: 5 | Y49: 5 | Z49: 4 | AA49: 4 | AB49: 4 | AC49: 1 | AD49: 6 | AE49: 3 | AF49: 7 | AG49: 7 | AH49: 6 | AI49: 2 | AJ49: 5 | AK49: 7 | AL49: 6 | AM49: 6 | AN49: 6 | AO49: 6 | AP49: 6 | AQ49: 7 | AR49: 6 | AS49: 6 | AT49: 6 | AU49: 5 | AV49: 5 | AW49: 1 | AX49: 1 | AY49: 1 | AZ49: 4 | BA49: 1 | BB49: 2 | BC49: 4 | BD49: 2 | BE49: 3 | BF49: 5 | BG49: 1 | BH49: 1 | BI49: 1 | BJ49: 2 | BK49: 4 | BL49: 1 | BM49: 5 | BN49: 1 | BO49: 3 | BP49: 2
A50: 45337.744 | B50: msatriaa638@gmail.com | C50: Ya, Saya bersedia | D50: Laki-laki | E50: Jawa Tengah | F50: Mahasiswa/i | G50: 22 | H50: Rp1.000.000 - Rp3.000.000 | I50: Uang saku | J50: < 1 tahun | K50: < Rp200.000 | L50: 083831677254 | M50: 4 | N50: 4 | O50: 5 | P50: 4 | Q50: 5 | R50: 4 | S50: 5 | T50: 5 | U50: 4 | V50: 5 | W50: 4 | X50: 5 | Y50: 4 | Z50: 4 | AA50: 5 | AB50: 2 | AC50: 3 | AD50: 6 | AE50: 4 | AF50: 3 | AG50: 3 | AH50: 2 | AI50: 3 | AJ50: 6 | AK50: 5 | AL50: 7 | AM50: 6 | AN50: 6 | AO50: 3 | AP50: 5 | AQ50: 7 | AR50: 6 | AS50: 6 | AT50: 7 | AU50: 5 | AV50: 4 | AW50: 5 | AX50: 5 | AY50: 4 | AZ50: 5 | BA50: 3 | BB50: 2 | BC50: 4 | BD50: 2 | BE50: 1 | BF50: 4 | BG50: 2 | BH50: 3 | BI50: 2 | BJ50: 3 | BK50: 5 | BL50: 2 | BM50: 4 | BN50: 2 | BO50: 1 | BP50: 3
A51: 45337.753 | B51: dewanggarizky05@gmail.com | C51: Ya, Saya bersedia | D51: Laki-laki | E51: Jawa Tengah | F51: Mahasiswa/i | G51: 21 | H51: Rp1.000.000 - Rp3.000.000 | I51: Uang saku | J51: < 1 tahun | K51: < Rp200.000 | L51: 081257738652 | M51: 5 | N51: 4 | O51: 5 | P51: 4 | Q51: 4 | R51: 5 | S51: 4 | T51: 5 | U51: 5 | V51: 4 | W51: 5 | X51: 4 | Y51: 5 | Z51: 4 | AA51: 4 | AB51: 3 | AC51: 3 | AD51: 6 | AE51: 4 | AF51: 2 | AG51: 3 | AH51: 2 | AI51: 2 | AJ51: 5 | AK51: 5 | AL51: 7 | AM51: 6 | AN51: 5 | AO51: 3 | AP51: 6 | AQ51: 5 | AR51: 7 | AS51: 6 | AT51: 6 | AU51: 5 | AV51: 5 | AW51: 4 | AX51: 5 | AY51: 5 | AZ51: 4 | BA51: 2 | BB51: 3 | BC51: 5 | BD51: 3 | BE51: 3 | BF51: 4 | BG51: 2 | BH51: 1 | BI51: 2 | BJ51: 2 | BK51: 5 | BL51: 3 | BM51: 4 | BN51: 2 | BO51: 2 | BP51: 1
A52: 45337.756 | B52: kanayajijel@gmail.com | C52: Ya, Saya bersedia | D52: Perempuan | E52: Jawa Tengah | F52: Mahasiswa/i | G52: 20 | H52: Rp1.000.000 - Rp3.000.000 | I52: Uang saku | J52: 3 - 5 tahun | K52: Rp1.000.000 - Rp3.000.000 | M52: 5 | N52: 4 | O52: 5 | P52: 5 | Q52: 4 | R52: 5 | S52: 4 | T52: 4 | U52: 5 | V52: 4 | W52: 5 | X52: 4 | Y52: 4 | Z52: 5 | AA52: 4 | AB52: 3 | AC52: 2 | AD52: 6 | AE52: 3 | AF52: 2 | AG52: 4 | AH52: 2 | AI52: 3 | AJ52: 7 | AK52: 5 | AL52: 6 | AM52: 7 | AN52: 5 | AO52: 3 | AP52: 6 | AQ52: 7 | AR52: 5 | AS52: 6 | AT52: 7 | AU52: 6 | AV52: 5 | AW52: 4 | AX52: 5 | AY52: 5 | AZ52: 4 | BA52: 2 | BB52: 1 | BC52: 4 | BD52: 2 | BE52: 1 | BF52: 4 | BG52: 2 | BH52: 1 | BI52: 3 | BJ52: 2 | BK52: 5 | BL52: 3 | BM52: 4 | BN52: 2 | BO52: 1 | BP52: 3
A53: 45337.759 | B53: raniaazela19@gmail.com | C53: Ya, Saya bersedia | D53: Perempuan | E53: Jawa Timur | F53: Karyawan Swasta | G53: 24 | H53: Rp3.000.000 - Rp5.000.000 | I53: Gaji | J53: 5 - 7 tahun | K53: Rp3.000.000 - Rp5.000.000 | M53: 4 | N53: 4 | O53: 5 | P53: 4 | Q53: 5 | R53: 5 | S53: 4 | T53: 5 | U53: 4 | V53: 4 | W53: 5 | X53: 4 | Y53: 5 | Z53: 4 | AA53: 4 | AB53: 2 | AC53: 4 | AD53: 6 | AE53: 2 | AF53: 4 | AG53: 1 | AH53: 3 | AI53: 2 | AJ53: 5 | AK53: 7 | AL53: 6 | AM53: 7 | AN53: 5 | AO53: 2 | AP53: 7 | AQ53: 5 | AR53: 7 | AS53: 6 | AT53: 7 | AU53: 5 | AV53: 5 | AW53: 4 | AX53: 5 | AY53: 5 | AZ53: 4 | BA53: 3 | BB53: 1 | BC53: 4 | BD53: 3 | BE53: 2 | BF53: 4 | BG53: 2 | BH53: 1 | BI53: 3 | BJ53: 2 | BK53: 4 | BL53: 3 | BM53: 5 | BN53: 3 | BO53: 2 | BP53: 2
A54: 45337.761 | B54: rayhanabbas75@gmail.com | C54: Ya, Saya bersedia | D54: Laki-laki | E54: Jawa Barat | F54: Mahasiswa/i | G54: 24 | H54: Rp1.000.000 - Rp3.000.000 | I54: Gaji | J54: 1 - 3 tahun | K54: Rp200.000 - Rp500.000 | L54: 082251898682 | M54: 5 | N54: 4 | O54: 4 | P54: 4 | Q54: 5 | R54: 4 | S54: 5 | T54: 4 | U54: 4 | V54: 4 | W54: 4 | X54: 5 | Y54: 4 | Z54: 5 | AA54: 5 | AB54: 4 | AC54: 1 | AD54: 7 | AE54: 3 | AF54: 2 | AG54: 2 | AH54: 1 | AI54: 3 | AJ54: 7 | AK54: 6 | AL54: 6 | AM54: 5 | AN54: 7 | AO54: 2 | AP54: 7 | AQ54: 5 | AR54: 6 | AS54: 5 | AT54: 7 | AU54: 6 | AV54: 5 | AW54: 4 | AX54: 5 | AY54: 5 | AZ54: 4 | BA54: 1 | BB54: 2 | BC54: 5 | BD54: 2 | BE54: 2 | BF54: 5 | BG54: 2 | BH54: 1 | BI54: 3 | BJ54: 3 | BK54: 5 | BL54: 3 | BM54: 5 | BN54: 1 | BO54: 2 | BP54: 2
A55: 45337.768 | B55: indahwww1@gmail.com | C55: Ya, Saya bersedia | D55: Perempuan | E55: Jawa Barat | F55: Mahasiswa/i | G55: 23 | H55: Rp1.000.000 - Rp3.000.000 | I55: Uang saku | J55: 3 - 5 tahun | K55: Rp200.000 - Rp500.000 | M55: 5 | N55: 5 | O55: 4 | P55: 4 | Q55: 5 | R55: 4 | S55: 4 | T55: 5 | U55: 4 | V55: 5 | W55: 4 | X55: 5 | Y55: 4 | Z55: 5 | AA55: 4 | AB55: 3 | AC55: 2 | AD55: 5 | AE55: 3 | AF55: 2 | AG55: 1 | AH55: 3 | AI55: 4 | AJ55: 6 | AK55: 7 | AL55: 6 | AM55: 7 | AN55: 5 | AO55: 3 | AP55: 5 | AQ55: 7 | AR55: 6 | AS55: 7 | AT55: 6 | AU55: 5 | AV55: 4 | AW55: 5 | AX55: 4 | AY55: 5 | AZ55: 5 | BA55: 2 | BB55: 3 | BC55: 4 | BD55: 3 | BE55: 2 | BF55: 4 | BG55: 2 | BH55: 1 | BI55: 3 | BJ55: 2 | BK55: 4 | BL55: 2 | BM55: 4 | BN55: 2 | BO55: 1 | BP55: 3
A56: 45337.777 | B56: fianhusnatul2001@gmail.com | C56: Ya, Saya bersedia | D56: Perempuan | E56: Jawa Timur | F56: Mahasiswa/i | G56: 22 | H56: Rp1.000.000 - Rp3.000.000 | I56: Uang saku | J56: > 7 tahun | K56: Rp1.000.000 - Rp3.000.000 | L56: 085867203284 | M56: 5 | N56: 5 | O56: 5 | P56: 5 | Q56: 4 | R56: 3 | S56: 3 | T56: 3 | U56: 4 | V56: 4 | W56: 4 | X56: 3 | Y56: 5 | Z56: 5 | AA56: 5 | AB56: 7 | AC56: 7 | AD56: 4 | AE56: 7 | AF56: 2 | AG56: 4 | AH56: 7 | AI56: 4 | AJ56: 1 | AK56: 1 | AL56: 1 | AM56: 1 | AN56: 1 | AO56: 1 | AP56: 7 | AQ56: 5 | AR56: 1 | AS56: 1 | AT56: 1 | AU56: 6 | AV56: 1 | AW56: 3 | AX56: 1 | AY56: 2 | AZ56: 1 | BA56: 4 | BB56: 3 | BC56: 3 | BD56: 5 | BE56: 5 | BF56: 3 | BG56: 3 | BH56: 3 | BI56: 3 | BJ56: 3 | BK56: 4 | BL56: 5 | BM56: 3 | BN56: 3 | BO56: 4 | BP56: 3
A57: 45337.781 | B57: ainin7015@gmail.com | C57: Ya, Saya bersedia | D57: Perempuan | E57: Jawa Timur | F57: Mahasiswa/i | G57: 22 | H57: < Rp1.000.000 | I57: Uang saku | J57: > 7 tahun | K57: < Rp200.000 | L57: 085606943775 | M57: 4 | N57: 5 | O57: 5 | P57: 4 | Q57: 3 | R57: 5 | S57: 4 | T57: 4 | U57: 4 | V57: 4 | W57: 4 | X57: 3 | Y57: 4 | Z57: 4 | AA57: 4 | AB57: 6 | AC57: 4 | AD57: 4 | AE57: 6 | AF57: 7 | AG57: 7 | AH57: 5 | AI57: 7 | AJ57: 4 | AK57: 1 | AL57: 4 | AM57: 4 | AN57: 5 | AO57: 6 | AP57: 7 | AQ57: 4 | AR57: 4 | AS57: 4 | AT57: 5 | AU57: 5 | AV57: 2 | AW57: 4 | AX57: 2 | AY57: 2 | AZ57: 2 | BA57: 4 | BB57: 4 | BC57: 3 | BD57: 5 | BE57: 4 | BF57: 3 | BG57: 4 | BH57: 4 | BI57: 4 | BJ57: 5 | BK57: 2 | BL57: 5 | BM57: 2 | BN57: 4 | BO57: 5 | BP57: 5
A58: 45337.785 | B58: jovankangel12@gmail.com | C58: Ya, Saya bersedia | D58: Perempuan | E58: Banten | F58: Mahasiswa/i | G58: 20 | H58: < Rp1.000.000 | I58: Uang saku | J58: 3 - 5 tahun | K58: < Rp200.000 | L58: 082169372515 | M58: 5 | N58: 4 | O58: 1 | P58: 5 | Q58: 4 | R58: 4 | S58: 5 | T58: 4 | U58: 5 | V58: 4 | W58: 4 | X58: 3 | Y58: 4 | Z58: 4 | AA58: 4 | AB58: 5 | AC58: 5 | AD58: 3 | AE58: 5 | AF58: 5 | AG58: 5 | AH58: 5 | AI58: 5 | AJ58: 5 | AK58: 3 | AL58: 5 | AM58: 6 | AN58: 6 | AO58: 3 | AP58: 5 | AQ58: 6 | AR58: 5 | AS58: 5 | AT58: 5 | AU58: 5 | AV58: 4 | AW58: 4 | AX58: 4 | AY58: 4 | AZ58: 2 | BA58: 4 | BB58: 4 | BC58: 4 | BD58: 4 | BE58: 5 | BF58: 5 | BG58: 4 | BH58: 4 | BI58: 4 | BJ58: 4 | BK58: 5 | BL58: 4 | BM58: 4 | BN58: 5 | BO58: 5 | BP58: 3
A59: 45337.786 | B59: kiranadamayanti112@gmail.com | C59: Ya, Saya bersedia | D59: Perempuan | E59: Jawa Barat | F59: Mahasiswa/i | G59: 23 | H59: Rp1.000.000 - Rp3.000.000 | I59: Uang saku | J59: 1 - 3 tahun | K59: Rp500.000 - Rp1.000.000 | L59: 081545857189 | M59: 5 | N59: 5 | O59: 5 | P59: 5 | Q59: 4 | R59: 4 | S59: 4 | T59: 4 | U59: 4 | V59: 5 | W59: 4 | X59: 5 | Y59: 5 | Z59: 4 | AA59: 5 | AB59: 6 | AC59: 6 | AD59: 5 | AE59: 7 | AF59: 7 | AG59: 7 | AH59: 7 | AI59: 7 | AJ59: 4 | AK59: 4 | AL59: 4 | AM59: 6 | AN59: 7 | AO59: 7 | AP59: 7 | AQ59: 5 | AR59: 7 | AS59: 5 | AT59: 4 | AU59: 6 | AV59: 3 | AW59: 2 | AX59: 4 | AY59: 4 | AZ59: 2 | BA59: 5 | BB59: 4 | BC59: 3 | BD59: 5 | BE59: 5 | BF59: 2 | BG59: 4 | BH59: 4 | BI59: 5 | BJ59: 5 | BK59: 4 | BL59: 5 | BM59: 5 | BN59: 4 | BO59: 5 | BP59: 2
A60: 45337.918 | B60: nazaidaellyn@gmail.com | C60: Ya, Saya bersedia | D60: Perempuan | E60: JAWA TIMUR | F60: Mahasiswa/i | G60: 22 | H60: < Rp1.000.000 | I60: Uang saku, Gaji | J60: > 7 tahun | K60: Rp1.000.000 - Rp3.000.000 | L60: 081334380531 | M60: 3 | N60: 4 | O60: 5 | P60: 4 | Q60: 2 | R60: 3 | S60: 3 | T60: 4 | U60: 4 | V60: 3 | W60: 3 | X60: 3 | Y60: 4 | Z60: 3 | AA60: 4 | AB60: 7 | AC60: 7 | AD60: 3 | AE60: 7 | AF60: 7 | AG60: 2 | AH60: 7 | AI60: 7 | AJ60: 2 | AK60: 1 | AL60: 3 | AM60: 4 | AN60: 1 | AO60: 5 | AP60: 7 | AQ60: 2 | AR60: 6 | AS60: 2 | AT60: 1 | AU60: 3 | AV60: 4 | AW60: 3 | AX60: 1 | AY60: 2 | AZ60: 1 | BA60: 2 | BB60: 4 | BC60: 1 | BD60: 5 | BE60: 5 | BF60: 2 | BG60: 3 | BH60: 3 | BI60: 4 | BJ60: 3 | BK60: 3 | BL60: 2 | BM60: 3 | BN60: 3 | BO60: 3 | BP60: 5
A61: 45338.424 | B61: dewidewi190899@gmail.com | C61: Ya, Saya bersedia | D61: Perempuan | E61: Jawa Barat | F61: Karyawan Swasta | G61: 24 | H61: Rp1.000.000 - Rp3.000.000 | I61: Gaji | J61: > 7 tahun | K61: < Rp200.000 | L61: 082124509229 | M61: 4 | N61: 5 | O61: 5 | P61: 4 | Q61: 2 | R61: 3 | S61: 4 | T61: 2 | U61: 3 | V61: 4 | W61: 4 | X61: 1 | Y61: 5 | Z61: 2 | AA61: 5 | AB61: 7 | AC61: 6 | AD61: 5 | AE61: 6 | AF61: 7 | AG61: 3 | AH61: 7 | AI61: 5 | AJ61: 3 | AK61: 5 | AL61: 3 | AM61: 7 | AN61: 4 | AO61: 3 | AP61: 7 | AQ61: 7 | AR61: 3 | AS61: 5 | AT61: 5 | AU61: 6 | AV61: 4 | AW61: 2 | AX61: 2 | AY61: 1 | AZ61: 2 | BA61: 1 | BB61: 4 | BC61: 2 | BD61: 4 | BE61: 5 | BF61: 2 | BG61: 4 | BH61: 5 | BI61: 4 | BJ61: 5 | BK61: 2 | BL61: 4 | BM61: 5 | BN61: 4 | BO61: 5 | BP61: 3
A62: 45338.496 | B62: alysaanabila@gmail.com | C62: Ya, Saya bersedia | D62: Perempuan | E62: Jawa Barat | F62: Mahasiswa/i | G62: 21 | H62: Rp1.000.000 - Rp3.000.000 | I62: Uang saku | J62: 1 - 3 tahun | K62: Rp1.000.000 - Rp3.000.000 | L62: 085794099915 | M62: 5 | N62: 4 | O62: 5 | P62: 4 | Q62: 4 | R62: 4 | S62: 5 | T62: 4 | U62: 5 | V62: 4 | W62: 4 | X62: 4 | Y62: 4 | Z62: 4 | AA62: 5 | AB62: 6 | AC62: 5 | AD62: 7 | AE62: 6 | AF62: 5 | AG62: 5 | AH62: 6 | AI62: 6 | AJ62: 6 | AK62: 7 | AL62: 6 | AM62: 7 | AN62: 6 | AO62: 6 | AP62: 7 | AQ62: 6 | AR62: 6 | AS62: 6 | AT62: 6 | AU62: 7 | AV62: 4 | AW62: 4 | AX62: 5 | AY62: 4 | AZ62: 4 | BA62: 4 | BB62: 4 | BC62: 4 | BD62: 4 | BE62: 5 | BF62: 3 | BG62: 4 | BH62: 4 | BI62: 4 | BJ62: 4 | BK62: 4 | BL62: 4 | BM62: 4 | BN62: 4 | BO62: 4 | BP62: 4
A63: 45338.902 | B63: zahranialysza@gmail.com | C63: Ya, Saya bersedia | D63: Perempuan | E63: DKI jakarta | F63: Mahasiswa/i | G63: 24 | H63: Rp1.000.000 - Rp3.000.000 | I63: Uang saku | J63: 3 - 5 tahun | K63: Rp500.000 - Rp1.000.000 | M63: 5 | N63: 4 | O63: 5 | P63: 4 | Q63: 3 | R63: 5 | S63: 5 | T63: 4 | U63: 5 | V63: 5 | W63: 4 | X63: 5 | Y63: 4 | Z63: 5 | AA63: 4 | AB63: 7 | AC63: 6 | AD63: 4 | AE63: 7 | AF63: 6 | AG63: 6 | AH63: 7 | AI63: 6 | AJ63: 4 | AK63: 7 | AL63: 4 | AM63: 2 | AN63: 2 | AO63: 5 | AP63: 6 | AQ63: 4 | AR63: 2 | AS63: 7 | AT63: 4 | AU63: 7 | AV63: 1 | AW63: 2 | AX63: 1 | AY63: 2 | AZ63: 1 | BA63: 1 | BB63: 3 | BC63: 1 | BD63: 5 | BE63: 5 | BF63: 4 | BG63: 5 | BH63: 5 | BI63: 4 | BJ63: 5 | BK63: 2 | BL63: 5 | BM63: 2 | BN63: 4 | BO63: 5 | BP63: 5
A64: 45339.871 | B64: atherasari@gmail.com | C64: Ya, Saya bersedia | D64: Perempuan | E64: Jawa Barat | F64: Mahasiswa/i | G64: 20 | H64: < Rp1.000.000 | I64: Uang saku | J64: 1 - 3 tahun | K64: Rp500.000 - Rp1.000.000 | L64: 081231352743 | M64: 5 | N64: 4 | O64: 5 | P64: 5 | Q64: 2 | R64: 5 | S64: 5 | T64: 5 | U64: 5 | V64: 4 | W64: 4 | X64: 4 | Y64: 4 | Z64: 5 | AA64: 5 | AB64: 7 | AC64: 7 | AD64: 1 | AE64: 7 | AF64: 7 | AG64: 7 | AH64: 7 | AI64: 7 | AJ64: 1 | AK64: 1 | AL64: 1 | AM64: 1 | AN64: 1 | AO64: 5 | AP64: 7 | AQ64: 7 | AR64: 7 | AS64: 1 | AT64: 1 | AU64: 1 | AV64: 4 | AW64: 1 | AX64: 1 | AY64: 2 | AZ64: 2 | BA64: 5 | BB64: 4 | BC64: 1 | BD64: 4 | BE64: 5 | BF64: 1 | BG64: 4 | BH64: 5 | BI64: 4 | BJ64: 5 | BK64: 2 | BL64: 4 | BM64: 4 | BN64: 3 | BO64: 5 | BP64: 3
A65: 45340.388 | B65: yulistikafajbrina@gmail.com | C65: Ya, Saya bersedia | D65: Perempuan | E65: Jawa Barat | F65: Karyawan Swasta | G65: 28 | H65: Rp1.000.000 - Rp3.000.000 | I65: Gaji | J65: > 7 tahun | K65: Rp200.000 - Rp500.000 | L65: 085891755825 | M65: 5 | N65: 5 | O65: 5 | P65: 5 | Q65: 4 | R65: 5 | S65: 5 | T65: 5 | U65: 5 | V65: 5 | W65: 5 | X65: 5 | Y65: 5 | Z65: 5 | AA65: 5 | AB65: 7 | AC65: 7 | AD65: 7 | AE65: 5 | AF65: 6 | AG65: 4 | AH65: 5 | AI65: 5 | AJ65: 6 | AK65: 5 | AL65: 3 | AM65: 5 | AN65: 3 | AO65: 4 | AP65: 6 | AQ65: 6 | AR65: 3 | AS65: 6 | AT65: 3 | AU65: 6 | AV65: 4 | AW65: 3 | AX65: 3 | AY65: 4 | AZ65: 2 | BA65: 3 | BB65: 5 | BC65: 4 | BD65: 4 | BE65: 3 | BF65: 3 | BG65: 4 | BH65: 4 | BI65: 4 | BJ65: 5 | BK65: 4 | BL65: 5 | BM65: 4 | BN65: 5 | BO65: 5 | BP65: 4
A66: 45341.299 | B66: rachmalianadia@gmail.com | C66: Ya, Saya bersedia | D66: Perempuan | E66: Jawa Timur | F66: Mahasiswa/i | G66: 20 | H66: < Rp1.000.000 | I66: Uang saku | J66: 3 - 5 tahun | K66: Rp200.000 - Rp500.000 | M66: 4 | N66: 4 | O66: 5 | P66: 4 | Q66: 4 | R66: 5 | S66: 5 | T66: 4 | U66: 5 | V66: 5 | W66: 5 | X66: 4 | Y66: 5 | Z66: 5 | AA66: 5 | AB66: 7 | AC66: 7 | AD66: 3 | AE66: 7 | AF66: 7 | AG66: 7 | AH66: 7 | AI66: 7 | AJ66: 7 | AK66: 3 | AL66: 3 | AM66: 3 | AN66: 4 | AO66: 4 | AP66: 7 | AQ66: 7 | AR66: 4 | AS66: 4 | AT66: 3 | AU66: 6 | AV66: 3 | AW66: 4 | AX66: 3 | AY66: 2 | AZ66: 2 | BA66: 5 | BB66: 5 | BC66: 3 | BD66: 5 | BE66: 5 | BF66: 3 | BG66: 4 | BH66: 5 | BI66: 5 | BJ66: 5 | BK66: 3 | BL66: 5 | BM66: 3 | BN66: 5 | BO66: 5 | BP66: 5
A67: 45341.749 | B67: annisadeliasari27@gmail.com | C67: Ya, Saya bersedia | D67: Perempuan | E67: Jawabarat | F67: Mahasiswa/i | G67: 21 | H67: < Rp1.000.000 | I67: Uang saku | J67: > 7 tahun | K67: > Rp5.000.000 | L67: 085161680527 | M67: 5 | N67: 5 | O67: 5 | P67: 5 | Q67: 5 | R67: 5 | S67: 5 | T67: 5 | U67: 5 | V67: 5 | W67: 5 | X67: 5 | Y67: 5 | Z67: 5 | AA67: 5 | AB67: 7 | AC67: 7 | AD67: 5 | AE67: 7 | AF67: 6 | AG67: 6 | AH67: 7 | AI67: 7 | AJ67: 7 | AK67: 7 | AL67: 7 | AM67: 7 | AN67: 7 | AO67: 7 | AP67: 7 | AQ67: 7 | AR67: 7 | AS67: 7 | AT67: 7 | AU67: 7 | AV67: 5 | AW67: 5 | AX67: 5 | AY67: 5 | AZ67: 3 | BA67: 5 | BB67: 5 | BC67: 5 | BD67: 5 | BE67: 5 | BF67: 3 | BG67: 5 | BH67: 5 | BI67: 5 | BJ67: 5 | BK67: 5 | BL67: 5 | BM67: 5 | BN67: 5 | BO67: 5 | BP67: 5
A68: 45341.797 | B68: sutriberuhin@gmail.com | C68: Ya, Saya bersedia | D68: Perempuan | E68: D.I Yogyakarta | F68: Mahasiswa/i | G68: 21 | H68: < Rp1.000.000 | I68: Uang saku, BA Jasprom | J68: > 7 tahun | K68: Rp200.000 - Rp500.000 | L68: 0895411139986 | M68: 5 | N68: 5 | O68: 5 | P68: 5 | Q68: 5 | R68: 5 | S68: 5 | T68: 5 | U68: 5 | V68: 5 | W68: 5 | X68: 5 | Y68: 5 | Z68: 5 | AA68: 5 | AB68: 7 | AC68: 7 | AD68: 5 | AE68: 7 | AF68: 7 | AG68: 7 | AH68: 7 | AI68: 7 | AJ68: 5 | AK68: 5 | AL68: 1 | AM68: 5 | AN68: 5 | AO68: 5 | AP68: 7 | AQ68: 7 | AR68: 7 | AS68: 5 | AT68: 1 | AU68: 7 | AV68: 1 | AW68: 1 | AX68: 1 | AY68: 1 | AZ68: 1 | BA68: 5 | BB68: 5 | BC68: 5 | BD68: 5 | BE68: 5 | BF68: 3 | BG68: 5 | BH68: 5 | BI68: 5 | BJ68: 5 | BK68: 3 | BL68: 5 | BM68: 4 | BN68: 5 | BO68: 5 | BP68: 5
A69: 45341.804 | B69: sulvina1333@gmail.com | C69: Ya, Saya bersedia | D69: Perempuan | E69: Jawa Barat | F69: Mahasiswa/i | G69: 22 | H69: Rp1.000.000 - Rp3.000.000 | I69: Uang saku, Gaji | J69: 5 - 7 tahun | K69: Rp500.000 - Rp1.000.000 | L69: 082347961350 | M69: 5 | N69: 5 | O69: 4 | P69: 5 | Q69: 2 | R69: 5 | S69: 5 | T69: 5 | U69: 4 | V69: 5 | W69: 5 | X69: 4 | Y69: 5 | Z69: 5 | AA69: 4 | AB69: 5 | AC69: 4 | AD69: 5 | AE69: 6 | AF69: 3 | AG69: 3 | AH69: 6 | AI69: 6 | AJ69: 2 | AK69: 3 | AL69: 4 | AM69: 5 | AN69: 6 | AO69: 3 | AP69: 6 | AQ69: 6 | AR69: 5 | AS69: 6 | AT69: 2 | AU69: 5 | AV69: 3 | AW69: 1 | AX69: 4 | AY69: 3 | AZ69: 3 | BA69: 3 | BB69: 5 | BC69: 2 | BD69: 4 | BE69: 5 | BF69: 2 | BG69: 4 | BH69: 5 | BI69: 5 | BJ69: 4 | BK69: 4 | BL69: 2 | BM69: 4 | BN69: 3 | BO69: 4 | BP69: 4
A70: 45342.516 | B70: aisyahasya251@gmail.com | C70: Ya, Saya bersedia | D70: Perempuan | E70: Jawa Barat | F70: Siswa/i | G70: 17 | H70: Rp1.000.000 - Rp3.000.000 | I70: Uang saku | J70: 1 - 3 tahun | K70: Rp200.000 - Rp500.000 | M70: 4 | N70: 5 | O70: 5 | P70: 5 | Q70: 4 | R70: 5 | S70: 5 | T70: 4 | U70: 5 | V70: 4 | W70: 5 | X70: 5 | Y70: 4 | Z70: 5 | AA70: 4 | AB70: 2 | AC70: 2 | AD70: 6 | AE70: 2 | AF70: 3 | AG70: 2 | AH70: 6 | AI70: 3 | AJ70: 4 | AK70: 6 | AL70: 6 | AM70: 6 | AN70: 4 | AO70: 1 | AP70: 6 | AQ70: 6 | AR70: 6 | AS70: 6 | AT70: 6 | AU70: 7 | AV70: 4 | AW70: 3 | AX70: 5 | AY70: 4 | AZ70: 4 | BA70: 4 | BB70: 2 | BC70: 5 | BD70: 5 | BE70: 2 | BF70: 4 | BG70: 2 | BH70: 4 | BI70: 4 | BJ70: 3 | BK70: 5 | BL70: 4 | BM70: 4 | BN70: 3 | BO70: 4 | BP70: 4
A71: 45342.518 | B71: belindanirmana@gmail.com | C71: Ya, Saya bersedia | D71: Perempuan | E71: Jawa Barat | F71: Mahasiswa/i | G71: 22 | H71: Rp3.000.000 - Rp5.000.000 | I71: Uang saku | J71: > 7 tahun | K71: Rp500.000 - Rp1.000.000 | M71: 4 | N71: 5 | O71: 5 | P71: 5 | Q71: 3 | R71: 5 | S71: 5 | T71: 4 | U71: 5 | V71: 5 | W71: 5 | X71: 5 | Y71: 5 | Z71: 4 | AA71: 5 | AB71: 7 | AC71: 7 | AD71: 2 | AE71: 6 | AF71: 5 | AG71: 7 | AH71: 7 | AI71: 6 | AJ71: 2 | AK71: 2 | AL71: 3 | AM71: 2 | AN71: 2 | AO71: 4 | AP71: 6 | AQ71: 4 | AR71: 4 | AS71: 5 | AT71: 2 | AU71: 2 | AV71: 2 | AW71: 1 | AX71: 2 | AY71: 1 | AZ71: 1 | BA71: 2 | BB71: 5 | BC71: 1 | BD71: 4 | BE71: 5 | BF71: 2 | BG71: 5 | BH71: 4 | BI71: 5 | BJ71: 5 | BK71: 2 | BL71: 4 | BM71: 1 | BN71: 5 | BO71: 4 | BP71: 5
A72: 45342.52 | B72: apriliaputrihasdar@gmail.com | C72: Ya, Saya bersedia | D72: Perempuan | E72: DKI Jakarta | F72: Mahasiswa/i | G72: 22 | H72: Rp1.000.000 - Rp3.000.000 | I72: Uang saku | J72: 1 - 3 tahun | K72: Rp200.000 - Rp500.000 | L72: 082198636096 | M72: 5 | N72: 4 | O72: 5 | P72: 4 | Q72: 5 | R72: 5 | S72: 5 | T72: 5 | U72: 4 | V72: 5 | W72: 5 | X72: 4 | Y72: 4 | Z72: 5 | AA72: 5 | AB72: 2 | AC72: 1 | AD72: 6 | AE72: 2 | AF72: 2 | AG72: 6 | AH72: 3 | AI72: 2 | AJ72: 6 | AK72: 6 | AL72: 6 | AM72: 7 | AN72: 7 | AO72: 1 | AP72: 7 | AQ72: 7 | AR72: 6 | AS72: 6 | AT72: 7 | AU72: 6 | AV72: 4 | AW72: 4 | AX72: 5 | AY72: 3 | AZ72: 5 | BA72: 2 | BB72: 5 | BC72: 4 | BD72: 2 | BE72: 2 | BF72: 3 | BG72: 2 | BH72: 4 | BI72: 2 | BJ72: 4 | BK72: 4 | BL72: 2 | BM72: 5 | BN72: 2 | BO72: 1 | BP72: 2
A73: 45342.522 | B73: auliyahpaisal@gmail.com | C73: Ya, Saya bersedia | D73: Perempuan | E73: Yogyakarta | F73: Siswa/i | G73: 16 | H73: < Rp1.000.000 | I73: Uang saku | J73: 1 - 3 tahun | K73: < Rp200.000 | M73: 5 | N73: 4 | O73: 4 | P73: 5 | Q73: 5 | R73: 4 | S73: 4 | T73: 5 | U73: 5 | V73: 5 | W73: 5 | X73: 4 | Y73: 5 | Z73: 5 | AA73: 5 | AB73: 6 | AC73: 5 | AD73: 3 | AE73: 5 | AF73: 3 | AG73: 4 | AH73: 7 | AI73: 5 | AJ73: 6 | AK73: 3 | AL73: 2 | AM73: 5 | AN73: 5 | AO73: 3 | AP73: 7 | AQ73: 6 | AR73: 3 | AS73: 5 | AT73: 3 | AU73: 5 | AV73: 2 | AW73: 1 | AX73: 2 | AY73: 1 | AZ73: 1 | BA73: 5 | BB73: 5 | BC73: 1 | BD73: 4 | BE73: 4 | BF73: 1 | BG73: 4 | BH73: 4 | BI73: 4 | BJ73: 5 | BK73: 1 | BL73: 4 | BM73: 1 | BN73: 4 | BO73: 4 | BP73: 5
A74: 45342.523 | B74: citra66725@gmail.com | C74: Ya, Saya bersedia | D74: Perempuan | E74: Jawa Barat | F74: Karyawan Swasta | G74: 27 | H74: < Rp1.000.000 | I74: Gaji | J74: > 7 tahun | K74: Rp200.000 - Rp500.000 | L74: 087842136187 | M74: 5 | N74: 4 | O74: 5 | P74: 5 | Q74: 5 | R74: 4 | S74: 5 | T74: 5 | U74: 5 | V74: 4 | W74: 5 | X74: 5 | Y74: 4 | Z74: 5 | AA74: 5 | AB74: 7 | AC74: 7 | AD74: 2 | AE74: 6 | AF74: 6 | AG74: 7 | AH74: 7 | AI74: 6 | AJ74: 2 | AK74: 2 | AL74: 3 | AM74: 3 | AN74: 2 | AO74: 3 | AP74: 7 | AQ74: 5 | AR74: 3 | AS74: 2 | AT74: 1 | AU74: 3 | AV74: 1 | AW74: 1 | AX74: 5 | AY74: 2 | AZ74: 1 | BA74: 5 | BB74: 4 | BC74: 2 | BD74: 4 | BE74: 5 | BF74: 1 | BG74: 5 | BH74: 5 | BI74: 4 | BJ74: 4 | BK74: 2 | BL74: 4 | BM74: 2 | BN74: 4 | BO74: 5 | BP74: 5
A75: 45342.577 | B75: aliyahnurrr33@gmail.com | C75: Ya, Saya bersedia | D75: Perempuan | E75: Jawa Timur | F75: Siswa/i | G75: 17 | H75: < Rp1.000.000 | I75: Uang saku | J75: 3 - 5 tahun | K75: < Rp200.000 | L75: 081549364297 | M75: 4 | N75: 5 | O75: 5 | P75: 5 | Q75: 4 | R75: 4 | S75: 5 | T75: 5 | U75: 5 | V75: 4 | W75: 5 | X75: 5 | Y75: 5 | Z75: 5 | AA75: 4 | AB75: 6 | AC75: 3 | AD75: 6 | AE75: 3 | AF75: 2 | AG75: 2 | AH75: 7 | AI75: 5 | AJ75: 6 | AK75: 6 | AL75: 6 | AM75: 6 | AN75: 7 | AO75: 2 | AP75: 6 | AQ75: 6 | AR75: 7 | AS75: 6 | AT75: 6 | AU75: 6 | AV75: 4 | AW75: 4 | AX75: 4 | AY75: 5 | AZ75: 4 | BA75: 2 | BB75: 2 | BC75: 5 | BD75: 2 | BE75: 4 | BF75: 5 | BG75: 2 | BH75: 4 | BI75: 4 | BJ75: 5 | BK75: 5 | BL75: 3 | BM75: 4 | BN75: 1 | BO75: 1 | BP75: 2
A76: 45342.58 | B76: salehfidyah@gmail.com | C76: Ya, Saya bersedia | D76: Perempuan | E76: Jawa barat | F76: Siswa/i | G76: 16 | H76: < Rp1.000.000 | I76: Uang saku | J76: 1 - 3 tahun | K76: < Rp200.000 | M76: 4 | N76: 5 | O76: 5 | P76: 4 | Q76: 5 | R76: 4 | S76: 5 | T76: 5 | U76: 4 | V76: 5 | W76: 5 | X76: 4 | Y76: 5 | Z76: 5 | AA76: 5 | AB76: 2 | AC76: 3 | AD76: 6 | AE76: 1 | AF76: 2 | AG76: 2 | AH76: 2 | AI76: 1 | AJ76: 6 | AK76: 6 | AL76: 6 | AM76: 6 | AN76: 6 | AO76: 6 | AP76: 7 | AQ76: 6 | AR76: 6 | AS76: 6 | AT76: 7 | AU76: 7 | AV76: 4 | AW76: 4 | AX76: 4 | AY76: 5 | AZ76: 5 | BA76: 1 | BB76: 2 | BC76: 4 | BD76: 2 | BE76: 1 | BF76: 4 | BG76: 2 | BH76: 2 | BI76: 2 | BJ76: 4 | BK76: 4 | BL76: 4 | BM76: 5 | BN76: 1 | BO76: 2 | BP76: 2
A77: 45342.582 | B77: deswitaanastaysa@gmail.com | C77: Ya, Saya bersedia | D77: Perempuan | E77: Jawa tengah | F77: Karyawan Swasta | G77: 28 | H77: Rp8.000.000 - Rp10.000.000 | I77: Gaji | J77: > 7 tahun | K77: Rp200.000 - Rp500.000 | L77: 082190689071 | M77: 5 | N77: 5 | O77: 4 | P77: 5 | Q77: 5 | R77: 5 | S77: 4 | T77: 5 | U77: 4 | V77: 5 | W77: 5 | X77: 5 | Y77: 4 | Z77: 4 | AA77: 5 | AB77: 6 | AC77: 4 | AD77: 5 | AE77: 7 | AF77: 3 | AG77: 4 | AH77: 6 | AI77: 5 | AJ77: 3 | AK77: 3 | AL77: 5 | AM77: 3 | AN77: 3 | AO77: 7 | AP77: 6 | AQ77: 3 | AR77: 2 | AS77: 3 | AT77: 3 | AU77: 4 | AV77: 1 | AW77: 1 | AX77: 2 | AY77: 1 | AZ77: 2 | BA77: 4 | BB77: 4 | BC77: 2 | BD77: 4 | BE77: 5 | BF77: 1 | BG77: 4 | BH77: 4 | BI77: 5 | BJ77: 4 | BK77: 2 | BL77: 4 | BM77: 1 | BN77: 4 | BO77: 5 | BP77: 4
A78: 45342.583 | B78: dewipermatasari1243@gmail.com | C78: Ya, Saya bersedia | D78: Perempuan | E78: Jakarta | F78: Mahasiswa/i | G78: 20 | H78: Rp1.000.000 - Rp3.000.000 | I78: Uang saku | J78: 3 - 5 tahun | K78: < Rp200.000 | M78: 4 | N78: 5 | O78: 4 | P78: 5 | Q78: 5 | R78: 4 | S78: 5 | T78: 5 | U78: 5 | V78: 4 | W78: 5 | X78: 5 | Y78: 5 | Z78: 4 | AA78: 5 | AB78: 5 | AC78: 7 | AD78: 1 | AE78: 6 | AF78: 5 | AG78: 6 | AH78: 7 | AI78: 7 | AJ78: 2 | AK78: 2 | AL78: 1 | AM78: 1 | AN78: 2 | AO78: 3 | AP78: 6 | AQ78: 6 | AR78: 1 | AS78: 2 | AT78: 1 | AU78: 1 | AV78: 1 | AW78: 1 | AX78: 1 | AY78: 2 | AZ78: 1 | BA78: 5 | BB78: 5 | BC78: 1 | BD78: 4 | BE78: 5 | BF78: 1 | BG78: 5 | BH78: 5 | BI78: 4 | BJ78: 5 | BK78: 2 | BL78: 5 | BM78: 1 | BN78: 5 | BO78: 4 | BP78: 5
A79: 45342.617 | B79: gabriellachristine67@gmail.com | C79: Ya, Saya bersedia | D79: Perempuan | E79: DKI Jakarta | F79: Mahasiswa/i | G79: 22 | H79: Rp1.000.000 - Rp3.000.000 | I79: Uang saku | J79: 5 - 7 tahun | K79: Rp200.000 - Rp500.000 | L79: 081263384192 | M79: 4 | N79: 4 | O79: 5 | P79: 5 | Q79: 4 | R79: 5 | S79: 4 | T79: 4 | U79: 5 | V79: 5 | W79: 4 | X79: 4 | Y79: 5 | Z79: 4 | AA79: 5 | AB79: 2 | AC79: 1 | AD79: 6 | AE79: 2 | AF79: 2 | AG79: 1 | AH79: 7 | AI79: 2 | AJ79: 6 | AK79: 5 | AL79: 6 | AM79: 6 | AN79: 7 | AO79: 3 | AP79: 6 | AQ79: 6 | AR79: 7 | AS79: 6 | AT79: 6 | AU79: 6 | AV79: 5 | AW79: 4 | AX79: 4 | AY79: 4 | AZ79: 5 | BA79: 2 | BB79: 2 | BC79: 4 | BD79: 1 | BE79: 3 | BF79: 2 | BG79: 5 | BH79: 2 | BI79: 2 | BJ79: 1 | BK79: 4 | BL79: 5 | BM79: 4 | BN79: 2 | BO79: 2 | BP79: 2
A80: 45342.619 | B80: ruslanmifdah@gmail.com | C80: Ya, Saya bersedia | D80: Laki-laki | E80: DKI Jakarta | F80: Siswa/i | G80: 19 | H80: Rp3.000.000 - Rp5.000.000 | I80: Uang saku, Gaji | J80: 3 - 5 tahun | K80: Rp200.000 - Rp500.000 | M80: 4 | N80: 4 | O80: 5 | P80: 4 | Q80: 5 | R80: 4 | S80: 5 | T80: 5 | U80: 4 | V80: 5 | W80: 5 | X80: 4 | Y80: 5 | Z80: 5 | AA80: 5 | AB80: 6 | AC80: 6 | AD80: 1 | AE80: 1 | AF80: 6 | AG80: 2 | AH80: 6 | AI80: 6 | AJ80: 2 | AK80: 2 | AL80: 1 | AM80: 3 | AN80: 4 | AO80: 6 | AP80: 3 | AQ80: 2 | AR80: 1 | AS80: 2 | AT80: 1 | AU80: 2 | AV80: 1 | AW80: 2 | AX80: 1 | AY80: 1 | AZ80: 2 | BA80: 4 | BB80: 5 | BC80: 2 | BD80: 5 | BE80: 4 | BF80: 1 | BG80: 4 | BH80: 4 | BI80: 5 | BJ80: 4 | BK80: 1 | BL80: 4 | BM80: 2 | BN80: 4 | BO80: 5 | BP80: 5
A81: 45342.621 | B81: fitrianandiya35@gmail.com | C81: Ya, Saya bersedia | D81: Perempuan | E81: Jawa Timur | F81: Mahasiswa/i | G81: 22 | H81: Rp1.000.000 - Rp3.000.000 | I81: Uang saku | J81: 3 - 5 tahun | K81: < Rp200.000 | M81: 4 | N81: 5 | O81: 5 | P81: 4 | Q81: 5 | R81: 5 | S81: 5 | T81: 4 | U81: 5 | V81: 5 | W81: 4 | X81: 5 | Y81: 5 | Z81: 5 | AA81: 4 | AB81: 6 | AC81: 6 | AD81: 2 | AE81: 6 | AF81: 7 | AG81: 7 | AH81: 6 | AI81: 6 | AJ81: 1 | AK81: 2 | AL81: 2 | AM81: 2 | AN81: 2 | AO81: 6 | AP81: 5 | AQ81: 1 | AR81: 2 | AS81: 2 | AT81: 2 | AU81: 3 | AV81: 2 | AW81: 1 | AX81: 2 | AY81: 1 | AZ81: 2 | BA81: 4 | BB81: 5 | BC81: 1 | BD81: 5 | BE81: 5 | BF81: 2 | BG81: 5 | BH81: 4 | BI81: 4 | BJ81: 4 | BK81: 2 | BL81: 5 | BM81: 2 | BN81: 4 | BO81: 4 | BP81: 5
A82: 45342.623 | B82: gitaandaryani@gmail.com | C82: Ya, Saya bersedia | D82: Perempuan | E82: Jawa barat | F82: Karyawan Swasta | G82: 26 | H82: Rp8.000.000 - Rp10.000.000 | I82: Gaji | J82: > 7 tahun | K82: Rp500.000 - Rp1.000.000 | L82: 082112194953 | M82: 5 | N82: 4 | O82: 5 | P82: 5 | Q82: 4 | R82: 5 | S82: 5 | T82: 4 | U82: 5 | V82: 5 | W82: 4 | X82: 5 | Y82: 5 | Z82: 4 | AA82: 5 | AB82: 7 | AC82: 7 | AD82: 2 | AE82: 7 | AF82: 2 | AG82: 2 | AH82: 6 | AI82: 6 | AJ82: 2 | AK82: 2 | AL82: 2 | AM82: 3 | AN82: 2 | AO82: 6 | AP82: 7 | AQ82: 6 | AR82: 2 | AS82: 2 | AT82: 2 | AU82: 2 | AV82: 1 | AW82: 1 | AX82: 2 | AY82: 2 | AZ82: 2 | BA82: 4 | BB82: 5 | BC82: 2 | BD82: 5 | BE82: 5 | BF82: 2 | BG82: 4 | BH82: 5 | BI82: 5 | BJ82: 4 | BK82: 1 | BL82: 4 | BM82: 2 | BN82: 5 | BO82: 5 | BP82: 5
A83: 45342.628 | B83: k12nantiandriani@gmail.com | C83: Ya, Saya bersedia | D83: Perempuan | E83: Sulawesi selatan | F83: Mahasiswa/i | G83: 20 | H83: Rp3.000.000 - Rp5.000.000 | I83: Uang saku | J83: 5 - 7 tahun | K83: Rp500.000 - Rp1.000.000 | L83: 081295222944 | M83: 4 | N83: 5 | O83: 4 | P83: 5 | Q83: 5 | R83: 4 | S83: 5 | T83: 4 | U83: 4 | V83: 5 | W83: 5 | X83: 4 | Y83: 4 | Z83: 5 | AA83: 4 | AB83: 2 | AC83: 1 | AD83: 5 | AE83: 3 | AF83: 2 | AG83: 6 | AH83: 3 | AI83: 1 | AJ83: 7 | AK83: 6 | AL83: 6 | AM83: 6 | AN83: 3 | AO83: 6 | AP83: 5 | AQ83: 3 | AR83: 6 | AS83: 5 | AT83: 7 | AU83: 6 | AV83: 5 | AW83: 2 | AX83: 5 | AY83: 4 | AZ83: 4 | BA83: 2 | BB83: 4 | BC83: 5 | BD83: 2 | BE83: 2 | BF83: 2 | BG83: 4 | BH83: 3 | BI83: 4 | BJ83: 5 | BK83: 4 | BL83: 5 | BM83: 4 | BN83: 2 | BO83: 3 | BP83: 4
A84: 45342.643 | B84: giyatriz18@gmail.com | C84: Ya, Saya bersedia | D84: Perempuan | E84: Jakarta | F84: Siswa/i | G84: 16 | H84: Rp1.000.000 - Rp3.000.000 | I84: Uang saku | J84: 3 - 5 tahun | K84: Rp200.000 - Rp500.000 | L84: 081212572087 | M84: 5 | N84: 5 | O84: 4 | P84: 5 | Q84: 5 | R84: 5 | S84: 4 | T84: 5 | U84: 5 | V84: 4 | W84: 5 | X84: 4 | Y84: 5 | Z84: 5 | AA84: 4 | AB84: 6 | AC84: 5 | AD84: 1 | AE84: 6 | AF84: 3 | AG84: 2 | AH84: 6 | AI84: 6 | AJ84: 2 | AK84: 2 | AL84: 1 | AM84: 1 | AN84: 5 | AO84: 5 | AP84: 6 | AQ84: 3 | AR84: 3 | AS84: 2 | AT84: 2 | AU84: 2 | AV84: 1 | AW84: 1 | AX84: 2 | AY84: 1 | AZ84: 1 | BA84: 4 | BB84: 4 | BC84: 1 | BD84: 4 | BE84: 4 | BF84: 2 | BG84: 5 | BH84: 5 | BI84: 4 | BJ84: 4 | BK84: 1 | BL84: 4 | BM84: 1 | BN84: 4 | BO84: 4 | BP84: 4
A85: 45342.646 | B85: alisyasukmadewiqotrunada@gmail.com | C85: Ya, Saya bersedia | D85: Perempuan | E85: Jawa Barat | F85: Siswa/i | G85: 17 | H85: < Rp1.000.000 | I85: Uang saku, Jualan merch kpop | J85: 5 - 7 tahun | K85: Rp1.000.000 - Rp3.000.000 | L85: 085716258954 | M85: 4 | N85: 4 | O85: 4 | P85: 4 | Q85: 3 | R85: 4 | S85: 4 | T85: 4 | U85: 4 | V85: 4 | W85: 4 | X85: 2 | Y85: 4 | Z85: 3 | AA85: 4 | AB85: 6 | AC85: 5 | AD85: 2 | AE85: 5 | AF85: 3 | AG85: 5 | AH85: 7 | AI85: 7 | AJ85: 2 | AK85: 1 | AL85: 2 | AM85: 5 | AN85: 5 | AO85: 5 | AP85: 6 | AQ85: 5 | AR85: 4 | AS85: 2 | AT85: 2 | AU85: 4 | AV85: 2 | AW85: 5 | AX85: 2 | AY85: 4 | AZ85: 2 | BA85: 4 | BB85: 4 | BC85: 4 | BD85: 4 | BE85: 4 | BF85: 4 | BG85: 4 | BH85: 3 | BI85: 5 | BJ85: 4 | BK85: 4 | BL85: 5 | BM85: 5 | BN85: 3 | BO85: 2 | BP85: 1
A86: 45342.651 | B86: mya06703@gmail.com | C86: Ya, Saya bersedia | D86: Perempuan | E86: 19 | F86: Mahasiswa/i | G86: 21 | H86: Rp1.000.000 - Rp3.000.000 | I86: Uang saku | J86: 1 - 3 tahun | K86: Rp200.000 - Rp500.000 | L86: 085272486277 | M86: 5 | N86: 5 | O86: 4 | P86: 5 | Q86: 5 | R86: 5 | S86: 4 | T86: 5 | U86: 5 | V86: 4 | W86: 5 | X86: 5 | Y86: 4 | Z86: 5 | AA86: 4 | AB86: 2 | AC86: 1 | AD86: 6 | AE86: 2 | AF86: 3 | AG86: 1 | AH86: 6 | AI86: 6 | AJ86: 6 | AK86: 6 | AL86: 7 | AM86: 7 | AN86: 6 | AO86: 2 | AP86: 7 | AQ86: 6 | AR86: 6 | AS86: 6 | AT86: 7 | AU86: 7 | AV86: 4 | AW86: 2 | AX86: 4 | AY86: 4 | AZ86: 4 | BA86: 2 | BB86: 2 | BC86: 4 | BD86: 2 | BE86: 2 | BF86: 4 | BG86: 2 | BH86: 2 | BI86: 1 | BJ86: 3 | BK86: 2 | BL86: 2 | BM86: 4 | BN86: 3 | BO86: 2 | BP86: 2
A87: 45342.652 | B87: skikipou@gmail.com | C87: Ya, Saya bersedia | D87: Perempuan | E87: Kiki | F87: Karyawan Swasta | G87: 27 | H87: Rp5.000.000 - Rp8.000.000 | I87: Gaji | J87: 5 - 7 tahun | K87: Rp500.000 - Rp1.000.000 | M87: 5 | N87: 5 | O87: 4 | P87: 4 | Q87: 5 | R87: 4 | S87: 4 | T87: 5 | U87: 5 | V87: 4 | W87: 5 | X87: 5 | Y87: 5 | Z87: 5 | AA87: 4 | AB87: 7 | AC87: 4 | AD87: 3 | AE87: 6 | AF87: 2 | AG87: 6 | AH87: 3 | AI87: 5 | AJ87: 6 | AK87: 3 | AL87: 2 | AM87: 2 | AN87: 5 | AO87: 5 | AP87: 5 | AQ87: 3 | AR87: 2 | AS87: 3 | AT87: 3 | AU87: 4 | AV87: 2 | AW87: 1 | AX87: 1 | AY87: 2 | AZ87: 2 | BA87: 5 | BB87: 4 | BC87: 2 | BD87: 4 | BE87: 5 | BF87: 1 | BG87: 4 | BH87: 4 | BI87: 4 | BJ87: 4 | BK87: 2 | BL87: 4 | BM87: 1 | BN87: 5 | BO87: 5 | BP87: 4
A88: 45342.654 | B88: alfianayunus72@gmail.com | C88: Ya, Saya bersedia | D88: Perempuan | E88: DKI Jakarta | F88: Mahasiswa/i | G88: 20 | H88: Rp3.000.000 - Rp5.000.000 | I88: Uang saku, Gaji | J88: 3 - 5 tahun | K88: Rp200.000 - Rp500.000 | L88: 083187094546 | M88: 4 | N88: 4 | O88: 5 | P88: 5 | Q88: 3 | R88: 5 | S88: 5 | T88: 4 | U88: 5 | V88: 5 | W88: 4 | X88: 5 | Y88: 5 | Z88: 5 | AA88: 4 | AB88: 6 | AC88: 5 | AD88: 2 | AE88: 6 | AF88: 5 | AG88: 2 | AH88: 7 | AI88: 7 | AJ88: 3 | AK88: 2 | AL88: 1 | AM88: 2 | AN88: 1 | AO88: 6 | AP88: 7 | AQ88: 6 | AR88: 2 | AS88: 2 | AT88: 2 | AU88: 2 | AV88: 1 | AW88: 1 | AX88: 2 | AY88: 1 | AZ88: 2 | BA88: 4 | BB88: 5 | BC88: 1 | BD88: 4 | BE88: 5 | BF88: 1 | BG88: 5 | BH88: 5 | BI88: 4 | BJ88: 4 | BK88: 1 | BL88: 5 | BM88: 1 | BN88: 4 | BO88: 5 | BP88: 4
A89: 45342.656 | B89: anandasyarief59@gmail.com | C89: Ya, Saya bersedia | D89: Perempuan | E89: Jawa Barat | F89: Mahasiswa/i | G89: 21 | H89: Rp1.000.000 - Rp3.000.000 | I89: Uang saku | J89: 5 - 7 tahun | K89: < Rp200.000 | M89: 5 | N89: 5 | O89: 4 | P89: 5 | Q89: 5 | R89: 5 | S89: 4 | T89: 5 | U89: 5 | V89: 5 | W89: 4 | X89: 5 | Y89: 5 | Z89: 4 | AA89: 5 | AB89: 2 | AC89: 2 | AD89: 7 | AE89: 1 | AF89: 2 | AG89: 2 | AH89: 2 | AI89: 2 | AJ89: 6 | AK89: 6 | AL89: 7 | AM89: 6 | AN89: 2 | AO89: 3 | AP89: 7 | AQ89: 6 | AR89: 6 | AS89: 7 | AT89: 7 | AU89: 6 | AV89: 4 | AW89: 4 | AX89: 4 | AY89: 5 | AZ89: 4 | BA89: 1 | BB89: 1 | BC89: 4 | BD89: 2 | BE89: 3 | BF89: 4 | BG89: 5 | BH89: 3 | BI89: 4 | BJ89: 3 | BK89: 4 | BL89: 3 | BM89: 4 | BN89: 4 | BO89: 3 | BP89: 4
A90: 45342.734 | B90: alyshaaf14@gmail.com | C90: Ya, Saya bersedia | D90: Perempuan | E90: Jawa tengah | F90: Mahasiswa/i | G90: 19 | H90: Rp1.000.000 - Rp3.000.000 | I90: Uang saku | J90: > 7 tahun | K90: > Rp5.000.000 | L90: 082360152869 | M90: 5 | N90: 4 | O90: 5 | P90: 4 | Q90: 1 | R90: 5 | S90: 4 | T90: 4 | U90: 3 | V90: 3 | W90: 3 | X90: 3 | Y90: 3 | Z90: 3 | AA90: 4 | AB90: 7 | AC90: 7 | AD90: 3 | AE90: 6 | AF90: 1 | AG90: 4 | AH90: 6 | AI90: 4 | AJ90: 3 | AK90: 6 | AL90: 7 | AM90: 6 | AN90: 6 | AO90: 4 | AP90: 7 | AQ90: 3 | AR90: 7 | AS90: 4 | AT90: 4 | AU90: 7 | AV90: 3 | AW90: 2 | AX90: 3 | AY90: 2 | AZ90: 2 | BA90: 3 | BB90: 4 | BC90: 4 | BD90: 4 | BE90: 4 | BF90: 2 | BG90: 3 | BH90: 4 | BI90: 4 | BJ90: 4 | BK90: 3 | BL90: 4 | BM90: 3 | BN90: 3 | BO90: 4 | BP90: 4
A91: 45343.381 | B91: nikieaprianti@gmail.com | C91: Ya, Saya bersedia | D91: Perempuan | E91: Jawa Barat | F91: Mahasiswa/i | G91: 21 | H91: < Rp1.000.000 | I91: Uang saku | J91: 3 - 5 tahun | K91: > Rp5.000.000 | L91: 081213300417 | M91: 4 | N91: 4 | O91: 4 | P91: 3 | Q91: 3 | R91: 4 | S91: 3 | T91: 3 | U91: 3 | V91: 3 | W91: 4 | X91: 4 | Y91: 3 | Z91: 3 | AA91: 4 | AB91: 6 | AC91: 7 | AD91: 4 | AE91: 6 | AF91: 7 | AG91: 4 | AH91: 4 | AI91: 6 | AJ91: 4 | AK91: 3 | AL91: 3 | AM91: 2 | AN91: 4 | AO91: 5 | AP91: 6 | AQ91: 6 | AR91: 5 | AS91: 3 | AT91: 4 | AU91: 4 | AV91: 2 | AW91: 2 | AX91: 2 | AY91: 2 | AZ91: 2 | BA91: 3 | BB91: 3 | BC91: 1 | BD91: 4 | BE91: 4 | BF91: 2 | BG91: 3 | BH91: 3 | BI91: 3 | BJ91: 4 | BK91: 2 | BL91: 3 | BM91: 2 | BN91: 4 | BO91: 3 | BP91: 3
A92: 45343.396 | B92: salwa.aulia7879@gmail.com | C92: Ya, Saya bersedia | D92: Perempuan | E92: Jakarta Timur | F92: Siswa/i | G92: 16 | H92: < Rp1.000.000 | I92: Uang saku | J92: 3 - 5 tahun | K92: Rp200.000 - Rp500.000 | M92: 4 | N92: 3 | O92: 4 | P92: 4 | Q92: 3 | R92: 3 | S92: 2 | T92: 3 | U92: 3 | V92: 4 | W92: 3 | X92: 2 | Y92: 3 | Z92: 3 | AA92: 3 | AB92: 3 | AC92: 5 | AD92: 6 | AE92: 4 | AF92: 2 | AG92: 2 | AH92: 7 | AI92: 6 | AJ92: 4 | AK92: 3 | AL92: 3 | AM92: 5 | AN92: 5 | AO92: 4 | AP92: 6 | AQ92: 4 | AR92: 3 | AS92: 4 | AT92: 4 | AU92: 5 | AV92: 3 | AW92: 3 | AX92: 4 | AY92: 3 | AZ92: 3 | BA92: 2 | BB92: 4 | BC92: 3 | BD92: 3 | BE92: 4 | BF92: 4 | BG92: 3 | BH92: 4 | BI92: 5 | BJ92: 3 | BK92: 4 | BL92: 3 | BM92: 3 | BN92: 3 | BO92: 3 | BP92: 5
A93: 45343.667 | B93: nadhiifahramadina27@gmail.com | C93: Ya, Saya bersedia | D93: Perempuan | E93: Jakarta | F93: Siswa/i | G93: 17 | H93: < Rp1.000.000 | I93: Uang saku, Jualan online | J93: 5 - 7 tahun | K93: Rp1.000.000 - Rp3.000.000 | L93: 081217187824 | M93: 4 | N93: 2 | O93: 3 | P93: 4 | Q93: 2 | R93: 4 | S93: 4 | T93: 4 | U93: 5 | V93: 4 | W93: 4 | X93: 2 | Y93: 4 | Z93: 3 | AA93: 3 | AB93: 4 | AC93: 3 | AD93: 3 | AE93: 5 | AF93: 3 | AG93: 4 | AH93: 1 | AI93: 3 | AJ93: 2 | AK93: 4 | AL93: 1 | AM93: 2 | AN93: 3 | AO93: 3 | AP93: 7 | AQ93: 2 | AR93: 3 | AS93: 3 | AT93: 4 | AU93: 4 | AV93: 1 | AW93: 1 | AX93: 1 | AY93: 1 | AZ93: 2 | BA93: 2 | BB93: 3 | BC93: 2 | BD93: 5 | BE93: 5 | BF93: 1 | BG93: 4 | BH93: 5 | BI93: 3 | BJ93: 5 | BK93: 2 | BL93: 4 | BM93: 2 | BN93: 4 | BO93: 4 | BP93: 3
A94: 45343.667 | B94: kimnamu914@gmail.com | C94: Ya, Saya bersedia | D94: Perempuan | E94: Riau | F94: Mahasiswa/i | G94: 22 | H94: < Rp1.000.000 | I94: Uang saku | J94: 1 - 3 tahun | K94: > Rp5.000.000 | L94: 081374825390 | M94: 5 | N94: 5 | O94: 5 | P94: 5 | Q94: 5 | R94: 5 | S94: 5 | T94: 5 | U94: 5 | V94: 5 | W94: 5 | X94: 5 | Y94: 5 | Z94: 5 | AA94: 5 | AB94: 7 | AC94: 3 | AD94: 7 | AE94: 6 | AF94: 2 | AG94: 3 | AH94: 4 | AI94: 3 | AJ94: 2 | AK94: 6 | AL94: 7 | AM94: 7 | AN94: 4 | AO94: 2 | AP94: 7 | AQ94: 7 | AR94: 7 | AS94: 5 | AT94: 6 | AU94: 7 | AV94: 3 | AW94: 1 | AX94: 4 | AY94: 5 | AZ94: 3 | BA94: 5 | BB94: 3 | BC94: 5 | BD94: 2 | BE94: 2 | BF94: 5 | BG94: 4 | BH94: 3 | BI94: 4 | BJ94: 4 | BK94: 5 | BL94: 3 | BM94: 3 | BN94: 4 | BO94: 4 | BP94: 3
A95: 45343.686 | B95: shafiraindahca@gmail.com | C95: Ya, Saya bersedia | D95: Perempuan | E95: kalimantan timur | F95: Karyawan Swasta | G95: 24 | H95: Rp5.000.000 - Rp8.000.000 | I95: Gaji | J95: 5 - 7 tahun | K95: > Rp5.000.000 | L95: 083895870944 | M95: 5 | N95: 5 | O95: 5 | P95: 4 | Q95: 3 | R95: 5 | S95: 4 | T95: 4 | U95: 5 | V95: 5 | W95: 4 | X95: 4 | Y95: 5 | Z95: 5 | AA95: 5 | AB95: 7 | AC95: 4 | AD95: 5 | AE95: 6 | AF95: 4 | AG95: 3 | AH95: 7 | AI95: 5 | AJ95: 4 | AK95: 4 | AL95: 4 | AM95: 3 | AN95: 2 | AO95: 4 | AP95: 7 | AQ95: 4 | AR95: 3 | AS95: 2 | AT95: 1 | AU95: 5 | AV95: 3 | AW95: 4 | AX95: 3 | AY95: 2 | AZ95: 1 | BA95: 4 | BB95: 4 | BC95: 3 | BD95: 4 | BE95: 5 | BF95: 2 | BG95: 4 | BH95: 5 | BI95: 5 | BJ95: 4 | BK95: 3 | BL95: 4 | BM95: 2 | BN95: 4 | BO95: 4 | BP95: 4
A96: 45343.709 | B96: qaulansadiidan@gmail.com | C96: Ya, Saya bersedia | D96: Perempuan | E96: Jawa Barat | F96: Mahasiswa/i | G96: 22 | H96: < Rp1.000.000 | I96: Uang saku | J96: > 7 tahun | K96: < Rp200.000 | L96: 081224541347 | M96: 5 | N96: 5 | O96: 5 | P96: 4 | Q96: 4 | R96: 2 | S96: 2 | T96: 2 | U96: 4 | V96: 4 | W96: 3 | X96: 3 | Y96: 4 | Z96: 3 | AA96: 4 | AB96: 6 | AC96: 6 | AD96: 2 | AE96: 6 | AF96: 5 | AG96: 6 | AH96: 6 | AI96: 6 | AJ96: 5 | AK96: 2 | AL96: 3 | AM96: 2 | AN96: 4 | AO96: 5 | AP96: 5 | AQ96: 5 | AR96: 3 | AS96: 2 | AT96: 2 | AU96: 3 | AV96: 2 | AW96: 2 | AX96: 2 | AY96: 4 | AZ96: 2 | BA96: 4 | BB96: 4 | BC96: 2 | BD96: 3 | BE96: 3 | BF96: 4 | BG96: 2 | BH96: 3 | BI96: 2 | BJ96: 4 | BK96: 4 | BL96: 4 | BM96: 4 | BN96: 2 | BO96: 4 | BP96: 2
A97: 45343.894 | B97: strawbewwy004@gmail.com | C97: Ya, Saya bersedia | D97: Perempuan | E97: Tangsel | F97: Mahasiswa/i | G97: 23 | H97: < Rp1.000.000 | I97: Uang saku | J97: 5 - 7 tahun | K97: Rp200.000 - Rp500.000 | L97: 00000 | M97: 5 | N97: 5 | O97: 5 | P97: 5 | Q97: 5 | R97: 5 | S97: 5 | T97: 5 | U97: 5 | V97: 5 | W97: 5 | X97: 5 | Y97: 5 | Z97: 5 | AA97: 5 | AB97: 4 | AC97: 7 | AD97: 5 | AE97: 5 | AF97: 4 | AG97: 4 | AH97: 7 | AI97: 4 | AJ97: 4 | AK97: 4 | AL97: 4 | AM97: 5 | AN97: 5 | AO97: 4 | AP97: 7 | AQ97: 4 | AR97: 5 | AS97: 3 | AT97: 3 | AU97: 5 | AV97: 3 | AW97: 3 | AX97: 3 | AY97: 3 | AZ97: 3 | BA97: 4 | BB97: 3 | BC97: 3 | BD97: 4 | BE97: 4 | BF97: 4 | BG97: 3 | BH97: 2 | BI97: 3 | BJ97: 3 | BK97: 4 | BL97: 3 | BM97: 4 | BN97: 3 | BO97: 3 | BP97: 2
A98: 45344.371 | B98: virizhang@gmail.com | C98: Ya, Saya bersedia | D98: Perempuan | E98: Jakarta | F98: Mahasiswa/i | G98: 21 | H98: Rp3.000.000 - Rp5.000.000 | I98: Uang saku | J98: > 7 tahun | K98: > Rp5.000.000 | L98: 089689108595 | M98: 5 | N98: 4 | O98: 5 | P98: 4 | Q98: 3 | R98: 4 | S98: 4 | T98: 4 | U98: 4 | V98: 4 | W98: 4 | X98: 4 | Y98: 4 | Z98: 3 | AA98: 4 | AB98: 7 | AC98: 5 | AD98: 5 | AE98: 7 | AF98: 5 | AG98: 5 | AH98: 7 | AI98: 7 | AJ98: 6 | AK98: 2 | AL98: 3 | AM98: 3 | AN98: 3 | AO98: 5 | AP98: 5 | AQ98: 5 | AR98: 6 | AS98: 2 | AT98: 2 | AU98: 6 | AV98: 2 | AW98: 3 | AX98: 1 | AY98: 1 | AZ98: 1 | BA98: 4 | BB98: 4 | BC98: 2 | BD98: 5 | BE98: 5 | BF98: 1 | BG98: 5 | BH98: 4 | BI98: 5 | BJ98: 5 | BK98: 2 | BL98: 4 | BM98: 1 | BN98: 5 | BO98: 4 | BP98: 4
A99: 45344.822 | B99: mochinoyyax@gmail.com | C99: Ya, Saya bersedia | D99: Perempuan | E99: Nanggroe Aceh Darussalam | F99: Mahasiswa/i | G99: 20 | H99: Rp1.000.000 - Rp3.000.000 | I99: Uang saku, Gaji | J99: 5 - 7 tahun | K99: > Rp5.000.000 | L99: 085157752011 | M99: 5 | N99: 5 | O99: 5 | P99: 5 | Q99: 3 | R99: 3 | S99: 3 | T99: 4 | U99: 3 | V99: 3 | W99: 4 | X99: 3 | Y99: 4 | Z99: 3 | AA99: 5 | AB99: 3 | AC99: 1 | AD99: 7 | AE99: 4 | AF99: 2 | AG99: 1 | AH99: 6 | AI99: 2 | AJ99: 3 | AK99: 6 | AL99: 7 | AM99: 7 | AN99: 7 | AO99: 3 | AP99: 7 | AQ99: 7 | AR99: 7 | AS99: 7 | AT99: 7 | AU99: 7 | AV99: 3 | AW99: 2 | AX99: 5 | AY99: 3 | AZ99: 2 | BA99: 5 | BB99: 5 | BC99: 3 | BD99: 4 | BE99: 3 | BF99: 1 | BG99: 5 | BH99: 3 | BI99: 4 | BJ99: 5 | BK99: 5 | BL99: 5 | BM99: 5 | BN99: 3 | BO99: 4 | BP99: 5
A100: 45345.377 | B100: amikaelvito@student.ciputra.ac.id | C100: Ya, Saya bersedia | D100: Laki-laki | E100: Jatim | F100: Mahasiswa/i | G100: 21 | H100: Rp1.000.000 - Rp3.000.000 | I100: Uang saku, Gaji, | J100: > 7 tahun | K100: > Rp5.000.000 | L100: 085606077152 | M100: 5 | N100: 5 | O100: 5 | P100: 5 | Q100: 5 | R100: 5 | S100: 5 | T100: 5 | U100: 5 | V100: 5 | W100: 5 | X100: 5 | Y100: 5 | Z100: 5 | AA100: 5 | AB100: 7 | AC100: 7 | AD100: 7 | AE100: 7 | AF100: 7 | AG100: 7 | AH100: 7 | AI100: 7 | AJ100: 7 | AK100: 7 | AL100: 7 | AM100: 7 | AN100: 7 | AO100: 7 | AP100: 7 | AQ100: 7 | AR100: 7 | AS100: 7 | AT100: 7 | AU100: 7 | AV100: 5 | AW100: 5 | AX100: 5 | AY100: 5 | AZ100: 5 | BA100: 5 | BB100: 5 | BC100: 5 | BD100: 5 | BE100: 5 | BF100: 5 | BG100: 5 | BH100: 5 | BI100: 5 | BJ100: 5 | BK100: 5 | BL100: 5 | BM100: 5 | BN100: 5 | BO100: 5 | BP100: 5
...

Sheet Copy of Form Responses 1
A1: Timestamp | B1: Email Address | C1: Saya telah membaca keterangan diatas dan bersedia berpartisipasi dalam penelitian ini | D1: Jenis kelamin | E1: Asal Provinsi (Contoh : Jawa Timur) | F1: Status / Pekerjaan | G1: Usia (Contoh : 21) | H1: Total Pendapatan Perbulan | I1: Asal pendapatan | J1: Lama menjadi kpopers | K1: Total pengeluaran untuk pembelian barang yang berhubungan dengan idol atau selebriti korea | L1: No. Telp (Bagi yang ingin mengikuti undian) | M1: CEC_A_1 | N1: CEC_A_2 | O1: CEC_A_3 | P1: CEC_A_4 | Q1: CEC_A_5 | R1: CEC_T_1 | S1: CEC_T_2 | T1: CEC_T_3 | U1: CEC_T_4 | V1: CEC_T_5 | W1: CEC_E_1 | X1: CEC_E_2 | Y1: CEC_E_3 | Z1: CEC_E_4 | AA1: CEC_E_5 | AB1: IB_C_1 | AC1: IB_C_2 | AD1: IB_C_3 | AE1: IB_C_4 | AF1: IB_C_5 | AG1: IB_C_6 | AH1: IB_C_7 | AI1: IB_C_8 | AJ1: IB_C_9 | AK1: IB_C_10 | AL1: IB_A_1 | AM1: IB_A_2 | AN1: IB_A_3 | AO1: IB_A_4 | AP1: IB_A_5 | AQ1: IB_A_6 | AR1: IB_A_7 | AS1: IB_A_8 | AT1: IB_A_9 | AU1: IB_A_10 | AV1: RD_IC_1 | AW1: RD_IC_2 | AX1: RD_IC_3 | AY1: RD_IC_4 | AZ1: RD_IC_5 | BA1: RD_IC_6 | BB1: RD_IC_7 | BC1: RD_IC_8 | BD1: RD_IC_9 | BE1: RD_IC_10 | BF1: RD_IC_11 | BG1: RD_GS_1 | BH1: RD_GS_2 | BI1: RD_GS_3 | BJ1: RD_GS_4 | BK1: RD_GS_5 | BL1: RD_GS_6 | BM1: RD_GS_7 | BN1: RD_GS_8 | BO1: RD_GS_9 | BP1: RD_GS_10
A2: 45329.447 | B2: nursalmaa27@gmail.com | C2: Ya, Saya bersedia | D2: Perempuan | E2: Jakarta Timur | F2: Mahasiswa/i | G2: 20 | H2: Rp1.000.000 - Rp3.000.000 | I2: Uang saku | J2: < 1 tahun | K2: Rp500.000 - Rp1.000.000 | L2: 0895604681603 | M2: 4 | N2: 4 | O2: 5 | P2: 4 | Q2: 5 | R2: 5 | S2: 4 | T2: 4 | U2: 4 | V2: 5 | W2: 4 | X2: 4 | Y2: 4 | Z2: 5 | AA2: 4 | AB2: 2 | AC2: 2 | AD2: 6 | AE2: 3 | AF2: 2 | AG2: 2 | AH2: 2 | AI2: 2 | AJ2: 5 | AK2: 6 | AL2: 6 | AM2: 6 | AN2: 2 | AO2: 6 | AP2: 6 | AQ2: 6 | AR2: 6 | AS2: 6 | AT2: 6 | AU2: 6 | AV2: 4 | AW2: 4 | AX2: 4 | AY2: 4 | AZ2: 4 | BA2: 4 | BB2: 4 | BC2: 4 | BD2: 2 | BE2: 2 | BF2: 4 | BG2: 3 | BH2: 4 | BI2: 3 | BJ2: 4 | BK2: 4 | BL2: 3 | BM2: 4 | BN2: 4 | BO2: 3 | BP2: 4
A3: 45329.46 | B3: erikrmdhn10@gmail.com | C3: Ya, Saya bersedia | D3: Laki-laki | E3: Jawa Barat | F3: Karyawan Swasta | G3: 25 | H3: < Rp1.000.000 | I3: Uang saku, Gaji | J3: < 1 tahun | K3: < Rp200.000 | L3: 085157264557 | M3: 4 | N3: 5 | O3: 4 | P3: 5 | Q3: 3 | R3: 5 | S3: 4 | T3: 5 | U3: 4 | V3: 5 | W3: 4 | X3: 5 | Y3: 5 | Z3: 3 | AA3: 5 | AB3: 7 | AC3: 7 | AD3: 3 | AE3: 7 | AF3: 7 | AG3: 7 | AH3: 7 | AI3: 7 | AJ3: 4 | AK3: 1 | AL3: 3 | AM3: 1 | AN3: 6 | AO3: 7 | AP3: 5 | AQ3: 5 | AR3: 1 | AS3: 1 | AT3: 1 | AU3: 1 | AV3: 4 | AW3: 1 | AX3: 1 | AY3: 5 | AZ3: 1 | BA3: 5 | BB3: 4 | BC3: 2 | BD3: 5 | BE3: 5 | BF3: 1 | BG3: 4 | BH3: 5 | BI3: 4 | BJ3: 5 | BK3: 4 | BL3: 5 | BM3: 1 | BN3: 3 | BO3: 5 | BP3: 5
A4: 45329.462 | B4: debchoi91@gmail.com | C4: Ya, Saya bersedia | D4: Perempuan | E4: banten | F4: Karyawan Swasta | G4: 25 | H4: Rp3.000.000 - Rp5.000.000 | I4: Gaji | J4: > 7 tahun | K4: Rp500.000 - Rp1.000.000 | L4: 085782251151 | M4: 5 | N4: 5 | O4: 5 | P4: 5 | Q4: 5 | R4: 5 | S4: 5 | T4: 5 | U4: 5 | V4: 5 | W4: 5 | X4: 5 | Y4: 5 | Z4: 5 | AA4: 5 | AB4: 7 | AC4: 7 | AD4: 7 | AE4: 7 | AF4: 7 | AG4: 7 | AH4: 7 | AI4: 7 | AJ4: 7 | AK4: 7 | AL4: 7 | AM4: 7 | AN4: 6 | AO4: 2 | AP4: 7 | AQ4: 7 | AR4: 7 | AS4: 7 | AT4: 7 | AU4: 7 | AV4: 5 | AW4: 5 | AX4: 5 | AY4: 5 | AZ4: 5 | BA4: 2 | BB4: 2 | BC4: 5 | BD4: 5 | BE4: 2 | BF4: 2 | BG4: 5 | BH4: 5 | BI4: 4 | BJ4: 5 | BK4: 5 | BL4: 5 | BM4: 5 | BN4: 5 | BO4: 5 | BP4: 4
A5: 45329.473 | B5: biyarasyid3@gmail.com | C5: Ya, Saya bersedia | D5: Perempuan | E5: Jawa Tengah | F5: Mahasiswa/i | G5: 20 | H5: Rp1.000.000 - Rp3.000.000 | I5: Uang saku | J5: 5 - 7 tahun | K5: > Rp5.000.000 | L5: 085398613470 | M5: 5 | N5: 4 | O5: 5 | P5: 4 | Q5: 5 | R5: 4 | S5: 5 | T5: 4 | U5: 5 | V5: 4 | W5: 5 | X5: 4 | Y5: 5 | Z5: 4 | AA5: 5 | AB5: 3 | AC5: 2 | AD5: 1 | AE5: 2 | AF5: 3 | AG5: 1 | AH5: 2 | AI5: 1 | AJ5: 3 | AK5: 1 | AL5: 2 | AM5: 1 | AN5: 3 | AO5: 2 | AP5: 3 | AQ5: 1 | AR5: 3 | AS5: 1 | AT5: 2 | AU5: 1 | AV5: 5 | AW5: 4 | AX5: 5 | AY5: 4 | AZ5: 5 | BA5: 2 | BB5: 1 | BC5: 4 | BD5: 1 | BE5: 2 | BF5: 5 | BG5: 2 | BH5: 1 | BI5: 2 | BJ5: 2 | BK5: 4 | BL5: 2 | BM5: 4 | BN5: 2 | BO5: 2 | BP5: 1
A6: 45329.477 | B6: rifaisnaininurzain@gmail.com | C6: Ya, Saya bersedia | D6: Perempuan | E6: Jogja | F6: Mahasiswa/i | G6: 22 | H6: < Rp1.000.000 | I6: Uang saku | J6: 1 - 3 tahun | K6: < Rp200.000 | L6: 082225086029 | M6: 5 | N6: 4 | O6: 5 | P6: 4 | Q6: 5 | R6: 4 | S6: 5 | T6: 4 | U6: 5 | V6: 4 | W6: 5 | X6: 4 | Y6: 5 | Z6: 4 | AA6: 5 | AB6: 7 | AC6: 6 | AD6: 7 | AE6: 5 | AF6: 6 | AG6: 7 | AH6: 6 | AI6: 7 | AJ6: 5 | AK6: 6 | AL6: 7 | AM6: 6 | AN6: 7 | AO6: 5 | AP6: 6 | AQ6: 7 | AR6: 6 | AS6: 6 | AT6: 7 | AU6: 5 | AV6: 5 | AW6: 4 | AX6: 5 | AY6: 4 | AZ6: 5 | BA6: 4 | BB6: 5 | BC6: 3 | BD6: 5 | BE6: 4 | BF6: 3 | BG6: 4 | BH6: 5 | BI6: 4 | BJ6: 5 | BK6: 4 | BL6: 4 | BM6: 5 | BN6: 4 | BO6: 5 | BP6: 4
A7: 45329.502 | B7: destyaalfitri@gmail.com | C7: Ya, Saya bersedia | D7: Perempuan | E7: DKI Jakarta | F7: Mahasiswa/i | G7: 22 | H7: Rp1.000.000 - Rp3.000.000 | I7: Uang saku | J7: 1 - 3 tahun | K7: Rp200.000 - Rp500.000 | M7: 4 | N7: 5 | O7: 5 | P7: 4 | Q7: 4 | R7: 5 | S7: 5 | T7: 4 | U7: 4 | V7: 5 | W7: 5 | X7: 5 | Y7: 5 | Z7: 4 | AA7: 5 | AB7: 6 | AC7: 7 | AD7: 6 | AE7: 6 | AF7: 6 | AG7: 6 | AH7: 7 | AI7: 5 | AJ7: 7 | AK7: 6 | AL7: 5 | AM7: 7 | AN7: 5 | AO7: 6 | AP7: 6 | AQ7: 7 | AR7: 6 | AS7: 5 | AT7: 5 | AU7: 6 | AV7: 4 | AW7: 5 | AX7: 4 | AY7: 5 | AZ7: 5 | BA7: 4 | BB7: 5 | BC7: 4 | BD7: 5 | BE7: 4 | BF7: 5 | BG7: 4 | BH7: 5 | BI7: 4 | BJ7: 4 | BK7: 5 | BL7: 5 | BM7: 4 | BN7: 5 | BO7: 5 | BP7: 4
A8: 45329.639 | B8: jovankangel12@gmail.com | C8: Ya, Saya bersedia | D8: Perempuan | E8: Banten | F8: Mahasiswa/i | G8: 20 | H8: Rp1.000.000 - Rp3.000.000 | I8: Uang saku | J8: 3 - 5 tahun | K8: < Rp200.000 | L8: 082169372515 | M8: 4 | N8: 5 | O8: 5 | P8: 4 | Q8: 4 | R8: 5 | S8: 5 | T8: 4 | U8: 4 | V8: 5 | W8: 4 | X8: 4 | Y8: 4 | Z8: 5 | AA8: 5 | AB8: 5 | AC8: 5 | AD8: 3 | AE8: 5 | AF8: 5 | AG8: 5 | AH8: 6 | AI8: 5 | AJ8: 3 | AK8: 4 | AL8: 5 | AM8: 6 | AN8: 6 | AO8: 2 | AP8: 5 | AQ8: 5 | AR8: 5 | AS8: 5 | AT8: 5 | AU8: 5 | AV8: 4 | AW8: 4 | AX8: 2 | AY8: 4 | AZ8: 4 | BA8: 4 | BB8: 4 | BC8: 4 | BD8: 4 | BE8: 4 | BF8: 4 | BG8: 4 | BH8: 4 | BI8: 4 | BJ8: 4 | BK8: 5 | BL8: 4 | BM8: 5 | BN8: 5 | BO8: 2 | BP8: 2
A9: 45329.656 | B9: lutviahintans22@gmail.com | C9: Ya, Saya bersedia | D9: Perempuan | E9: Jawa Timur | F9: Mahasiswa/i | G9: 21 | H9: < Rp1.000.000 | I9: Uang saku | J9: 1 - 3 tahun | K9: Rp200.000 - Rp500.000 | L9: 085156993636 | M9: 4 | N9: 5 | O9: 5 | P9: 5 | Q9: 4 | R9: 3 | S9: 3 | T9: 3 | U9: 4 | V9: 4 | W9: 4 | X9: 4 | Y9: 5 | Z9: 4 | AA9: 5 | AB9: 6 | AC9: 5 | AD9: 4 | AE9: 5 | AF9: 5 | AG9: 6 | AH9: 7 | AI9: 5 | AJ9: 6 | AK9: 6 | AL9: 5 | AM9: 6 | AN9: 6 | AO9: 5 | AP9: 6 | AQ9: 5 | AR9: 7 | AS9: 6 | AT9: 5 | AU9: 6 | AV9: 4 | AW9: 3 | AX9: 3 | AY9: 3 | AZ9: 2 | BA9: 3 | BB9: 4 | BC9: 3 | BD9: 4 | BE9: 4 | BF9: 3 | BG9: 4 | BH9: 4 | BI9: 4 | BJ9: 4 | BK9: 4 | BL9: 3 | BM9: 4 | BN9: 3 | BO9: 4 | BP9: 4
A10: 45329.665 | B10: afdhilla2103@gmail.com | C10: Ya, Saya bersedia | D10: Perempuan | E10: Lampung | F10: Mahasiswa/i | G10: 22 | H10: < Rp1.000.000 | I10: Uang saku | J10: 1 - 3 tahun | K10: < Rp200.000 | L10: 081440043967 | M10: 4 | N10: 4 | O10: 5 | P10: 5 | Q10: 5 | R10: 4 | S10: 4 | T10: 4 | U10: 4 | V10: 4 | W10: 4 | X10: 3 | Y10: 4 | Z10: 2 | AA10: 3 | AB10: 7 | AC10: 6 | AD10: 4 | AE10: 6 | AF10: 6 | AG10: 4 | AH10: 7 | AI10: 7 | AJ10: 7 | AK10: 2 | AL10: 2 | AM10: 2 | AN10: 6 | AO10: 5 | AP10: 7 | AQ10: 7 | AR10: 4 | AS10: 3 | AT10: 5 | AU10: 4 | AV10: 4 | AW10: 4 | AX10: 2 | AY10: 2 | AZ10: 2 | BA10: 4 | BB10: 4 | BC10: 4 | BD10: 5 | BE10: 5 | BF10: 3 | BG10: 4 | BH10: 4 | BI10: 5 | BJ10: 5 | BK10: 5 | BL10: 5 | BM10: 4 | BN10: 4 | BO10: 3 | BP10: 5
A11: 45329.691 | B11: nuryanisafitri28@gmail.com | C11: Ya, Saya bersedia | D11: Perempuan | E11: Jawa Timur | F11: Mahasiswa/i | G11: 22 | H11: < Rp1.000.000 | I11: Uang saku | J11: > 7 tahun | K11: Rp200.000 - Rp500.000 | L11: 089682320352 | M11: 4 | N11: 4 | O11: 5 | P11: 4 | Q11: 4 | R11: 4 | S11: 4 | T11: 4 | U11: 5 | V11: 4 | W11: 4 | X11: 3 | Y11: 4 | Z11: 3 | AA11: 4 | AB11: 6 | AC11: 2 | AD11: 6 | AE11: 3 | AF11: 5 | AG11: 2 | AH11: 7 | AI11: 6 | AJ11: 7 | AK11: 6 | AL11: 7 | AM11: 7 | AN11: 7 | AO11: 2 | AP11: 7 | AQ11: 7 | AR11: 5 | AS11: 6 | AT11: 6 | AU11: 7 | AV11: 4 | AW11: 5 | AX11: 4 | AY11: 5 | AZ11: 5 | BA11: 3 | BB11: 4 | BC11: 4 | BD11: 4 | BE11: 5 | BF11: 4 | BG11: 5 | BH11: 2 | BI11: 4 | BJ11: 4 | BK11: 5 | BL11: 4 | BM11: 4 | BN11: 4 | BO11: 4 | BP11: 2
A12: 45329.692 | B12: kmasudhin@gmail.com | C12: Ya, Saya bersedia | D12: Laki-laki | E12: Jawa Timur | F12: Karyawan Swasta | G12: 25 | H12: Rp3.000.000 - Rp5.000.000 | I12: Gaji | J12: 5 - 7 tahun | K12: Rp200.000 - Rp500.000 | L12: 087703382756 | M12: 4 | N12: 2 | O12: 4 | P12: 2 | Q12: 4 | R12: 2 | S12: 2 | T12: 2 | U12: 2 | V12: 2 | W12: 2 | X12: 2 | Y12: 2 | Z12: 2 | AA12: 2 | AB12: 6 | AC12: 6 | AD12: 2 | AE12: 6 | AF12: 2 | AG12: 6 | AH12: 6 | AI12: 6 | AJ12: 2 | AK12: 2 | AL12: 6 | AM12: 6 | AN12: 6 | AO12: 6 | AP12: 6 | AQ12: 6 | AR12: 2 | AS12: 6 | AT12: 2 | AU12: 6 | AV12: 4 | AW12: 2 | AX12: 4 | AY12: 4 | AZ12: 2 | BA12: 4 | BB12: 4 | BC12: 4 | BD12: 2 | BE12: 1 | BF12: 2 | BG12: 4 | BH12: 4 | BI12: 4 | BJ12: 4 | BK12: 2 | BL12: 4 | BM12: 4 | BN12: 4 | BO12: 4 | BP12: 2
A13: 45329.709 | B13: haniefm271@gmail.com | C13: Ya, Saya bersedia | D13: Laki-laki | E13: Jawa Timur | F13: Mahasiswa/i | G13: 22 | H13: Rp1.000.000 - Rp3.000.000 | I13: Uang saku | J13: < 1 tahun | K13: Rp200.000 - Rp500.000 | M13: 3 | N13: 4 | O13: 4 | P13: 4 | Q13: 5 | R13: 4 | S13: 4 | T13: 3 | U13: 5 | V13: 5 | W13: 4 | X13: 4 | Y13: 5 | Z13: 4 | AA13: 3 | AB13: 5 | AC13: 4 | AD13: 4 | AE13: 5 | AF13: 4 | AG13: 5 | AH13: 4 | AI13: 5 | AJ13: 5 | AK13: 4 | AL13: 7 | AM13: 6 | AN13: 6 | AO13: 4 | AP13: 6 | AQ13: 6 | AR13: 5 | AS13: 5 | AT13: 6 | AU13: 4 | AV13: 4 | AW13: 4 | AX13: 3 | AY13: 5 | AZ13: 5 | BA13: 4 | BB13: 3 | BC13: 3 | BD13: 4 | BE13: 4 | BF13: 2 | BG13: 3 | BH13: 3 | BI13: 4 | BJ13: 3 | BK13: 5 | BL13: 5 | BM13: 3 | BN13: 3 | BO13: 3 | BP13: 3
A14: 45329.816 | B14: fiskadevina@gmail.com | C14: Ya, Saya bersedia | D14: Perempuan | E14: Jawa Timur | F14: Mahasiswa/i | G14: 19 | H14: Rp3.000.000 - Rp5.000.000 | I14: Uang saku | J14: 1 - 3 tahun | K14: Rp200.000 - Rp500.000 | L14: 085895088920 | M14: 4 | N14: 3 | O14: 5 | P14: 4 | Q14: 3 | R14: 5 | S14: 4 | T14: 5 | U14: 5 | V14: 4 | W14: 5 | X14: 3 | Y14: 5 | Z14: 4 | AA14: 4 | AB14: 7 | AC14: 6 | AD14: 4 | AE14: 6 | AF14: 7 | AG14: 5 | AH14: 5 | AI14: 7 | AJ14: 4 | AK14: 4 | AL14: 6 | AM14: 5 | AN14: 4 | AO14: 4 | AP14: 7 | AQ14: 6 | AR14: 5 | AS14: 4 | AT14: 5 | AU14: 5 | AV14: 3 | AW14: 4 | AX14: 4 | AY14: 3 | AZ14: 3 | BA14: 5 | BB14: 4 | BC14: 3 | BD14: 5 | BE14: 5 | BF14: 3 | BG14: 3 | BH14: 4 | BI14: 5 | BJ14: 5 | BK14: 3 | BL14: 4 | BM14: 3 | BN14: 5 | BO14: 4 | BP14: 3
A15: 45329.918 | B15: shafnadinaraulani@gmail.com | C15: Ya, Saya bersedia | D15: Perempuan | E15: Jawa Tengah | F15: Mahasiswa/i | G15: 21 | H15: Rp1.000.000 - Rp3.000.000 | I15: Uang saku | J15: > 7 tahun | K15: Rp1.000.000 - Rp3.000.000 | M15: 5 | N15: 4 | O15: 5 | P15: 5 | Q15: 5 | R15: 4 | S15: 4 | T15: 4 | U15: 5 | V15: 5 | W15: 4 | X15: 4 | Y15: 5 | Z15: 4 | AA15: 5 | AB15: 4 | AC15: 3 | AD15: 6 | AE15: 4 | AF15: 4 | AG15: 3 | AH15: 4 | AI15: 4 | AJ15: 6 | AK15: 5 | AL15: 7 | AM15: 6 | AN15: 7 | AO15: 3 | AP15: 6 | AQ15: 5 | AR15: 7 | AS15: 5 | AT15: 6 | AU15: 6 | AV15: 3 | AW15: 5 | AX15: 4 | AY15: 2 | AZ15: 1 | BA15: 4 | BB15: 4 | BC15: 3 | BD15: 2 | BE15: 4 | BF15: 2 | BG15: 2 | BH15: 4 | BI15: 4 | BJ15: 5 | BK15: 5 | BL15: 4 | BM15: 4 | BN15: 2 | BO15: 4 | BP15: 3
A16: 45330.538 | B16: hanna.melya@gmail.com | C16: Ya, Saya bersedia | D16: Perempuan | E16: DKI Jakarta | F16: Mahasiswa/i | G16: 20 | H16: Rp1.000.000 - Rp3.000.000 | I16: Uang saku | J16: 3 - 5 tahun | K16: Rp500.000 - Rp1.000.000 | L16: 085716508262 | M16: 4 | N16: 5 | O16: 5 | P16: 4 | Q16: 5 | R16: 5 | S16: 4 | T16: 5 | U16: 5 | V16: 5 | W16: 4 | X16: 5 | Y16: 4 | Z16: 4 | AA16: 5 | AB16: 6 | AC16: 2 | AD16: 6 | AE16: 3 | AF16: 3 | AG16: 2 | AH16: 6 | AI16: 4 | AJ16: 6 | AK16: 6 | AL16: 6 | AM16: 6 | AN16: 6 | AO16: 3 | AP16: 7 | AQ16: 6 | AR16: 6 | AS16: 6 | AT16: 6 | AU16: 7 | AV16: 5 | AW16: 5 | AX16: 4 | AY16: 4 | AZ16: 3 | BA16: 2 | BB16: 5 | BC16: 4 | BD16: 4 | BE16: 4 | BF16: 2 | BG16: 4 | BH16: 5 | BI16: 5 | BJ16: 5 | BK16: 2 | BL16: 5 | BM16: 3 | BN16: 4 | BO16: 5 | BP16: 5
A17: 45330.557 | B17: hanna.melya@gmail.com | C17: Ya, Saya bersedia | D17: Perempuan | E17: Jakarta | F17: Mahasiswa/i | G17: 19 | H17: Rp1.000.000 - Rp3.000.000 | I17: Uang saku | J17: 5 - 7 tahun | K17: Rp1.000.000 - Rp3.000.000 | L17: 087821637196 | M17: 4 | N17: 5 | O17: 5 | P17: 4 | Q17: 5 | R17: 4 | S17: 4 | T17: 5 | U17: 5 | V17: 5 | W17: 5 | X17: 4 | Y17: 5 | Z17: 4 | AA17: 4 | AB17: 6 | AC17: 2 | AD17: 6 | AE17: 2 | AF17: 3 | AG17: 2 | AH17: 6 | AI17: 2 | AJ17: 7 | AK17: 6 | AL17: 6 | AM17: 6 | AN17: 7 | AO17: 2 | AP17: 7 | AQ17: 6 | AR17: 6 | AS17: 7 | AT17: 6 | AU17: 7 | AV17: 5 | AW17: 5 | AX17: 4 | AY17: 4 | AZ17: 2 | BA17: 2 | BB17: 5 | BC17: 4 | BD17: 5 | BE17: 4 | BF17: 2 | BG17: 5 | BH17: 5 | BI17: 5 | BJ17: 5 | BK17: 1 | BL17: 4 | BM17: 4 | BN17: 5 | BO17: 5 | BP17: 4
A18: 45330.558 | B18: hanna.melya@gmail.com | C18: Ya, Saya bersedia | D18: Perempuan | E18: Jakarta | F18: Mahasiswa/i | G18: 21 | H18: < Rp1.000.000 | I18: Uang saku | J18: 1 - 3 tahun | K18: Rp500.000 - Rp1.000.000 | L18: 085816729913 | M18: 5 | N18: 4 | O18: 5 | P18: 5 | Q18: 4 | R18: 5 | S18: 4 | T18: 4 | U18: 5 | V18: 5 | W18: 4 | X18: 4 | Y18: 4 | Z18: 5 | AA18: 5 | AB18: 6 | AC18: 3 | AD18: 7 | AE18: 2 | AF18: 3 | AG18: 3 | AH18: 6 | AI18: 6 | AJ18: 6 | AK18: 5 | AL18: 7 | AM18: 6 | AN18: 7 | AO18: 3 | AP18: 6 | AQ18: 6 | AR18: 7 | AS18: 7 | AT18: 6 | AU18: 6 | AV18: 4 | AW18: 5 | AX18: 4 | AY18: 4 | AZ18: 3 | BA18: 1 | BB18: 5 | BC18: 4 | BD18: 5 | BE18: 5 | BF18: 2 | BG18: 5 | BH18: 4 | BI18: 5 | BJ18: 5 | BK18: 1 | BL18: 5 | BM18: 3 | BN18: 5 | BO18: 4 | BP18: 4
A19: 45330.587 | B19: ellameisyach@gmail.com | C19: Ya, Saya bersedia | D19: Perempuan | E19: Jawa Tengah | F19: Mahasiswa/i | G19: 21 | H19: < Rp1.000.000 | I19: Uang saku | J19: 1 - 3 tahun | K19: Rp200.000 - Rp500.000 | M19: 4 | N19: 4 | O19: 4 | P19: 4 | Q19: 3 | R19: 4 | S19: 4 | T19: 3 | U19: 4 | V19: 4 | W19: 4 | X19: 4 | Y19: 4 | Z19: 4 | AA19: 4 | AB19: 6 | AC19: 5 | AD19: 4 | AE19: 4 | AF19: 4 | AG19: 4 | AH19: 5 | AI19: 6 | AJ19: 4 | AK19: 3 | AL19: 4 | AM19: 3 | AN19: 3 | AO19: 4 | AP19: 5 | AQ19: 2 | AR19: 3 | AS19: 3 | AT19: 2 | AU19: 4 | AV19: 2 | AW19: 3 | AX19: 2 | AY19: 2 | AZ19: 2 | BA19: 3 | BB19: 2 | BC19: 2 | BD19: 4 | BE19: 4 | BF19: 1 | BG19: 4 | BH19: 4 | BI19: 4 | BJ19: 4 | BK19: 3 | BL19: 4 | BM19: 3 | BN19: 3 | BO19: 3 | BP19: 3
A20: 45331.468 | B20: sbilnlfaz1@gmail.com | C20: Ya, Saya bersedia | D20: Perempuan | E20: Jawa Barat | F20: Mahasiswa/i | G20: 21 | H20: < Rp1.000.000 | I20: Uang saku | J20: > 7 tahun | K20: Rp200.000 - Rp500.000 | L20: 085703617186 | M20: 5 | N20: 4 | O20: 5 | P20: 4 | Q20: 1 | R20: 3 | S20: 3 | T20: 3 | U20: 4 | V20: 5 | W20: 4 | X20: 4 | Y20: 4 | Z20: 4 | AA20: 5 | AB20: 5 | AC20: 3 | AD20: 6 | AE20: 4 | AF20: 3 | AG20: 3 | AH20: 5 | AI20: 5 | AJ20: 5 | AK20: 5 | AL20: 5 | AM20: 7 | AN20: 5 | AO20: 5 | AP20: 5 | AQ20: 4 | AR20: 4 | AS20: 4 | AT20: 4 | AU20: 7 | AV20: 3 | AW20: 2 | AX20: 4 | AY20: 3 | AZ20: 4 | BA20: 3 | BB20: 3 | BC20: 4 | BD20: 3 | BE20: 3 | BF20: 4 | BG20: 3 | BH20: 2 | BI20: 4 | BJ20: 4 | BK20: 5 | BL20: 4 | BM20: 4 | BN20: 3 | BO20: 3 | BP20: 1
A21: 45331.897 | B21: linandasavitri@gmail.com | C21: Ya, Saya bersedia | D21: Perempuan | E21: Jawa Timur | F21: Mahasiswa/i | G21: 22 | H21: Rp1.000.000 - Rp3.000.000 | I21: Uang saku | J21: 3 - 5 tahun | K21: Rp200.000 - Rp500.000 | M21: 4 | N21: 5 | O21: 4 | P21: 5 | Q21: 2 | R21: 5 | S21: 5 | T21: 4 | U21: 4 | V21: 4 | W21: 4 | X21: 4 | Y21: 4 | Z21: 3 | AA21: 4 | AB21: 3 | AC21: 6 | AD21: 7 | AE21: 2 | AF21: 3 | AG21: 1 | AH21: 5 | AI21: 4 | AJ21: 5 | AK21: 7 | AL21: 6 | AM21: 7 | AN21: 6 | AO21: 4 | AP21: 5 | AQ21: 3 | AR21: 6 | AS21: 6 | AT21: 7 | AU21: 6 | AV21: 2 | AW21: 4 | AX21: 4 | AY21: 5 | AZ21: 3 | BA21: 2 | BB21: 4 | BC21: 4 | BD21: 3 | BE21: 4 | BF21: 1 | BG21: 5 | BH21: 4 | BI21: 4 | BJ21: 5 | BK21: 3 | BL21: 4 | BM21: 5 | BN21: 3 | BO21: 3 | BP21: 4
A22: 45332.641 | B22: zulfahna08@gmail.com | C22: Ya, Saya bersedia | D22: Perempuan | E22: Jawa Tengah | F22: Mahasiswa/i | G22: 20 | H22: < Rp1.000.000 | I22: Uang saku | J22: 3 - 5 tahun | K22: Rp500.000 - Rp1.000.000 | L22: 088802645667 | M22: 4 | N22: 3 | O22: 4 | P22: 3 | Q22: 2 | R22: 3 | S22: 3 | T22: 3 | U22: 3 | V22: 3 | W22: 3 | X22: 3 | Y22: 3 | Z22: 2 | AA22: 3 | AB22: 5 | AC22: 4 | AD22: 3 | AE22: 3 | AF22: 3 | AG22: 4 | AH22: 5 | AI22: 4 | AJ22: 6 | AK22: 5 | AL22: 4 | AM22: 5 | AN22: 5 | AO22: 5 | AP22: 5 | AQ22: 5 | AR22: 3 | AS22: 2 | AT22: 5 | AU22: 5 | AV22: 3 | AW22: 4 | AX22: 3 | AY22: 4 | AZ22: 4 | BA22: 2 | BB22: 4 | BC22: 4 | BD22: 4 | BE22: 2 | BF22: 4 | BG22: 3 | BH22: 3 | BI22: 4 | BJ22: 4 | BK22: 4 | BL22: 3 | BM22: 4 | BN22: 4 | BO22: 4 | BP22: 3
A23: 45332.842 | B23: nabilarahandi@gmail.com | C23: Ya, Saya bersedia | D23: Perempuan | E23: Sumatra Barat | F23: Mahasiswa/i | G23: 21 | H23: Rp1.000.000 - Rp3.000.000 | I23: Uang saku | J23: 3 - 5 tahun | K23: Rp500.000 - Rp1.000.000 | L23: 082171381885 | M23: 5 | N23: 5 | O23: 5 | P23: 5 | Q23: 4 | R23: 4 | S23: 5 | T23: 4 | U23: 5 | V23: 4 | W23: 4 | X23: 4 | Y23: 4 | Z23: 4 | AA23: 4 | AB23: 6 | AC23: 3 | AD23: 5 | AE23: 5 | AF23: 3 | AG23: 3 | AH23: 7 | AI23: 5 | AJ23: 3 | AK23: 5 | AL23: 5 | AM23: 5 | AN23: 5 | AO23: 3 | AP23: 7 | AQ23: 6 | AR23: 6 | AS23: 5 | AT23: 3 | AU23: 5 | AV23: 2 | AW23: 2 | AX23: 1 | AY23: 2 | AZ23: 1 | BA23: 4 | BB23: 4 | BC23: 2 | BD23: 5 | BE23: 5 | BF23: 2 | BG23: 4 | BH23: 4 | BI23: 4 | BJ23: 5 | BK23: 2 | BL23: 4 | BM23: 1 | BN23: 4 | BO23: 4 | BP23: 4
A24: 45334.575 | B24: suci.sasti26@gmail.com | C24: Ya, Saya bersedia | D24: Perempuan | E24: Jakarta | F24: Mahasiswa/i | G24: 21 | H24: < Rp1.000.000 | I24: Uang saku | J24: 1 - 3 tahun | K24: Rp500.000 - Rp1.000.000 | L24: 085773605978 | M24: 5 | N24: 5 | O24: 4 | P24: 5 | Q24: 4 | R24: 5 | S24: 4 | T24: 5 | U24: 4 | V24: 5 | W24: 4 | X24: 3 | Y24: 4 | Z24: 5 | AA24: 4 | AB24: 6 | AC24: 3 | AD24: 6 | AE24: 7 | AF24: 5 | AG24: 4 | AH24: 6 | AI24: 6 | AJ24: 5 | AK24: 3 | AL24: 5 | AM24: 6 | AN24: 4 | AO24: 5 | AP24: 7 | AQ24: 5 | AR24: 5 | AS24: 5 | AT24: 6 | AU24: 6 | AV24: 4 | AW24: 5 | AX24: 5 | AY24: 4 | AZ24: 5 | BA24: 4 | BB24: 5 | BC24: 4 | BD24: 5 | BE24: 4 | BF24: 5 | BG24: 4 | BH24: 5 | BI24: 4 | BJ24: 5 | BK24: 4 | BL24: 5 | BM24: 5 | BN24: 4 | BO24: 5 | BP24: 5
A25: 45337.384 | B25: kiranahayu@gmail.com | C25: Ya, Saya bersedia | D25: Perempuan | E25: DKI Jakarta | F25: Freelancer | G25: 23 | H25: < Rp1.000.000 | I25: Gaji | J25: 3 - 5 tahun | K25: Rp200.000 - Rp500.000 | L25: 081285439018 | M25: 4 | N25: 4 | O25: 5 | P25: 4 | Q25: 2 | R25: 3 | S25: 3 | T25: 4 | U25: 3 | V25: 3 | W25: 3 | X25: 4 | Y25: 4 | Z25: 4 | AA25: 4 | AB25: 6 | AC25: 7 | AD25: 3 | AE25: 7 | AF25: 5 | AG25: 6 | AH25: 7 | AI25: 5 | AJ25: 2 | AK25: 1 | AL25: 1 | AM25: 1 | AN25: 1 | AO25: 4 | AP25: 6 | AQ25: 4 | AR25: 5 | AS25: 4 | AT25: 1 | AU25: 4 | AV25: 1 | AW25: 2 | AX25: 1 | AY25: 1 | AZ25: 1 | BA25: 3 | BB25: 3 | BC25: 1 | BD25: 4 | BE25: 5 | BF25: 1 | BG25: 3 | BH25: 4 | BI25: 4 | BJ25: 4 | BK25: 1 | BL25: 3 | BM25: 1 | BN25: 4 | BO25: 4 | BP25: 5
A26: 45337.39 | B26: madebysuar@gmail.com | C26: Ya, Saya bersedia | D26: Perempuan | E26: Jawa Timur | F26: Mahasiswa/i | G26: 23 | H26: < Rp1.000.000 | I26: Uang saku | J26: 1 - 3 tahun | K26: Rp1.000.000 - Rp3.000.000 | L26: 087864935760 | M26: 4 | N26: 4 | O26: 4 | P26: 4 | Q26: 3 | R26: 4 | S26: 4 | T26: 4 | U26: 4 | V26: 4 | W26: 4 | X26: 4 | Y26: 4 | Z26: 4 | AA26: 4 | AB26: 4 | AC26: 5 | AD26: 6 | AE26: 5 | AF26: 4 | AG26: 2 | AH26: 7 | AI26: 6 | AJ26: 4 | AK26: 4 | AL26: 7 | AM26: 6 | AN26: 4 | AO26: 2 | AP26: 6 | AQ26: 4 | AR26: 4 | AS26: 6 | AT26: 5 | AU26: 7 | AV26: 1 | AW26: 3 | AX26: 1 | AY26: 2 | AZ26: 1 | BA26: 4 | BB26: 3 | BC26: 2 | BD26: 4 | BE26: 5 | BF26: 2 | BG26: 5 | BH26: 5 | BI26: 5 | BJ26: 5 | BK26: 1 | BL26: 5 | BM26: 1 | BN26: 5 | BO26: 5 | BP26: 5
A27: 45337.392 | B27: rizqikhattatah24@gmail.com | C27: Ya, Saya bersedia | D27: Perempuan | E27: Jawa Timur | F27: Mahasiswa/i | G27: 20 | H27: < Rp1.000.000 | I27: Uang saku | J27: 3 - 5 tahun | K27: < Rp200.000 | L27: 085746157515 | M27: 5 | N27: 5 | O27: 5 | P27: 5 | Q27: 1 | R27: 5 | S27: 5 | T27: 5 | U27: 5 | V27: 5 | W27: 5 | X27: 5 | Y27: 5 | Z27: 5 | AA27: 5 | AB27: 7 | AC27: 7 | AD27: 6 | AE27: 7 | AF27: 7 | AG27: 2 | AH27: 7 | AI27: 7 | AJ27: 6 | AK27: 1 | AL27: 1 | AM27: 1 | AN27: 4 | AO27: 1 | AP27: 6 | AQ27: 7 | AR27: 3 | AS27: 1 | AT27: 2 | AU27: 1 | AV27: 1 | AW27: 4 | AX27: 1 | AY27: 3 | AZ27: 1 | BA27: 3 | BB27: 5 | BC27: 4 | BD27: 5 | BE27: 5 | BF27: 1 | BG27: 5 | BH27: 5 | BI27: 4 | BJ27: 5 | BK27: 1 | BL27: 5 | BM27: 2 | BN27: 4 | BO27: 5 | BP27: 5
A28: 45337.393 | B28: nuraini.7219@gmail.com | C28: Ya, Saya bersedia | D28: Perempuan | E28: Jawa Timur | F28: Mahasiswa/i | G28: 21 | H28: Rp1.000.000 - Rp3.000.000 | I28: Uang saku | J28: < 1 tahun | K28: < Rp200.000 | L28: 081235429244 | M28: 4 | N28: 3 | O28: 4 | P28: 4 | Q28: 4 | R28: 3 | S28: 3 | T28: 4 | U28: 3 | V28: 4 | W28: 3 | X28: 3 | Y28: 3 | Z28: 3 | AA28: 5 | AB28: 6 | AC28: 5 | AD28: 4 | AE28: 5 | AF28: 5 | AG28: 6 | AH28: 7 | AI28: 6 | AJ28: 6 | AK28: 2 | AL28: 5 | AM28: 4 | AN28: 5 | AO28: 5 | AP28: 5 | AQ28: 3 | AR28: 3 | AS28: 2 | AT28: 2 | AU28: 5 | AV28: 4 | AW28: 4 | AX28: 2 | AY28: 3 | AZ28: 2 | BA28: 5 | BB28: 4 | BC28: 2 | BD28: 3 | BE28: 4 | BF28: 2 | BG28: 5 | BH28: 4 | BI28: 4 | BJ28: 4 | BK28: 2 | BL28: 3 | BM28: 3 | BN28: 3 | BO28: 4 | BP28: 4
A29: 45337.424 | B29: shirokuro197@gmail.com | C29: Ya, Saya bersedia | D29: Laki-laki | E29: Jawa Timur | F29: Karyawan Swasta | G29: 23 | H29: Rp3.000.000 - Rp5.000.000 | I29: Gaji | J29: 1 - 3 tahun | K29: < Rp200.000 | L29: 082264207956 | M29: 5 | N29: 5 | O29: 5 | P29: 5 | Q29: 4 | R29: 5 | S29: 4 | T29: 3 | U29: 5 | V29: 5 | W29: 4 | X29: 4 | Y29: 4 | Z29: 3 | AA29: 5 | AB29: 7 | AC29: 7 | AD29: 3 | AE29: 6 | AF29: 5 | AG29: 6 | AH29: 7 | AI29: 7 | AJ29: 7 | AK29: 2 | AL29: 6 | AM29: 4 | AN29: 5 | AO29: 5 | AP29: 6 | AQ29: 5 | AR29: 4 | AS29: 4 | AT29: 3 | AU29: 4 | AV29: 3 | AW29: 4 | AX29: 4 | AY29: 4 | AZ29: 4 | BA29: 3 | BB29: 4 | BC29: 5 | BD29: 3 | BE29: 4 | BF29: 3 | BG29: 4 | BH29: 3 | BI29: 5 | BJ29: 4 | BK29: 3 | BL29: 5 | BM29: 4 | BN29: 5 | BO29: 5 | BP29: 4
A30: 45337.471 | B30: fitriannisa0220@gmail.com | C30: Ya, Saya bersedia | D30: Perempuan | E30: Riau | F30: Mahasiswa/i | G30: 18 | H30: Rp1.000.000 - Rp3.000.000 | I30: Uang saku | J30: > 7 tahun | K30: < Rp200.000 | L30: 0 | M30: 4 | N30: 4 | O30: 5 | P30: 4 | Q30: 5 | R30: 4 | S30: 5 | T30: 4 | U30: 4 | V30: 5 | W30: 4 | X30: 5 | Y30: 5 | Z30: 5 | AA30: 5 | AB30: 3 | AC30: 3 | AD30: 6 | AE30: 4 | AF30: 1 | AG30: 3 | AH30: 1 | AI30: 2 | AJ30: 1 | AK30: 7 | AL30: 5 | AM30: 5 | AN30: 6 | AO30: 7 | AP30: 6 | AQ30: 5 | AR30: 7 | AS30: 5 | AT30: 5 | AU30: 6 | AV30: 4 | AW30: 4 | AX30: 5 | AY30: 5 | AZ30: 4 | BA30: 1 | BB30: 2 | BC30: 4 | BD30: 2 | BE30: 2 | BF30: 5 | BG30: 1 | BH30: 2 | BI30: 3 | BJ30: 1 | BK30: 4 | BL30: 2 | BM30: 5 | BN30: 3 | BO30: 2 | BP30: 1
A31: 45337.472 | B31: gitanasha53@gmail.com | C31: Ya, Saya bersedia | D31: Perempuan | E31: Jawa Tengah | F31: Mahasiswa/i | G31: 20 | H31: Rp1.000.000 - Rp3.000.000 | I31: Uang saku, Gaji | J31: 3 - 5 tahun | K31: Rp500.000 - Rp1.000.000 | L31: 0882003623180 | M31: 5 | N31: 5 | O31: 5 | P31: 4 | Q31: 4 | R31: 5 | S31: 5 | T31: 4 | U31: 5 | V31: 4 | W31: 5 | X31: 4 | Y31: 5 | Z31: 4 | AA31: 5 | AB31: 2 | AC31: 3 | AD31: 7 | AE31: 1 | AF31: 2 | AG31: 1 | AH31: 1 | AI31: 2 | AJ31: 7 | AK31: 6 | AL31: 7 | AM31: 6 | AN31: 7 | AO31: 1 | AP31: 7 | AQ31: 6 | AR31: 5 | AS31: 6 | AT31: 7 | AU31: 7 | AV31: 4 | AW31: 5 | AX31: 5 | AY31: 4 | AZ31: 4 | BA31: 2 | BB31: 3 | BC31: 5 | BD31: 1 | BE31: 2 | BF31: 5 | BG31: 2 | BH31: 1 | BI31: 1 | BJ31: 2 | BK31: 5 | BL31: 1 | BM31: 5 | BN31: 1 | BO31: 2 | BP31: 1
A32: 45337.476 | B32: mahenmahesa02@gmail.com | C32: Ya, Saya bersedia | D32: Laki-laki | E32: Jawa Barat | F32: Mahasiswa/i | G32: 21 | H32: Rp1.000.000 - Rp3.000.000 | I32: Uang saku | J32: 1 - 3 tahun | K32: Rp500.000 - Rp1.000.000 | M32: 5 | N32: 4 | O32: 4 | P32: 5 | Q32: 4 | R32: 5 | S32: 5 | T32: 4 | U32: 5 | V32: 4 | W32: 4 | X32: 5 | Y32: 4 | Z32: 5 | AA32: 5 | AB32: 2 | AC32: 3 | AD32: 6 | AE32: 2 | AF32: 1 | AG32: 3 | AH32: 1 | AI32: 2 | AJ32: 7 | AK32: 6 | AL32: 5 | AM32: 7 | AN32: 5 | AO32: 2 | AP32: 6 | AQ32: 7 | AR32: 6 | AS32: 5 | AT32: 7 | AU32: 6 | AV32: 5 | AW32: 4 | AX32: 5 | AY32: 5 | AZ32: 4 | BA32: 2 | BB32: 1 | BC32: 5 | BD32: 2 | BE32: 3 | BF32: 4 | BG32: 2 | BH32: 1 | BI32: 3 | BJ32: 1 | BK32: 4 | BL32: 2 | BM32: 5 | BN32: 1 | BO32: 3 | BP32: 2
A33: 45337.477 | B33: justurbycha10@gmail.com | C33: Ya, Saya bersedia | D33: Perempuan | E33: Jawa Barat | F33: Siswa/i | G33: 18 | H33: < Rp1.000.000 | I33: Uang saku | J33: 3 - 5 tahun | K33: Rp500.000 - Rp1.000.000 | L33: 085640486704 | M33: 5 | N33: 4 | O33: 5 | P33: 5 | Q33: 4 | R33: 5 | S33: 5 | T33: 5 | U33: 4 | V33: 4 | W33: 5 | X33: 4 | Y33: 5 | Z33: 4 | AA33: 5 | AB33: 1 | AC33: 2 | AD33: 7 | AE33: 2 | AF33: 1 | AG33: 1 | AH33: 1 | AI33: 2 | AJ33: 7 | AK33: 6 | AL33: 7 | AM33: 7 | AN33: 6 | AO33: 2 | AP33: 7 | AQ33: 7 | AR33: 5 | AS33: 6 | AT33: 7 | AU33: 7 | AV33: 5 | AW33: 4 | AX33: 4 | AY33: 5 | AZ33: 4 | BA33: 2 | BB33: 1 | BC33: 4 | BD33: 1 | BE33: 1 | BF33: 5 | BG33: 2 | BH33: 1 | BI33: 3 | BJ33: 2 | BK33: 4 | BL33: 1 | BM33: 5 | BN33: 1 | BO33: 2 | BP33: 1
A34: 45337.479 | B34: afisallaryadi@gmail.com | C34: Ya, Saya bersedia | D34: Laki-laki | E34: Jawa Barat | F34: Karyawan Swasta | G34: 25 | H34: Rp3.000.000 - Rp5.000.000 | I34: Gaji | J34: 3 - 5 tahun | K34: Rp500.000 - Rp1.000.000 | M34: 4 | N34: 4 | O34: 5 | P34: 4 | Q34: 5 | R34: 4 | S34: 5 | T34: 4 | U34: 4 | V34: 5 | W34: 5 | X34: 4 | Y34: 4 | Z34: 4 | AA34: 5 | AB34: 3 | AC34: 4 | AD34: 5 | AE34: 4 | AF34: 3 | AG34: 4 | AH34: 4 | AI34: 3 | AJ34: 5 | AK34: 6 | AL34: 5 | AM34: 6 | AN34: 7 | AO34: 3 | AP34: 6 | AQ34: 5 | AR34: 6 | AS34: 5 | AT34: 5 | AU34: 6 | AV34: 5 | AW34: 4 | AX34: 4 | AY34: 4 | AZ34: 5 | BA34: 2 | BB34: 1 | BC34: 4 | BD34: 2 | BE34: 2 | BF34: 4 | BG34: 2 | BH34: 3 | BI34: 3 | BJ34: 3 | BK34: 4 | BL34: 3 | BM34: 5 | BN34: 3 | BO34: 2 | BP34: 1
A35: 45337.484 | B35: azkaamanda123@gmail.com | C35: Ya, Saya bersedia | D35: Perempuan | E35: Jawa Timur | F35: Mahasiswa/i | G35: 21 | H35: Rp1.000.000 - Rp3.000.000 | I35: Uang saku, beasiswa | J35: 1 - 3 tahun | K35: Rp200.000 - Rp500.000 | L35: 08885490329 | M35: 4 | N35: 4 | O35: 4 | P35: 5 | Q35: 4 | R35: 5 | S35: 5 | T35: 4 | U35: 5 | V35: 4 | W35: 4 | X35: 4 | Y35: 4 | Z35: 4 | AA35: 5 | AB35: 4 | AC35: 3 | AD35: 5 | AE35: 3 | AF35: 3 | AG35: 4 | AH35: 3 | AI35: 4 | AJ35: 6 | AK35: 5 | AL35: 6 | AM35: 5 | AN35: 7 | AO35: 4 | AP35: 7 | AQ35: 6 | AR35: 5 | AS35: 5 | AT35: 6 | AU35: 5 | AV35: 4 | AW35: 4 | AX35: 5 | AY35: 4 | AZ35: 4 | BA35: 3 | BB35: 2 | BC35: 4 | BD35: 3 | BE35: 2 | BF35: 4 | BG35: 2 | BH35: 3 | BI35: 3 | BJ35: 2 | BK35: 4 | BL35: 3 | BM35: 4 | BN35: 2 | BO35: 3 | BP35: 2
A36: 45337.485 | B36: apsun666@gmail.com | C36: Ya, Saya bersedia | D36: Laki-laki | E36: Jawa Barat | F36: Mahasiswa/i | G36: 22 | H36: Rp1.000.000 - Rp3.000.000 | I36: Uang saku | J36: 1 - 3 tahun | K36: Rp200.000 - Rp500.000 | M36: 5 | N36: 4 | O36: 4 | P36: 4 | Q36: 4 | R36: 5 | S36: 5 | T36: 5 | U36: 4 | V36: 5 | W36: 4 | X36: 4 | Y36: 5 | Z36: 4 | AA36: 5 | AB36: 4 | AC36: 4 | AD36: 5 | AE36: 3 | AF36: 4 | AG36: 2 | AH36: 4 | AI36: 3 | AJ36: 5 | AK36: 5 | AL36: 6 | AM36: 6 | AN36: 7 | AO36: 3 | AP36: 6 | AQ36: 5 | AR36: 6 | AS36: 6 | AT36: 5 | AU36: 6 | AV36: 5 | AW36: 4 | AX36: 4 | AY36: 5 | AZ36: 4 | BA36: 3 | BB36: 2 | BC36: 4 | BD36: 3 | BE36: 2 | BF36: 4 | BG36: 2 | BH36: 3 | BI36: 2 | BJ36: 3 | BK36: 4 | BL36: 2 | BM36: 5 | BN36: 2 | BO36: 1 | BP36: 1
A37: 45337.488 | B37: alisiafachirahasyim@gmail.com | C37: Ya, Saya bersedia | D37: Perempuan | E37: DKI Jakarta | F37: Mahasiswa/i | G37: 21 | H37: Rp1.000.000 - Rp3.000.000 | I37: Uang saku, Gaji | J37: 3 - 5 tahun | K37: Rp1.000.000 - Rp3.000.000 | M37: 5 | N37: 5 | O37: 5 | P37: 4 | Q37: 4 | R37: 5 | S37: 5 | T37: 4 | U37: 5 | V37: 4 | W37: 4 | X37: 4 | Y37: 5 | Z37: 4 | AA37: 5 | AB37: 3 | AC37: 1 | AD37: 7 | AE37: 2 | AF37: 3 | AG37: 1 | AH37: 3 | AI37: 4 | AJ37: 6 | AK37: 7 | AL37: 5 | AM37: 5 | AN37: 6 | AO37: 3 | AP37: 6 | AQ37: 5 | AR37: 7 | AS37: 7 | AT37: 6 | AU37: 7 | AV37: 4 | AW37: 5 | AX37: 5 | AY37: 4 | AZ37: 4 | BA37: 3 | BB37: 3 | BC37: 5 | BD37: 1 | BE37: 2 | BF37: 5 | BG37: 2 | BH37: 1 | BI37: 3 | BJ37: 2 | BK37: 4 | BL37: 2 | BM37: 4 | BN37: 2 | BO37: 1 | BP37: 3
A38: 45337.505 | B38: nurulllhumaira@gmail.com | C38: Ya, Saya bersedia | D38: Perempuan | E38: DKI Jakarta | F38: Mahasiswa/i | G38: 22 | H38: Rp1.000.000 - Rp3.000.000 | I38: Uang saku | J38: 1 - 3 tahun | K38: Rp200.000 - Rp500.000 | L38: 0859106628835 | M38: 4 | N38: 5 | O38: 5 | P38: 4 | Q38: 5 | R38: 4 | S38: 5 | T38: 4 | U38: 4 | V38: 5 | W38: 4 | X38: 5 | Y38: 4 | Z38: 5 | AA38: 4 | AB38: 2 | AC38: 3 | AD38: 5 | AE38: 3 | AF38: 2 | AG38: 1 | AH38: 4 | AI38: 3 | AJ38: 5 | AK38: 5 | AL38: 7 | AM38: 6 | AN38: 7 | AO38: 3 | AP38: 5 | AQ38: 7 | AR38: 5 | AS38: 6 | AT38: 5 | AU38: 7 | AV38: 4 | AW38: 5 | AX38: 4 | AY38: 5 | AZ38: 5 | BA38: 2 | BB38: 3 | BC38: 5 | BD38: 3 | BE38: 1 | BF38: 4 | BG38: 2 | BH38: 1 | BI38: 2 | BJ38: 1 | BK38: 4 | BL38: 2 | BM38: 4 | BN38: 2 | BO38: 1 | BP38: 3
A39: 45337.509 | B39: dulunyananda@gmail.com | C39: Ya, Saya bersedia | D39: Perempuan | E39: Jawa Barat | F39: Mahasiswa/i | G39: 22 | H39: Rp5.000.000 - Rp8.000.000 | I39: Gaji | J39: 1 - 3 tahun | K39: Rp500.000 - Rp1.000.000 | L39: 08885490329 | M39: 5 | N39: 4 | O39: 4 | P39: 5 | Q39: 4 | R39: 4 | S39: 5 | T39: 4 | U39: 4 | V39: 5 | W39: 5 | X39: 4 | Y39: 5 | Z39: 5 | AA39: 4 | AB39: 4 | AC39: 3 | AD39: 5 | AE39: 4 | AF39: 3 | AG39: 4 | AH39: 3 | AI39: 4 | AJ39: 6 | AK39: 5 | AL39: 6 | AM39: 7 | AN39: 6 | AO39: 3 | AP39: 7 | AQ39: 6 | AR39: 5 | AS39: 6 | AT39: 5 | AU39: 6 | AV39: 4 | AW39: 4 | AX39: 5 | AY39: 4 | AZ39: 5 | BA39: 3 | BB39: 2 | BC39: 4 | BD39: 3 | BE39: 3 | BF39: 4 | BG39: 3 | BH39: 3 | BI39: 2 | BJ39: 3 | BK39: 4 | BL39: 3 | BM39: 4 | BN39: 2 | BO39: 2 | BP39: 3
A40: 45337.51 | B40: bilqisazzahraa72@gmail.com | C40: Ya, Saya bersedia | D40: Perempuan | E40: Jawa Barat | F40: Mahasiswa/i | G40: 20 | H40: < Rp1.000.000 | I40: Uang saku | J40: 1 - 3 tahun | K40: Rp200.000 - Rp500.000 | L40: 082112477327 | M40: 4 | N40: 4 | O40: 5 | P40: 4 | Q40: 5 | R40: 4 | S40: 5 | T40: 4 | U40: 5 | V40: 4 | W40: 5 | X40: 4 | Y40: 5 | Z40: 4 | AA40: 5 | AB40: 3 | AC40: 1 | AD40: 5 | AE40: 3 | AF40: 2 | AG40: 1 | AH40: 4 | AI40: 3 | AJ40: 6 | AK40: 5 | AL40: 7 | AM40: 6 | AN40: 5 | AO40: 2 | AP40: 5 | AQ40: 7 | AR40: 6 | AS40: 7 | AT40: 5 | AU40: 6 | AV40: 5 | AW40: 4 | AX40: 5 | AY40: 5 | AZ40: 4 | BA40: 3 | BB40: 2 | BC40: 4 | BD40: 2 | BE40: 3 | BF40: 5 | BG40: 2 | BH40: 1 | BI40: 3 | BJ40: 2 | BK40: 4 | BL40: 2 | BM40: 5 | BN40: 2 | BO40: 1 | BP40: 3
A41: 45337.517 | B41: aleksiakalinaputeri@gmail.com | C41: Ya, Saya bersedia | D41: Perempuan | E41: Jawa Barat | F41: Mahasiswa/i | G41: 22 | H41: Rp3.000.000 - Rp5.000.000 | I41: Uang saku, Gaji | J41: 3 - 5 tahun | K41: Rp200.000 - Rp500.000 | M41: 4 | N41: 4 | O41: 5 | P41: 4 | Q41: 5 | R41: 5 | S41: 4 | T41: 4 | U41: 4 | V41: 5 | W41: 5 | X41: 4 | Y41: 4 | Z41: 5 | AA41: 4 | AB41: 2 | AC41: 3 | AD41: 5 | AE41: 3 | AF41: 1 | AG41: 2 | AH41: 4 | AI41: 4 | AJ41: 7 | AK41: 6 | AL41: 6 | AM41: 5 | AN41: 6 | AO41: 1 | AP41: 7 | AQ41: 6 | AR41: 5 | AS41: 5 | AT41: 6 | AU41: 7 | AV41: 5 | AW41: 5 | AX41: 4 | AY41: 4 | AZ41: 5 | BA41: 1 | BB41: 3 | BC41: 4 | BD41: 2 | BE41: 1 | BF41: 5 | BG41: 1 | BH41: 1 | BI41: 2 | BJ41: 3 | BK41: 4 | BL41: 2 | BM41: 5 | BN41: 2 | BO41: 1 | BP41: 1
A42: 45337.577 | B42: pmaysari1510@gmail.com | C42: Ya, Saya bersedia | D42: Perempuan | E42: Jawa Timur | F42: Karyawan Swasta | G42: 21 | H42: Rp1.000.000 - Rp3.000.000 | I42: Gaji | J42: > 7 tahun | K42: Rp500.000 - Rp1.000.000 | L42: 082111248404 | M42: 3 | N42: 5 | O42: 5 | P42: 5 | Q42: 5 | R42: 5 | S42: 5 | T42: 5 | U42: 5 | V42: 5 | W42: 5 | X42: 5 | Y42: 5 | Z42: 5 | AA42: 5 | AB42: 7 | AC42: 7 | AD42: 1 | AE42: 6 | AF42: 6 | AG42: 6 | AH42: 7 | AI42: 7 | AJ42: 3 | AK42: 1 | AL42: 4 | AM42: 1 | AN42: 4 | AO42: 6 | AP42: 7 | AQ42: 4 | AR42: 3 | AS42: 1 | AT42: 1 | AU42: 3 | AV42: 3 | AW42: 3 | AX42: 3 | AY42: 3 | AZ42: 2 | BA42: 4 | BB42: 4 | BC42: 3 | BD42: 5 | BE42: 5 | BF42: 3 | BG42: 3 | BH42: 2 | BI42: 3 | BJ42: 3 | BK42: 3 | BL42: 4 | BM42: 3 | BN42: 3 | BO42: 4 | BP42: 4
A43: 45337.581 | B43: mldnrahma2@gmail.com | C43: Ya, Saya bersedia | D43: Perempuan | E43: Jawa Timur | F43: Mahasiswa/i | G43: 21 | H43: < Rp1.000.000 | I43: Uang saku | J43: > 7 tahun | K43: < Rp200.000 | L43: 089699784165 | M43: 4 | N43: 4 | O43: 5 | P43: 3 | Q43: 3 | R43: 4 | S43: 3 | T43: 3 | U43: 5 | V43: 4 | W43: 5 | X43: 3 | Y43: 5 | Z43: 3 | AA43: 5 | AB43: 6 | AC43: 7 | AD43: 5 | AE43: 6 | AF43: 4 | AG43: 6 | AH43: 6 | AI43: 7 | AJ43: 4 | AK43: 4 | AL43: 5 | AM43: 5 | AN43: 5 | AO43: 4 | AP43: 7 | AQ43: 7 | AR43: 4 | AS43: 3 | AT43: 4 | AU43: 3 | AV43: 3 | AW43: 3 | AX43: 2 | AY43: 3 | AZ43: 1 | BA43: 5 | BB43: 5 | BC43: 4 | BD43: 5 | BE43: 5 | BF43: 1 | BG43: 5 | BH43: 5 | BI43: 5 | BJ43: 5 | BK43: 2 | BL43: 5 | BM43: 2 | BN43: 5 | BO43: 5 | BP43: 5
A44: 45337.619 | B44: dinerizqiaa30@gmail.com | C44: Ya, Saya bersedia | D44: Perempuan | E44: Jawa Barat | F44: Siswa/i | G44: 17 | H44: Rp1.000.000 - Rp3.000.000 | I44: Uang saku | J44: 5 - 7 tahun | K44: Rp500.000 - Rp1.000.000 | L44: 088804184595 | M44: 4 | N44: 5 | O44: 5 | P44: 4 | Q44: 5 | R44: 5 | S44: 4 | T44: 4 | U44: 5 | V44: 5 | W44: 4 | X44: 4 | Y44: 5 | Z44: 5 | AA44: 4 | AB44: 2 | AC44: 4 | AD44: 5 | AE44: 3 | AF44: 4 | AG44: 2 | AH44: 1 | AI44: 3 | AJ44: 6 | AK44: 5 | AL44: 7 | AM44: 6 | AN44: 6 | AO44: 3 | AP44: 7 | AQ44: 5 | AR44: 6 | AS44: 6 | AT44: 7 | AU44: 6 | AV44: 4 | AW44: 5 | AX44: 5 | AY44: 4 | AZ44: 5 | BA44: 2 | BB44: 1 | BC44: 4 | BD44: 2 | BE44: 1 | BF44: 4 | BG44: 1 | BH44: 2 | BI44: 2 | BJ44: 3 | BK44: 4 | BL44: 1 | BM44: 4 | BN44: 3 | BO44: 3 | BP44: 1
A45: 45337.666 | B45: fahirrazizah11@gmail.com | C45: Ya, Saya bersedia | D45: Perempuan | E45: Banten | F45: Mahasiswa/i | G45: 20 | H45: Rp1.000.000 - Rp3.000.000 | I45: Uang saku | J45: 3 - 5 tahun | K45: Rp200.000 - Rp500.000 | L45: 081292919893 | M45: 4 | N45: 4 | O45: 5 | P45: 4 | Q45: 5 | R45: 5 | S45: 4 | T45: 5 | U45: 4 | V45: 4 | W45: 5 | X45: 4 | Y45: 5 | Z45: 5 | AA45: 4 | AB45: 3 | AC45: 4 | AD45: 6 | AE45: 3 | AF45: 4 | AG45: 2 | AH45: 3 | AI45: 3 | AJ45: 5 | AK45: 7 | AL45: 5 | AM45: 6 | AN45: 5 | AO45: 3 | AP45: 6 | AQ45: 6 | AR45: 7 | AS45: 5 | AT45: 6 | AU45: 6 | AV45: 4 | AW45: 5 | AX45: 4 | AY45: 5 | AZ45: 5 | BA45: 3 | BB45: 2 | BC45: 4 | BD45: 2 | BE45: 3 | BF45: 5 | BG45: 3 | BH45: 2 | BI45: 2 | BJ45: 1 | BK45: 4 | BL45: 2 | BM45: 5 | BN45: 3 | BO45: 2 | BP45: 2
A46: 45337.672 | B46: cindynursofia@gmail.com | C46: Ya, Saya bersedia | D46: Perempuan | E46: DKI Jakarta | F46: Mahasiswa/i | G46: 21 | H46: Rp1.000.000 - Rp3.000.000 | I46: Uang saku | J46: 1 - 3 tahun | K46: Rp200.000 - Rp500.000 | L46: 0895413098832 | M46: 5 | N46: 4 | O46: 5 | P46: 4 | Q46: 4 | R46: 5 | S46: 4 | T46: 5 | U46: 5 | V46: 4 | W46: 5 | X46: 4 | Y46: 5 | Z46: 5 | AA46: 4 | AB46: 2 | AC46: 3 | AD46: 6 | AE46: 3 | AF46: 2 | AG46: 3 | AH46: 2 | AI46: 2 | AJ46: 5 | AK46: 6 | AL46: 6 | AM46: 5 | AN46: 7 | AO46: 4 | AP46: 6 | AQ46: 5 | AR46: 6 | AS46: 7 | AT46: 5 | AU46: 6 | AV46: 5 | AW46: 4 | AX46: 4 | AY46: 5 | AZ46: 4 | BA46: 2 | BB46: 1 | BC46: 4 | BD46: 2 | BE46: 3 | BF46: 5 | BG46: 3 | BH46: 2 | BI46: 3 | BJ46: 1 | BK46: 4 | BL46: 2 | BM46: 4 | BN46: 3 | BO46: 1 | BP46: 2
A47: 45337.741 | B47: zayn.malikk2011@gmail.com | C47: Ya, Saya bersedia | D47: Laki-laki | E47: DKI Jakarta | F47: Mahasiswa/i | G47: 23 | H47: Rp3.000.000 - Rp5.000.000 | I47: Uang saku, Gaji | J47: 3 - 5 tahun | K47: Rp500.000 - Rp1.000.000 | L47: 089660900150 | M47: 5 | N47: 5 | O47: 5 | P47: 4 | Q47: 5 | R47: 4 | S47: 5 | T47: 4 | U47: 4 | V47: 4 | W47: 4 | X47: 5 | Y47: 5 | Z47: 4 | AA47: 4 | AB47: 4 | AC47: 1 | AD47: 6 | AE47: 3 | AF47: 7 | AG47: 7 | AH47: 6 | AI47: 2 | AJ47: 5 | AK47: 7 | AL47: 6 | AM47: 6 | AN47: 6 | AO47: 6 | AP47: 6 | AQ47: 7 | AR47: 6 | AS47: 6 | AT47: 6 | AU47: 5 | AV47: 5 | AW47: 1 | AX47: 1 | AY47: 1 | AZ47: 4 | BA47: 1 | BB47: 2 | BC47: 4 | BD47: 2 | BE47: 3 | BF47: 5 | BG47: 1 | BH47: 1 | BI47: 1 | BJ47: 2 | BK47: 4 | BL47: 1 | BM47: 5 | BN47: 1 | BO47: 3 | BP47: 2
A48: 45337.744 | B48: msatriaa638@gmail.com | C48: Ya, Saya bersedia | D48: Laki-laki | E48: Jawa Tengah | F48: Mahasiswa/i | G48: 22 | H48: Rp1.000.000 - Rp3.000.000 | I48: Uang saku | J48: < 1 tahun | K48: < Rp200.000 | L48: 083831677254 | M48: 4 | N48: 4 | O48: 5 | P48: 4 | Q48: 5 | R48: 4 | S48: 5 | T48: 5 | U48: 4 | V48: 5 | W48: 4 | X48: 5 | Y48: 4 | Z48: 4 | AA48: 5 | AB48: 2 | AC48: 3 | AD48: 6 | AE48: 4 | AF48: 3 | AG48: 3 | AH48: 2 | AI48: 3 | AJ48: 6 | AK48: 5 | AL48: 7 | AM48: 6 | AN48: 6 | AO48: 3 | AP48: 5 | AQ48: 7 | AR48: 6 | AS48: 6 | AT48: 7 | AU48: 5 | AV48: 4 | AW48: 5 | AX48: 5 | AY48: 4 | AZ48: 5 | BA48: 3 | BB48: 2 | BC48: 4 | BD48: 2 | BE48: 1 | BF48: 4 | BG48: 2 | BH48: 3 | BI48: 2 | BJ48: 3 | BK48: 5 | BL48: 2 | BM48: 4 | BN48: 2 | BO48: 1 | BP48: 3
A49: 45337.753 | B49: dewanggarizky05@gmail.com | C49: Ya, Saya bersedia | D49: Laki-laki | E49: Jawa Tengah | F49: Mahasiswa/i | G49: 21 | H49: Rp1.000.000 - Rp3.000.000 | I49: Uang saku | J49: < 1 tahun | K49: < Rp200.000 | L49: 081257738652 | M49: 5 | N49: 4 | O49: 5 | P49: 4 | Q49: 4 | R49: 5 | S49: 4 | T49: 5 | U49: 5 | V49: 4 | W49: 5 | X49: 4 | Y49: 5 | Z49: 4 | AA49: 4 | AB49: 3 | AC49: 3 | AD49: 6 | AE49: 4 | AF49: 2 | AG49: 3 | AH49: 2 | AI49: 2 | AJ49: 5 | AK49: 5 | AL49: 7 | AM49: 6 | AN49: 5 | AO49: 3 | AP49: 6 | AQ49: 5 | AR49: 7 | AS49: 6 | AT49: 6 | AU49: 5 | AV49: 5 | AW49: 4 | AX49: 5 | AY49: 5 | AZ49: 4 | BA49: 2 | BB49: 3 | BC49: 5 | BD49: 3 | BE49: 3 | BF49: 4 | BG49: 2 | BH49: 1 | BI49: 2 | BJ49: 2 | BK49: 5 | BL49: 3 | BM49: 4 | BN49: 2 | BO49: 2 | BP49: 1
A50: 45337.756 | B50: kanayajijel@gmail.com | C50: Ya, Saya bersedia | D50: Perempuan | E50: Jawa Tengah | F50: Mahasiswa/i | G50: 20 | H50: Rp1.000.000 - Rp3.000.000 | I50: Uang saku | J50: 3 - 5 tahun | K50: Rp1.000.000 - Rp3.000.000 | M50: 5 | N50: 4 | O50: 5 | P50: 5 | Q50: 4 | R50: 5 | S50: 4 | T50: 4 | U50: 5 | V50: 4 | W50: 5 | X50: 4 | Y50: 4 | Z50: 5 | AA50: 4 | AB50: 3 | AC50: 2 | AD50: 6 | AE50: 3 | AF50: 2 | AG50: 4 | AH50: 2 | AI50: 3 | AJ50: 7 | AK50: 5 | AL50: 6 | AM50: 7 | AN50: 5 | AO50: 3 | AP50: 6 | AQ50: 7 | AR50: 5 | AS50: 6 | AT50: 7 | AU50: 6 | AV50: 5 | AW50: 4 | AX50: 5 | AY50: 5 | AZ50: 4 | BA50: 2 | BB50: 1 | BC50: 4 | BD50: 2 | BE50: 1 | BF50: 4 | BG50: 2 | BH50: 1 | BI50: 3 | BJ50: 2 | BK50: 5 | BL50: 3 | BM50: 4 | BN50: 2 | BO50: 1 | BP50: 3
A51: 45337.759 | B51: raniaazela19@gmail.com | C51: Ya, Saya bersedia | D51: Perempuan | E51: Jawa Timur | F51: Karyawan Swasta | G51: 24 | H51: Rp3.000.000 - Rp5.000.000 | I51: Gaji | J51: 5 - 7 tahun | K51: Rp3.000.000 - Rp5.000.000 | M51: 4 | N51: 4 | O51: 5 | P51: 4 | Q51: 5 | R51: 5 | S51: 4 | T51: 5 | U51: 4 | V51: 4 | W51: 5 | X51: 4 | Y51: 5 | Z51: 4 | AA51: 4 | AB51: 2 | AC51: 4 | AD51: 6 | AE51: 2 | AF51: 4 | AG51: 1 | AH51: 3 | AI51: 2 | AJ51: 5 | AK51: 7 | AL51: 6 | AM51: 7 | AN51: 5 | AO51: 2 | AP51: 7 | AQ51: 5 | AR51: 7 | AS51: 6 | AT51: 7 | AU51: 5 | AV51: 5 | AW51: 4 | AX51: 5 | AY51: 5 | AZ51: 4 | BA51: 3 | BB51: 1 | BC51: 4 | BD51: 3 | BE51: 2 | BF51: 4 | BG51: 2 | BH51: 1 | BI51: 3 | BJ51: 2 | BK51: 4 | BL51: 3 | BM51: 5 | BN51: 3 | BO51: 2 | BP51: 2
A52: 45337.761 | B52: rayhanabbas75@gmail.com | C52: Ya, Saya bersedia | D52: Laki-laki | E52: Jawa Barat | F52: Mahasiswa/i | G52: 24 | H52: Rp1.000.000 - Rp3.000.000 | I52: Gaji | J52: 1 - 3 tahun | K52: Rp200.000 - Rp500.000 | L52: 082251898682 | M52: 5 | N52: 4 | O52: 4 | P52: 4 | Q52: 5 | R52: 4 | S52: 5 | T52: 4 | U52: 4 | V52: 4 | W52: 4 | X52: 5 | Y52: 4 | Z52: 5 | AA52: 5 | AB52: 4 | AC52: 1 | AD52: 7 | AE52: 3 | AF52: 2 | AG52: 2 | AH52: 1 | AI52: 3 | AJ52: 7 | AK52: 6 | AL52: 6 | AM52: 5 | AN52: 7 | AO52: 2 | AP52: 7 | AQ52: 5 | AR52: 6 | AS52: 5 | AT52: 7 | AU52: 6 | AV52: 5 | AW52: 4 | AX52: 5 | AY52: 5 | AZ52: 4 | BA52: 1 | BB52: 2 | BC52: 5 | BD52: 2 | BE52: 2 | BF52: 5 | BG52: 2 | BH52: 1 | BI52: 3 | BJ52: 3 | BK52: 5 | BL52: 3 | BM52: 5 | BN52: 1 | BO52: 2 | BP52: 2
A53: 45337.768 | B53: indahwww1@gmail.com | C53: Ya, Saya bersedia | D53: Perempuan | E53: Jawa Barat | F53: Mahasiswa/i | G53: 23 | H53: Rp1.000.000 - Rp3.000.000 | I53: Uang saku | J53: 3 - 5 tahun | K53: Rp200.000 - Rp500.000 | M53: 5 | N53: 5 | O53: 4 | P53: 4 | Q53: 5 | R53: 4 | S53: 4 | T53: 5 | U53: 4 | V53: 5 | W53: 4 | X53: 5 | Y53: 4 | Z53: 5 | AA53: 4 | AB53: 3 | AC53: 2 | AD53: 5 | AE53: 3 | AF53: 2 | AG53: 1 | AH53: 3 | AI53: 4 | AJ53: 6 | AK53: 7 | AL53: 6 | AM53: 7 | AN53: 5 | AO53: 3 | AP53: 5 | AQ53: 7 | AR53: 6 | AS53: 7 | AT53: 6 | AU53: 5 | AV53: 4 | AW53: 5 | AX53: 4 | AY53: 5 | AZ53: 5 | BA53: 2 | BB53: 3 | BC53: 4 | BD53: 3 | BE53: 2 | BF53: 4 | BG53: 2 | BH53: 1 | BI53: 3 | BJ53: 2 | BK53: 4 | BL53: 2 | BM53: 4 | BN53: 2 | BO53: 1 | BP53: 3
A54: 45337.777 | B54: fianhusnatul2001@gmail.com | C54: Ya, Saya bersedia | D54: Perempuan | E54: Jawa Timur | F54: Mahasiswa/i | G54: 22 | H54: Rp1.000.000 - Rp3.000.000 | I54: Uang saku | J54: > 7 tahun | K54: Rp1.000.000 - Rp3.000.000 | L54: 085867203284 | M54: 5 | N54: 5 | O54: 5 | P54: 5 | Q54: 4 | R54: 3 | S54: 3 | T54: 3 | U54: 4 | V54: 4 | W54: 4 | X54: 3 | Y54: 5 | Z54: 5 | AA54: 5 | AB54: 7 | AC54: 7 | AD54: 4 | AE54: 7 | AF54: 2 | AG54: 4 | AH54: 7 | AI54: 4 | AJ54: 1 | AK54: 1 | AL54: 1 | AM54: 1 | AN54: 1 | AO54: 1 | AP54: 7 | AQ54: 5 | AR54: 1 | AS54: 1 | AT54: 1 | AU54: 6 | AV54: 1 | AW54: 3 | AX54: 1 | AY54: 2 | AZ54: 1 | BA54: 4 | BB54: 3 | BC54: 3 | BD54: 5 | BE54: 5 | BF54: 3 | BG54: 3 | BH54: 3 | BI54: 3 | BJ54: 3 | BK54: 4 | BL54: 5 | BM54: 3 | BN54: 3 | BO54: 4 | BP54: 3
A55: 45337.781 | B55: ainin7015@gmail.com | C55: Ya, Saya bersedia | D55: Perempuan | E55: Jawa Timur | F55: Mahasiswa/i | G55: 22 | H55: < Rp1.000.000 | I55: Uang saku | J55: > 7 tahun | K55: < Rp200.000 | L55: 085606943775 | M55: 4 | N55: 5 | O55: 5 | P55: 4 | Q55: 3 | R55: 5 | S55: 4 | T55: 4 | U55: 4 | V55: 4 | W55: 4 | X55: 3 | Y55: 4 | Z55: 4 | AA55: 4 | AB55: 6 | AC55: 4 | AD55: 4 | AE55: 6 | AF55: 7 | AG55: 7 | AH55: 5 | AI55: 7 | AJ55: 4 | AK55: 1 | AL55: 4 | AM55: 4 | AN55: 5 | AO55: 6 | AP55: 7 | AQ55: 4 | AR55: 4 | AS55: 4 | AT55: 5 | AU55: 5 | AV55: 2 | AW55: 4 | AX55: 2 | AY55: 2 | AZ55: 2 | BA55: 4 | BB55: 4 | BC55: 3 | BD55: 5 | BE55: 4 | BF55: 3 | BG55: 4 | BH55: 4 | BI55: 4 | BJ55: 5 | BK55: 2 | BL55: 5 | BM55: 2 | BN55: 4 | BO55: 5 | BP55: 5
A56: 45337.785 | B56: jovankangel12@gmail.com | C56: Ya, Saya bersedia | D56: Perempuan | E56: Banten | F56: Mahasiswa/i | G56: 20 | H56: < Rp1.000.000 | I56: Uang saku | J56: 3 - 5 tahun | K56: < Rp200.000 | L56: 082169372515 | M56: 5 | N56: 4 | O56: 1 | P56: 5 | Q56: 4 | R56: 4 | S56: 5 | T56: 4 | U56: 5 | V56: 4 | W56: 4 | X56: 3 | Y56: 4 | Z56: 4 | AA56: 4 | AB56: 5 | AC56: 5 | AD56: 3 | AE56: 5 | AF56: 5 | AG56: 5 | AH56: 5 | AI56: 5 | AJ56: 5 | AK56: 3 | AL56: 5 | AM56: 6 | AN56: 6 | AO56: 3 | AP56: 5 | AQ56: 6 | AR56: 5 | AS56: 5 | AT56: 5 | AU56: 5 | AV56: 4 | AW56: 4 | AX56: 4 | AY56: 4 | AZ56: 2 | BA56: 4 | BB56: 4 | BC56: 4 | BD56: 4 | BE56: 5 | BF56: 5 | BG56: 4 | BH56: 4 | BI56: 4 | BJ56: 4 | BK56: 5 | BL56: 4 | BM56: 4 | BN56: 5 | BO56: 5 | BP56: 3
A57: 45337.786 | B57: kiranadamayanti112@gmail.com | C57: Ya, Saya bersedia | D57: Perempuan | E57: Jawa Barat | F57: Mahasiswa/i | G57: 23 | H57: Rp1.000.000 - Rp3.000.000 | I57: Uang saku | J57: 1 - 3 tahun | K57: Rp500.000 - Rp1.000.000 | L57: 081545857189 | M57: 5 | N57: 5 | O57: 5 | P57: 5 | Q57: 4 | R57: 4 | S57: 4 | T57: 4 | U57: 4 | V57: 5 | W57: 4 | X57: 5 | Y57: 5 | Z57: 4 | AA57: 5 | AB57: 6 | AC57: 6 | AD57: 5 | AE57: 7 | AF57: 7 | AG57: 7 | AH57: 7 | AI57: 7 | AJ57: 4 | AK57: 4 | AL57: 4 | AM57: 6 | AN57: 7 | AO57: 7 | AP57: 7 | AQ57: 5 | AR57: 7 | AS57: 5 | AT57: 4 | AU57: 6 | AV57: 3 | AW57: 2 | AX57: 4 | AY57: 4 | AZ57: 2 | BA57: 5 | BB57: 4 | BC57: 3 | BD57: 5 | BE57: 5 | BF57: 2 | BG57: 4 | BH57: 4 | BI57: 5 | BJ57: 5 | BK57: 4 | BL57: 5 | BM57: 5 | BN57: 4 | BO57: 5 | BP57: 2
A58: 45337.918 | B58: nazaidaellyn@gmail.com | C58: Ya, Saya bersedia | D58: Perempuan | E58: JAWA TIMUR | F58: Mahasiswa/i | G58: 22 | H58: < Rp1.000.000 | I58: Uang saku, Gaji | J58: > 7 tahun | K58: Rp1.000.000 - Rp3.000.000 | L58: 081334380531 | M58: 3 | N58: 4 | O58: 5 | P58: 4 | Q58: 2 | R58: 3 | S58: 3 | T58: 4 | U58: 4 | V58: 3 | W58: 3 | X58: 3 | Y58: 4 | Z58: 3 | AA58: 4 | AB58: 7 | AC58: 7 | AD58: 3 | AE58: 7 | AF58: 7 | AG58: 2 | AH58: 7 | AI58: 7 | AJ58: 2 | AK58: 1 | AL58: 3 | AM58: 4 | AN58: 1 | AO58: 5 | AP58: 7 | AQ58: 2 | AR58: 6 | AS58: 2 | AT58: 1 | AU58: 3 | AV58: 4 | AW58: 3 | AX58: 1 | AY58: 2 | AZ58: 1 | BA58: 2 | BB58: 4 | BC58: 1 | BD58: 5 | BE58: 5 | BF58: 2 | BG58: 3 | BH58: 3 | BI58: 4 | BJ58: 3 | BK58: 3 | BL58: 2 | BM58: 3 | BN58: 3 | BO58: 3 | BP58: 5
A59: 45338.424 | B59: dewidewi190899@gmail.com | C59: Ya, Saya bersedia | D59: Perempuan | E59: Jawa Barat | F59: Karyawan Swasta | G59: 24 | H59: Rp1.000.000 - Rp3.000.000 | I59: Gaji | J59: > 7 tahun | K59: < Rp200.000 | L59: 082124509229 | M59: 4 | N59: 5 | O59: 5 | P59: 4 | Q59: 2 | R59: 3 | S59: 4 | T59: 2 | U59: 3 | V59: 4 | W59: 4 | X59: 1 | Y59: 5 | Z59: 2 | AA59: 5 | AB59: 7 | AC59: 6 | AD59: 5 | AE59: 6 | AF59: 7 | AG59: 3 | AH59: 7 | AI59: 5 | AJ59: 3 | AK59: 5 | AL59: 3 | AM59: 7 | AN59: 4 | AO59: 3 | AP59: 7 | AQ59: 7 | AR59: 3 | AS59: 5 | AT59: 5 | AU59: 6 | AV59: 4 | AW59: 2 | AX59: 2 | AY59: 1 | AZ59: 2 | BA59: 1 | BB59: 4 | BC59: 2 | BD59: 4 | BE59: 5 | BF59: 2 | BG59: 4 | BH59: 5 | BI59: 4 | BJ59: 5 | BK59: 2 | BL59: 4 | BM59: 5 | BN59: 4 | BO59: 5 | BP59: 3
A60: 45338.496 | B60: alysaanabila@gmail.com | C60: Ya, Saya bersedia | D60: Perempuan | E60: Jawa Barat | F60: Mahasiswa/i | G60: 21 | H60: Rp1.000.000 - Rp3.000.000 | I60: Uang saku | J60: 1 - 3 tahun | K60: Rp1.000.000 - Rp3.000.000 | L60: 085794099915 | M60: 5 | N60: 4 | O60: 5 | P60: 4 | Q60: 4 | R60: 4 | S60: 5 | T60: 4 | U60: 5 | V60: 4 | W60: 4 | X60: 4 | Y60: 4 | Z60: 4 | AA60: 5 | AB60: 6 | AC60: 5 | AD60: 7 | AE60: 6 | AF60: 5 | AG60: 5 | AH60: 6 | AI60: 6 | AJ60: 6 | AK60: 7 | AL60: 6 | AM60: 7 | AN60: 6 | AO60: 6 | AP60: 7 | AQ60: 6 | AR60: 6 | AS60: 6 | AT60: 6 | AU60: 7 | AV60: 4 | AW60: 4 | AX60: 5 | AY60: 4 | AZ60: 4 | BA60: 4 | BB60: 4 | BC60: 4 | BD60: 4 | BE60: 5 | BF60: 3 | BG60: 4 | BH60: 4 | BI60: 4 | BJ60: 4 | BK60: 4 | BL60: 4 | BM60: 4 | BN60: 4 | BO60: 4 | BP60: 4
A61: 45338.902 | B61: zahranialysza@gmail.com | C61: Ya, Saya bersedia | D61: Perempuan | E61: DKI jakarta | F61: Mahasiswa/i | G61: 24 | H61: Rp1.000.000 - Rp3.000.000 | I61: Uang saku | J61: 3 - 5 tahun | K61: Rp500.000 - Rp1.000.000 | M61: 5 | N61: 4 | O61: 5 | P61: 4 | Q61: 3 | R61: 5 | S61: 5 | T61: 4 | U61: 5 | V61: 5 | W61: 4 | X61: 5 | Y61: 4 | Z61: 5 | AA61: 4 | AB61: 7 | AC61: 6 | AD61: 4 | AE61: 7 | AF61: 6 | AG61: 6 | AH61: 7 | AI61: 6 | AJ61: 4 | AK61: 7 | AL61: 4 | AM61: 2 | AN61: 2 | AO61: 5 | AP61: 6 | AQ61: 4 | AR61: 2 | AS61: 7 | AT61: 4 | AU61: 7 | AV61: 1 | AW61: 2 | AX61: 1 | AY61: 2 | AZ61: 1 | BA61: 1 | BB61: 3 | BC61: 1 | BD61: 5 | BE61: 5 | BF61: 4 | BG61: 5 | BH61: 5 | BI61: 4 | BJ61: 5 | BK61: 2 | BL61: 5 | BM61: 2 | BN61: 4 | BO61: 5 | BP61: 5
A62: 45339.871 | B62: atherasari@gmail.com | C62: Ya, Saya bersedia | D62: Perempuan | E62: Jawa Barat | F62: Mahasiswa/i | G62: 20 | H62: < Rp1.000.000 | I62: Uang saku | J62: 1 - 3 tahun | K62: Rp500.000 - Rp1.000.000 | L62: 081231352743 | M62: 5 | N62: 4 | O62: 5 | P62: 5 | Q62: 2 | R62: 5 | S62: 5 | T62: 5 | U62: 5 | V62: 4 | W62: 4 | X62: 4 | Y62: 4 | Z62: 5 | AA62: 5 | AB62: 7 | AC62: 7 | AD62: 1 | AE62: 7 | AF62: 7 | AG62: 7 | AH62: 7 | AI62: 7 | AJ62: 1 | AK62: 1 | AL62: 1 | AM62: 1 | AN62: 1 | AO62: 5 | AP62: 7 | AQ62: 7 | AR62: 7 | AS62: 1 | AT62: 1 | AU62: 1 | AV62: 4 | AW62: 1 | AX62: 1 | AY62: 2 | AZ62: 2 | BA62: 5 | BB62: 4 | BC62: 1 | BD62: 4 | BE62: 5 | BF62: 1 | BG62: 4 | BH62: 5 | BI62: 4 | BJ62: 5 | BK62: 2 | BL62: 4 | BM62: 4 | BN62: 3 | BO62: 5 | BP62: 3
A63: 45341.299 | B63: rachmalianadia@gmail.com | C63: Ya, Saya bersedia | D63: Perempuan | E63: Jawa Timur | F63: Mahasiswa/i | G63: 20 | H63: < Rp1.000.000 | I63: Uang saku | J63: 3 - 5 tahun | K63: Rp200.000 - Rp500.000 | M63: 4 | N63: 4 | O63: 5 | P63: 4 | Q63: 4 | R63: 5 | S63: 5 | T63: 4 | U63: 5 | V63: 5 | W63: 5 | X63: 4 | Y63: 5 | Z63: 5 | AA63: 5 | AB63: 7 | AC63: 7 | AD63: 3 | AE63: 7 | AF63: 7 | AG63: 7 | AH63: 7 | AI63: 7 | AJ63: 7 | AK63: 3 | AL63: 3 | AM63: 3 | AN63: 4 | AO63: 4 | AP63: 7 | AQ63: 7 | AR63: 4 | AS63: 4 | AT63: 3 | AU63: 6 | AV63: 3 | AW63: 4 | AX63: 3 | AY63: 2 | AZ63: 2 | BA63: 5 | BB63: 5 | BC63: 3 | BD63: 5 | BE63: 5 | BF63: 3 | BG63: 4 | BH63: 5 | BI63: 5 | BJ63: 5 | BK63: 3 | BL63: 5 | BM63: 3 | BN63: 5 | BO63: 5 | BP63: 5
A64: 45341.749 | B64: annisadeliasari27@gmail.com | C64: Ya, Saya bersedia | D64: Perempuan | E64: Jawabarat | F64: Mahasiswa/i | G64: 21 | H64: < Rp1.000.000 | I64: Uang saku | J64: > 7 tahun | K64: > Rp5.000.000 | L64: 085161680527 | M64: 5 | N64: 5 | O64: 5 | P64: 5 | Q64: 5 | R64: 5 | S64: 5 | T64: 5 | U64: 5 | V64: 5 | W64: 5 | X64: 5 | Y64: 5 | Z64: 5 | AA64: 5 | AB64: 7 | AC64: 7 | AD64: 5 | AE64: 7 | AF64: 6 | AG64: 6 | AH64: 7 | AI64: 7 | AJ64: 7 | AK64: 7 | AL64: 7 | AM64: 7 | AN64: 7 | AO64: 7 | AP64: 7 | AQ64: 7 | AR64: 7 | AS64: 7 | AT64: 7 | AU64: 7 | AV64: 5 | AW64: 5 | AX64: 5 | AY64: 5 | AZ64: 3 | BA64: 5 | BB64: 5 | BC64: 5 | BD64: 5 | BE64: 5 | BF64: 3 | BG64: 5 | BH64: 5 | BI64: 5 | BJ64: 5 | BK64: 5 | BL64: 5 | BM64: 5 | BN64: 5 | BO64: 5 | BP64: 5
A65: 45341.797 | B65: sutriberuhin@gmail.com | C65: Ya, Saya bersedia | D65: Perempuan | E65: D.I Yogyakarta | F65: Mahasiswa/i | G65: 21 | H65: < Rp1.000.000 | I65: Uang saku, BA Jasprom | J65: > 7 tahun | K65: Rp200.000 - Rp500.000 | L65: 0895411139986 | M65: 5 | N65: 5 | O65: 5 | P65: 5 | Q65: 5 | R65: 5 | S65: 5 | T65: 5 | U65: 5 | V65: 5 | W65: 5 | X65: 5 | Y65: 5 | Z65: 5 | AA65: 5 | AB65: 7 | AC65: 7 | AD65: 5 | AE65: 7 | AF65: 7 | AG65: 7 | AH65: 7 | AI65: 7 | AJ65: 5 | AK65: 5 | AL65: 1 | AM65: 5 | AN65: 5 | AO65: 5 | AP65: 7 | AQ65: 7 | AR65: 7 | AS65: 5 | AT65: 1 | AU65: 7 | AV65: 1 | AW65: 1 | AX65: 1 | AY65: 1 | AZ65: 1 | BA65: 5 | BB65: 5 | BC65: 5 | BD65: 5 | BE65: 5 | BF65: 3 | BG65: 5 | BH65: 5 | BI65: 5 | BJ65: 5 | BK65: 3 | BL65: 5 | BM65: 4 | BN65: 5 | BO65: 5 | BP65: 5
A66: 45341.804 | B66: sulvina1333@gmail.com | C66: Ya, Saya bersedia | D66: Perempuan | E66: Jawa Barat | F66: Mahasiswa/i | G66: 22 | H66: Rp1.000.000 - Rp3.000.000 | I66: Uang saku, Gaji | J66: 5 - 7 tahun | K66: Rp500.000 - Rp1.000.000 | L66: 082347961350 | M66: 5 | N66: 5 | O66: 4 | P66: 5 | Q66: 2 | R66: 5 | S66: 5 | T66: 5 | U66: 4 | V66: 5 | W66: 5 | X66: 4 | Y66: 5 | Z66: 5 | AA66: 4 | AB66: 5 | AC66: 4 | AD66: 5 | AE66: 6 | AF66: 3 | AG66: 3 | AH66: 6 | AI66: 6 | AJ66: 2 | AK66: 3 | AL66: 4 | AM66: 5 | AN66: 6 | AO66: 3 | AP66: 6 | AQ66: 6 | AR66: 5 | AS66: 6 | AT66: 2 | AU66: 5 | AV66: 3 | AW66: 1 | AX66: 4 | AY66: 3 | AZ66: 3 | BA66: 3 | BB66: 5 | BC66: 2 | BD66: 4 | BE66: 5 | BF66: 2 | BG66: 4 | BH66: 5 | BI66: 5 | BJ66: 4 | BK66: 4 | BL66: 2 | BM66: 4 | BN66: 3 | BO66: 4 | BP66: 4
A67: 45342.516 | B67: aisyahasya251@gmail.com | C67: Ya, Saya bersedia | D67: Perempuan | E67: Jawa Barat | F67: Siswa/i | G67: 17 | H67: Rp1.000.000 - Rp3.000.000 | I67: Uang saku | J67: 1 - 3 tahun | K67: Rp200.000 - Rp500.000 | M67: 4 | N67: 5 | O67: 5 | P67: 5 | Q67: 4 | R67: 5 | S67: 5 | T67: 4 | U67: 5 | V67: 4 | W67: 5 | X67: 5 | Y67: 4 | Z67: 5 | AA67: 4 | AB67: 2 | AC67: 2 | AD67: 6 | AE67: 2 | AF67: 3 | AG67: 2 | AH67: 6 | AI67: 3 | AJ67: 4 | AK67: 6 | AL67: 6 | AM67: 6 | AN67: 4 | AO67: 1 | AP67: 6 | AQ67: 6 | AR67: 6 | AS67: 6 | AT67: 6 | AU67: 7 | AV67: 4 | AW67: 3 | AX67: 5 | AY67: 4 | AZ67: 4 | BA67: 4 | BB67: 2 | BC67: 5 | BD67: 5 | BE67: 2 | BF67: 4 | BG67: 2 | BH67: 4 | BI67: 4 | BJ67: 3 | BK67: 5 | BL67: 4 | BM67: 4 | BN67: 3 | BO67: 4 | BP67: 4
A68: 45342.518 | B68: belindanirmana@gmail.com | C68: Ya, Saya bersedia | D68: Perempuan | E68: Jawa Barat | F68: Mahasiswa/i | G68: 22 | H68: Rp3.000.000 - Rp5.000.000 | I68: Uang saku | J68: > 7 tahun | K68: Rp500.000 - Rp1.000.000 | M68: 4 | N68: 5 | O68: 5 | P68: 5 | Q68: 3 | R68: 5 | S68: 5 | T68: 4 | U68: 5 | V68: 5 | W68: 5 | X68: 5 | Y68: 5 | Z68: 4 | AA68: 5 | AB68: 7 | AC68: 7 | AD68: 2 | AE68: 6 | AF68: 5 | AG68: 7 | AH68: 7 | AI68: 6 | AJ68: 2 | AK68: 2 | AL68: 3 | AM68: 2 | AN68: 2 | AO68: 4 | AP68: 6 | AQ68: 4 | AR68: 4 | AS68: 5 | AT68: 2 | AU68: 2 | AV68: 2 | AW68: 1 | AX68: 2 | AY68: 1 | AZ68: 1 | BA68: 2 | BB68: 5 | BC68: 1 | BD68: 4 | BE68: 5 | BF68: 2 | BG68: 5 | BH68: 4 | BI68: 5 | BJ68: 5 | BK68: 2 | BL68: 4 | BM68: 1 | BN68: 5 | BO68: 4 | BP68: 5
A69: 45342.52 | B69: apriliaputrihasdar@gmail.com | C69: Ya, Saya bersedia | D69: Perempuan | E69: DKI Jakarta | F69: Mahasiswa/i | G69: 22 | H69: Rp1.000.000 - Rp3.000.000 | I69: Uang saku | J69: 1 - 3 tahun | K69: Rp200.000 - Rp500.000 | L69: 082198636096 | M69: 5 | N69: 4 | O69: 5 | P69: 4 | Q69: 5 | R69: 5 | S69: 5 | T69: 5 | U69: 4 | V69: 5 | W69: 5 | X69: 4 | Y69: 4 | Z69: 5 | AA69: 5 | AB69: 2 | AC69: 1 | AD69: 6 | AE69: 2 | AF69: 2 | AG69: 6 | AH69: 3 | AI69: 2 | AJ69: 6 | AK69: 6 | AL69: 6 | AM69: 7 | AN69: 7 | AO69: 1 | AP69: 7 | AQ69: 7 | AR69: 6 | AS69: 6 | AT69: 7 | AU69: 6 | AV69: 4 | AW69: 4 | AX69: 5 | AY69: 3 | AZ69: 5 | BA69: 2 | BB69: 5 | BC69: 4 | BD69: 2 | BE69: 2 | BF69: 3 | BG69: 2 | BH69: 4 | BI69: 2 | BJ69: 4 | BK69: 4 | BL69: 2 | BM69: 5 | BN69: 2 | BO69: 1 | BP69: 2
A70: 45342.522 | B70: auliyahpaisal@gmail.com | C70: Ya, Saya bersedia | D70: Perempuan | E70: Yogyakarta | F70: Siswa/i | G70: 16 | H70: < Rp1.000.000 | I70: Uang saku | J70: 1 - 3 tahun | K70: < Rp200.000 | M70: 5 | N70: 4 | O70: 4 | P70: 5 | Q70: 5 | R70: 4 | S70: 4 | T70: 5 | U70: 5 | V70: 5 | W70: 5 | X70: 4 | Y70: 5 | Z70: 5 | AA70: 5 | AB70: 6 | AC70: 5 | AD70: 3 | AE70: 5 | AF70: 3 | AG70: 4 | AH70: 7 | AI70: 5 | AJ70: 6 | AK70: 3 | AL70: 2 | AM70: 5 | AN70: 5 | AO70: 3 | AP70: 7 | AQ70: 6 | AR70: 3 | AS70: 5 | AT70: 3 | AU70: 5 | AV70: 2 | AW70: 1 | AX70: 2 | AY70: 1 | AZ70: 1 | BA70: 5 | BB70: 5 | BC70: 1 | BD70: 4 | BE70: 4 | BF70: 1 | BG70: 4 | BH70: 4 | BI70: 4 | BJ70: 5 | BK70: 1 | BL70: 4 | BM70: 1 | BN70: 4 | BO70: 4 | BP70: 5
A71: 45342.577 | B71: aliyahnurrr33@gmail.com | C71: Ya, Saya bersedia | D71: Perempuan | E71: Jawa Timur | F71: Siswa/i | G71: 17 | H71: < Rp1.000.000 | I71: Uang saku | J71: 3 - 5 tahun | K71: < Rp200.000 | L71: 081549364297 | M71: 4 | N71: 5 | O71: 5 | P71: 5 | Q71: 4 | R71: 4 | S71: 5 | T71: 5 | U71: 5 | V71: 4 | W71: 5 | X71: 5 | Y71: 5 | Z71: 5 | AA71: 4 | AB71: 6 | AC71: 3 | AD71: 6 | AE71: 3 | AF71: 2 | AG71: 2 | AH71: 7 | AI71: 5 | AJ71: 6 | AK71: 6 | AL71: 6 | AM71: 6 | AN71: 7 | AO71: 2 | AP71: 6 | AQ71: 6 | AR71: 7 | AS71: 6 | AT71: 6 | AU71: 6 | AV71: 4 | AW71: 4 | AX71: 4 | AY71: 5 | AZ71: 4 | BA71: 2 | BB71: 2 | BC71: 5 | BD71: 2 | BE71: 4 | BF71: 5 | BG71: 2 | BH71: 4 | BI71: 4 | BJ71: 5 | BK71: 5 | BL71: 3 | BM71: 4 | BN71: 1 | BO71: 1 | BP71: 2
A72: 45342.58 | B72: salehfidyah@gmail.com | C72: Ya, Saya bersedia | D72: Perempuan | E72: Jawa barat | F72: Siswa/i | G72: 16 | H72: < Rp1.000.000 | I72: Uang saku | J72: 1 - 3 tahun | K72: < Rp200.000 | M72: 4 | N72: 5 | O72: 5 | P72: 4 | Q72: 5 | R72: 4 | S72: 5 | T72: 5 | U72: 4 | V72: 5 | W72: 5 | X72: 4 | Y72: 5 | Z72: 5 | AA72: 5 | AB72: 2 | AC72: 3 | AD72: 6 | AE72: 1 | AF72: 2 | AG72: 2 | AH72: 2 | AI72: 1 | AJ72: 6 | AK72: 6 | AL72: 6 | AM72: 6 | AN72: 6 | AO72: 6 | AP72: 7 | AQ72: 6 | AR72: 6 | AS72: 6 | AT72: 7 | AU72: 7 | AV72: 4 | AW72: 4 | AX72: 4 | AY72: 5 | AZ72: 5 | BA72: 1 | BB72: 2 | BC72: 4 | BD72: 2 | BE72: 1 | BF72: 4 | BG72: 2 | BH72: 2 | BI72: 2 | BJ72: 4 | BK72: 4 | BL72: 4 | BM72: 5 | BN72: 1 | BO72: 2 | BP72: 2
A73: 45342.583 | B73: dewipermatasari1243@gmail.com | C73: Ya, Saya bersedia | D73: Perempuan | E73: Jakarta | F73: Mahasiswa/i | G73: 20 | H73: Rp1.000.000 - Rp3.000.000 | I73: Uang saku | J73: 3 - 5 tahun | K73: < Rp200.000 | M73: 4 | N73: 5 | O73: 4 | P73: 5 | Q73: 5 | R73: 4 | S73: 5 | T73: 5 | U73: 5 | V73: 4 | W73: 5 | X73: 5 | Y73: 5 | Z73: 4 | AA73: 5 | AB73: 5 | AC73: 7 | AD73: 1 | AE73: 6 | AF73: 5 | AG73: 6 | AH73: 7 | AI73: 7 | AJ73: 2 | AK73: 2 | AL73: 1 | AM73: 1 | AN73: 2 | AO73: 3 | AP73: 6 | AQ73: 6 | AR73: 1 | AS73: 2 | AT73: 1 | AU73: 1 | AV73: 1 | AW73: 1 | AX73: 1 | AY73: 2 | AZ73: 1 | BA73: 5 | BB73: 5 | BC73: 1 | BD73: 4 | BE73: 5 | BF73: 1 | BG73: 5 | BH73: 5 | BI73: 4 | BJ73: 5 | BK73: 2 | BL73: 5 | BM73: 1 | BN73: 5 | BO73: 4 | BP73: 5
A74: 45342.617 | B74: gabriellachristine67@gmail.com | C74: Ya, Saya bersedia | D74: Perempuan | E74: DKI Jakarta | F74: Mahasiswa/i | G74: 22 | H74: Rp1.000.000 - Rp3.000.000 | I74: Uang saku | J74: 5 - 7 tahun | K74: Rp200.000 - Rp500.000 | L74: 081263384192 | M74: 4 | N74: 4 | O74: 5 | P74: 5 | Q74: 4 | R74: 5 | S74: 4 | T74: 4 | U74: 5 | V74: 5 | W74: 4 | X74: 4 | Y74: 5 | Z74: 4 | AA74: 5 | AB74: 2 | AC74: 1 | AD74: 6 | AE74: 2 | AF74: 2 | AG74: 1 | AH74: 7 | AI74: 2 | AJ74: 6 | AK74: 5 | AL74: 6 | AM74: 6 | AN74: 7 | AO74: 3 | AP74: 6 | AQ74: 6 | AR74: 7 | AS74: 6 | AT74: 6 | AU74: 6 | AV74: 5 | AW74: 4 | AX74: 4 | AY74: 4 | AZ74: 5 | BA74: 2 | BB74: 2 | BC74: 4 | BD74: 1 | BE74: 3 | BF74: 2 | BG74: 5 | BH74: 2 | BI74: 2 | BJ74: 1 | BK74: 4 | BL74: 5 | BM74: 4 | BN74: 2 | BO74: 2 | BP74: 2
A75: 45342.619 | B75: ruslanmifdah@gmail.com | C75: Ya, Saya bersedia | D75: Laki-laki | E75: DKI Jakarta | F75: Siswa/i | G75: 19 | H75: Rp3.000.000 - Rp5.000.000 | I75: Uang saku, Gaji | J75: 3 - 5 tahun | K75: Rp200.000 - Rp500.000 | M75: 4 | N75: 4 | O75: 5 | P75: 4 | Q75: 5 | R75: 4 | S75: 5 | T75: 5 | U75: 4 | V75: 5 | W75: 5 | X75: 4 | Y75: 5 | Z75: 5 | AA75: 5 | AB75: 6 | AC75: 6 | AD75: 1 | AE75: 1 | AF75: 6 | AG75: 2 | AH75: 6 | AI75: 6 | AJ75: 2 | AK75: 2 | AL75: 1 | AM75: 3 | AN75: 4 | AO75: 6 | AP75: 3 | AQ75: 2 | AR75: 1 | AS75: 2 | AT75: 1 | AU75: 2 | AV75: 1 | AW75: 2 | AX75: 1 | AY75: 1 | AZ75: 2 | BA75: 4 | BB75: 5 | BC75: 2 | BD75: 5 | BE75: 4 | BF75: 1 | BG75: 4 | BH75: 4 | BI75: 5 | BJ75: 4 | BK75: 1 | BL75: 4 | BM75: 2 | BN75: 4 | BO75: 5 | BP75: 5
A76: 45342.621 | B76: fitrianandiya35@gmail.com | C76: Ya, Saya bersedia | D76: Perempuan | E76: Jawa Timur | F76: Mahasiswa/i | G76: 22 | H76: Rp1.000.000 - Rp3.000.000 | I76: Uang saku | J76: 3 - 5 tahun | K76: < Rp200.000 | M76: 4 | N76: 5 | O76: 5 | P76: 4 | Q76: 5 | R76: 5 | S76: 5 | T76: 4 | U76: 5 | V76: 5 | W76: 4 | X76: 5 | Y76: 5 | Z76: 5 | AA76: 4 | AB76: 6 | AC76: 6 | AD76: 2 | AE76: 6 | AF76: 7 | AG76: 7 | AH76: 6 | AI76: 6 | AJ76: 1 | AK76: 2 | AL76: 2 | AM76: 2 | AN76: 2 | AO76: 6 | AP76: 5 | AQ76: 1 | AR76: 2 | AS76: 2 | AT76: 2 | AU76: 3 | AV76: 2 | AW76: 1 | AX76: 2 | AY76: 1 | AZ76: 2 | BA76: 4 | BB76: 5 | BC76: 1 | BD76: 5 | BE76: 5 | BF76: 2 | BG76: 5 | BH76: 4 | BI76: 4 | BJ76: 4 | BK76: 2 | BL76: 5 | BM76: 2 | BN76: 4 | BO76: 4 | BP76: 5
A77: 45342.628 | B77: k12nantiandriani@gmail.com | C77: Ya, Saya bersedia | D77: Perempuan | E77: Sulawesi selatan | F77: Mahasiswa/i | G77: 20 | H77: Rp3.000.000 - Rp5.000.000 | I77: Uang saku | J77: 5 - 7 tahun | K77: Rp500.000 - Rp1.000.000 | L77: 081295222944 | M77: 4 | N77: 5 | O77: 4 | P77: 5 | Q77: 5 | R77: 4 | S77: 5 | T77: 4 | U77: 4 | V77: 5 | W77: 5 | X77: 4 | Y77: 4 | Z77: 5 | AA77: 4 | AB77: 2 | AC77: 1 | AD77: 5 | AE77: 3 | AF77: 2 | AG77: 6 | AH77: 3 | AI77: 1 | AJ77: 7 | AK77: 6 | AL77: 6 | AM77: 6 | AN77: 3 | AO77: 6 | AP77: 5 | AQ77: 3 | AR77: 6 | AS77: 5 | AT77: 7 | AU77: 6 | AV77: 5 | AW77: 2 | AX77: 5 | AY77: 4 | AZ77: 4 | BA77: 2 | BB77: 4 | BC77: 5 | BD77: 2 | BE77: 2 | BF77: 2 | BG77: 4 | BH77: 3 | BI77: 4 | BJ77: 5 | BK77: 4 | BL77: 5 | BM77: 4 | BN77: 2 | BO77: 3 | BP77: 4
A78: 45342.643 | B78: giyatriz18@gmail.com | C78: Ya, Saya bersedia | D78: Perempuan | E78: Jakarta | F78: Siswa/i | G78: 16 | H78: Rp1.000.000 - Rp3.000.000 | I78: Uang saku | J78: 3 - 5 tahun | K78: Rp200.000 - Rp500.000 | L78: 081212572087 | M78: 5 | N78: 5 | O78: 4 | P78: 5 | Q78: 5 | R78: 5 | S78: 4 | T78: 5 | U78: 5 | V78: 4 | W78: 5 | X78: 4 | Y78: 5 | Z78: 5 | AA78: 4 | AB78: 6 | AC78: 5 | AD78: 1 | AE78: 6 | AF78: 3 | AG78: 2 | AH78: 6 | AI78: 6 | AJ78: 2 | AK78: 2 | AL78: 1 | AM78: 1 | AN78: 5 | AO78: 5 | AP78: 6 | AQ78: 3 | AR78: 3 | AS78: 2 | AT78: 2 | AU78: 2 | AV78: 1 | AW78: 1 | AX78: 2 | AY78: 1 | AZ78: 1 | BA78: 4 | BB78: 4 | BC78: 1 | BD78: 4 | BE78: 4 | BF78: 2 | BG78: 5 | BH78: 5 | BI78: 4 | BJ78: 4 | BK78: 1 | BL78: 4 | BM78: 1 | BN78: 4 | BO78: 4 | BP78: 4
A79: 45342.646 | B79: alisyasukmadewiqotrunada@gmail.com | C79: Ya, Saya bersedia | D79: Perempuan | E79: Jawa Barat | F79: Siswa/i | G79: 17 | H79: < Rp1.000.000 | I79: Uang saku, Jualan merch kpop | J79: 5 - 7 tahun | K79: Rp1.000.000 - Rp3.000.000 | L79: 085716258954 | M79: 4 | N79: 4 | O79: 4 | P79: 4 | Q79: 3 | R79: 4 | S79: 4 | T79: 4 | U79: 4 | V79: 4 | W79: 4 | X79: 2 | Y79: 4 | Z79: 3 | AA79: 4 | AB79: 6 | AC79: 5 | AD79: 2 | AE79: 5 | AF79: 3 | AG79: 5 | AH79: 7 | AI79: 7 | AJ79: 2 | AK79: 1 | AL79: 2 | AM79: 5 | AN79: 5 | AO79: 5 | AP79: 6 | AQ79: 5 | AR79: 4 | AS79: 2 | AT79: 2 | AU79: 4 | AV79: 2 | AW79: 5 | AX79: 2 | AY79: 4 | AZ79: 2 | BA79: 4 | BB79: 4 | BC79: 4 | BD79: 4 | BE79: 4 | BF79: 4 | BG79: 4 | BH79: 3 | BI79: 5 | BJ79: 4 | BK79: 4 | BL79: 5 | BM79: 5 | BN79: 3 | BO79: 2 | BP79: 1
A80: 45342.654 | B80: alfianayunus72@gmail.com | C80: Ya, Saya bersedia | D80: Perempuan | E80: DKI Jakarta | F80: Mahasiswa/i | G80: 20 | H80: Rp3.000.000 - Rp5.000.000 | I80: Uang saku, Gaji | J80: 3 - 5 tahun | K80: Rp200.000 - Rp500.000 | L80: 083187094546 | M80: 4 | N80: 4 | O80: 5 | P80: 5 | Q80: 3 | R80: 5 | S80: 5 | T80: 4 | U80: 5 | V80: 5 | W80: 4 | X80: 5 | Y80: 5 | Z80: 5 | AA80: 4 | AB80: 6 | AC80: 5 | AD80: 2 | AE80: 6 | AF80: 5 | AG80: 2 | AH80: 7 | AI80: 7 | AJ80: 3 | AK80: 2 | AL80: 1 | AM80: 2 | AN80: 1 | AO80: 6 | AP80: 7 | AQ80: 6 | AR80: 2 | AS80: 2 | AT80: 2 | AU80: 2 | AV80: 1 | AW80: 1 | AX80: 2 | AY80: 1 | AZ80: 2 | BA80: 4 | BB80: 5 | BC80: 1 | BD80: 4 | BE80: 5 | BF80: 1 | BG80: 5 | BH80: 5 | BI80: 4 | BJ80: 4 | BK80: 1 | BL80: 5 | BM80: 1 | BN80: 4 | BO80: 5 | BP80: 4
A81: 45342.656 | B81: anandasyarief59@gmail.com | C81: Ya, Saya bersedia | D81: Perempuan | E81: Jawa Barat | F81: Mahasiswa/i | G81: 21 | H81: Rp1.000.000 - Rp3.000.000 | I81: Uang saku | J81: 5 - 7 tahun | K81: < Rp200.000 | M81: 5 | N81: 5 | O81: 4 | P81: 5 | Q81: 5 | R81: 5 | S81: 4 | T81: 5 | U81: 5 | V81: 5 | W81: 4 | X81: 5 | Y81: 5 | Z81: 4 | AA81: 5 | AB81: 2 | AC81: 2 | AD81: 7 | AE81: 1 | AF81: 2 | AG81: 2 | AH81: 2 | AI81: 2 | AJ81: 6 | AK81: 6 | AL81: 7 | AM81: 6 | AN81: 2 | AO81: 3 | AP81: 7 | AQ81: 6 | AR81: 6 | AS81: 7 | AT81: 7 | AU81: 6 | AV81: 4 | AW81: 4 | AX81: 4 | AY81: 5 | AZ81: 4 | BA81: 1 | BB81: 1 | BC81: 4 | BD81: 2 | BE81: 3 | BF81: 4 | BG81: 5 | BH81: 3 | BI81: 4 | BJ81: 3 | BK81: 4 | BL81: 3 | BM81: 4 | BN81: 4 | BO81: 3 | BP81: 4
A82: 45342.734 | B82: alyshaaf14@gmail.com | C82: Ya, Saya bersedia | D82: Perempuan | E82: Jawa tengah | F82: Mahasiswa/i | G82: 19 | H82: Rp1.000.000 - Rp3.000.000 | I82: Uang saku | J82: > 7 tahun | K82: > Rp5.000.000 | L82: 082360152869 | M82: 5 | N82: 4 | O82: 5 | P82: 4 | Q82: 1 | R82: 5 | S82: 4 | T82: 4 | U82: 3 | V82: 3 | W82: 3 | X82: 3 | Y82: 3 | Z82: 3 | AA82: 4 | AB82: 7 | AC82: 7 | AD82: 3 | AE82: 6 | AF82: 1 | AG82: 4 | AH82: 6 | AI82: 4 | AJ82: 3 | AK82: 6 | AL82: 7 | AM82: 6 | AN82: 6 | AO82: 4 | AP82: 7 | AQ82: 3 | AR82: 7 | AS82: 4 | AT82: 4 | AU82: 7 | AV82: 3 | AW82: 2 | AX82: 3 | AY82: 2 | AZ82: 2 | BA82: 3 | BB82: 4 | BC82: 4 | BD82: 4 | BE82: 4 | BF82: 2 | BG82: 3 | BH82: 4 | BI82: 4 | BJ82: 4 | BK82: 3 | BL82: 4 | BM82: 3 | BN82: 3 | BO82: 4 | BP82: 4
A83: 45343.381 | B83: nikieaprianti@gmail.com | C83: Ya, Saya bersedia | D83: Perempuan | E83: Jawa Barat | F83: Mahasiswa/i | G83: 21 | H83: < Rp1.000.000 | I83: Uang saku | J83: 3 - 5 tahun | K83: > Rp5.000.000 | L83: 081213300417 | M83: 4 | N83: 4 | O83: 4 | P83: 3 | Q83: 3 | R83: 4 | S83: 3 | T83: 3 | U83: 3 | V83: 3 | W83: 4 | X83: 4 | Y83: 3 | Z83: 3 | AA83: 4 | AB83: 6 | AC83: 7 | AD83: 4 | AE83: 6 | AF83: 7 | AG83: 4 | AH83: 4 | AI83: 6 | AJ83: 4 | AK83: 3 | AL83: 3 | AM83: 2 | AN83: 4 | AO83: 5 | AP83: 6 | AQ83: 6 | AR83: 5 | AS83: 3 | AT83: 4 | AU83: 4 | AV83: 2 | AW83: 2 | AX83: 2 | AY83: 2 | AZ83: 2 | BA83: 3 | BB83: 3 | BC83: 1 | BD83: 4 | BE83: 4 | BF83: 2 | BG83: 3 | BH83: 3 | BI83: 3 | BJ83: 4 | BK83: 2 | BL83: 3 | BM83: 2 | BN83: 4 | BO83: 3 | BP83: 3
A84: 45343.396 | B84: salwa.aulia7879@gmail.com | C84: Ya, Saya bersedia | D84: Perempuan | E84: Jakarta Timur | F84: Siswa/i | G84: 16 | H84: < Rp1.000.000 | I84: Uang saku | J84: 3 - 5 tahun | K84: Rp200.000 - Rp500.000 | M84: 4 | N84: 3 | O84: 4 | P84: 4 | Q84: 3 | R84: 3 | S84: 2 | T84: 3 | U84: 3 | V84: 4 | W84: 3 | X84: 2 | Y84: 3 | Z84: 3 | AA84: 3 | AB84: 3 | AC84: 5 | AD84: 6 | AE84: 4 | AF84: 2 | AG84: 2 | AH84: 7 | AI84: 6 | AJ84: 4 | AK84: 3 | AL84: 3 | AM84: 5 | AN84: 5 | AO84: 4 | AP84: 6 | AQ84: 4 | AR84: 3 | AS84: 4 | AT84: 4 | AU84: 5 | AV84: 3 | AW84: 3 | AX84: 4 | AY84: 3 | AZ84: 3 | BA84: 2 | BB84: 4 | BC84: 3 | BD84: 3 | BE84: 4 | BF84: 4 | BG84: 3 | BH84: 4 | BI84: 5 | BJ84: 3 | BK84: 4 | BL84: 3 | BM84: 3 | BN84: 3 | BO84: 3 | BP84: 5
A85: 45343.667 | B85: nadhiifahramadina27@gmail.com | C85: Ya, Saya bersedia | D85: Perempuan | E85: Jakarta | F85: Siswa/i | G85: 17 | H85: < Rp1.000.000 | I85: Uang saku, Jualan online | J85: 5 - 7 tahun | K85: Rp1.000.000 - Rp3.000.000 | L85: 081217187824 | M85: 4 | N85: 2 | O85: 3 | P85: 4 | Q85: 2 | R85: 4 | S85: 4 | T85: 4 | U85: 5 | V85: 4 | W85: 4 | X85: 2 | Y85: 4 | Z85: 3 | AA85: 3 | AB85: 4 | AC85: 3 | AD85: 3 | AE85: 5 | AF85: 3 | AG85: 4 | AH85: 1 | AI85: 3 | AJ85: 2 | AK85: 4 | AL85: 1 | AM85: 2 | AN85: 3 | AO85: 3 | AP85: 7 | AQ85: 2 | AR85: 3 | AS85: 3 | AT85: 4 | AU85: 4 | AV85: 1 | AW85: 1 | AX85: 1 | AY85: 1 | AZ85: 2 | BA85: 2 | BB85: 3 | BC85: 2 | BD85: 5 | BE85: 5 | BF85: 1 | BG85: 4 | BH85: 5 | BI85: 3 | BJ85: 5 | BK85: 2 | BL85: 4 | BM85: 2 | BN85: 4 | BO85: 4 | BP85: 3
A86: 45343.667 | B86: kimnamu914@gmail.com | C86: Ya, Saya bersedia | D86: Perempuan | E86: Riau | F86: Mahasiswa/i | G86: 22 | H86: < Rp1.000.000 | I86: Uang saku | J86: 1 - 3 tahun | K86: > Rp5.000.000 | L86: 081374825390 | M86: 5 | N86: 5 | O86: 5 | P86: 5 | Q86: 5 | R86: 5 | S86: 5 | T86: 5 | U86: 5 | V86: 5 | W86: 5 | X86: 5 | Y86: 5 | Z86: 5 | AA86: 5 | AB86: 7 | AC86: 3 | AD86: 7 | AE86: 6 | AF86: 2 | AG86: 3 | AH86: 4 | AI86: 3 | AJ86: 2 | AK86: 6 | AL86: 7 | AM86: 7 | AN86: 4 | AO86: 2 | AP86: 7 | AQ86: 7 | AR86: 7 | AS86: 5 | AT86: 6 | AU86: 7 | AV86: 3 | AW86: 1 | AX86: 4 | AY86: 5 | AZ86: 3 | BA86: 5 | BB86: 3 | BC86: 5 | BD86: 2 | BE86: 2 | BF86: 5 | BG86: 4 | BH86: 3 | BI86: 4 | BJ86: 4 | BK86: 5 | BL86: 3 | BM86: 3 | BN86: 4 | BO86: 4 | BP86: 3
A87: 45343.686 | B87: shafiraindahca@gmail.com | C87: Ya, Saya bersedia | D87: Perempuan | E87: kalimantan timur | F87: Karyawan Swasta | G87: 24 | H87: Rp5.000.000 - Rp8.000.000 | I87: Gaji | J87: 5 - 7 tahun | K87: > Rp5.000.000 | L87: 083895870944 | M87: 5 | N87: 5 | O87: 5 | P87: 4 | Q87: 3 | R87: 5 | S87: 4 | T87: 4 | U87: 5 | V87: 5 | W87: 4 | X87: 4 | Y87: 5 | Z87: 5 | AA87: 5 | AB87: 7 | AC87: 4 | AD87: 5 | AE87: 6 | AF87: 4 | AG87: 3 | AH87: 7 | AI87: 5 | AJ87: 4 | AK87: 4 | AL87: 4 | AM87: 3 | AN87: 2 | AO87: 4 | AP87: 7 | AQ87: 4 | AR87: 3 | AS87: 2 | AT87: 1 | AU87: 5 | AV87: 3 | AW87: 4 | AX87: 3 | AY87: 2 | AZ87: 1 | BA87: 4 | BB87: 4 | BC87: 3 | BD87: 4 | BE87: 5 | BF87: 2 | BG87: 4 | BH87: 5 | BI87: 5 | BJ87: 4 | BK87: 3 | BL87: 4 | BM87: 2 | BN87: 4 | BO87: 4 | BP87: 4
A88: 45343.709 | B88: qaulansadiidan@gmail.com | C88: Ya, Saya bersedia | D88: Perempuan | E88: Jawa Barat | F88: Mahasiswa/i | G88: 22 | H88: < Rp1.000.000 | I88: Uang saku | J88: > 7 tahun | K88: < Rp200.000 | L88: 081224541347 | M88: 5 | N88: 5 | O88: 5 | P88: 4 | Q88: 4 | R88: 2 | S88: 2 | T88: 2 | U88: 4 | V88: 4 | W88: 3 | X88: 3 | Y88: 4 | Z88: 3 | AA88: 4 | AB88: 6 | AC88: 6 | AD88: 2 | AE88: 6 | AF88: 5 | AG88: 6 | AH88: 6 | AI88: 6 | AJ88: 5 | AK88: 2 | AL88: 3 | AM88: 2 | AN88: 4 | AO88: 5 | AP88: 5 | AQ88: 5 | AR88: 3 | AS88: 2 | AT88: 2 | AU88: 3 | AV88: 2 | AW88: 2 | AX88: 2 | AY88: 4 | AZ88: 2 | BA88: 4 | BB88: 4 | BC88: 2 | BD88: 3 | BE88: 3 | BF88: 4 | BG88: 2 | BH88: 3 | BI88: 2 | BJ88: 4 | BK88: 4 | BL88: 4 | BM88: 4 | BN88: 2 | BO88: 4 | BP88: 2
A89: 45343.894 | B89: strawbewwy004@gmail.com | C89: Ya, Saya bersedia | D89: Perempuan | E89: Tangsel | F89: Mahasiswa/i | G89: 23 | H89: < Rp1.000.000 | I89: Uang saku | J89: 5 - 7 tahun | K89: Rp200.000 - Rp500.000 | L89: 00000 | M89: 5 | N89: 5 | O89: 5 | P89: 5 | Q89: 5 | R89: 5 | S89: 5 | T89: 5 | U89: 5 | V89: 5 | W89: 5 | X89: 5 | Y89: 5 | Z89: 5 | AA89: 5 | AB89: 4 | AC89: 7 | AD89: 5 | AE89: 5 | AF89: 4 | AG89: 4 | AH89: 7 | AI89: 4 | AJ89: 4 | AK89: 4 | AL89: 4 | AM89: 5 | AN89: 5 | AO89: 4 | AP89: 7 | AQ89: 4 | AR89: 5 | AS89: 3 | AT89: 3 | AU89: 5 | AV89: 3 | AW89: 3 | AX89: 3 | AY89: 3 | AZ89: 3 | BA89: 4 | BB89: 3 | BC89: 3 | BD89: 4 | BE89: 4 | BF89: 4 | BG89: 3 | BH89: 2 | BI89: 3 | BJ89: 3 | BK89: 4 | BL89: 3 | BM89: 4 | BN89: 3 | BO89: 3 | BP89: 2
A90: 45344.371 | B90: virizhang@gmail.com | C90: Ya, Saya bersedia | D90: Perempuan | E90: Jakarta | F90: Mahasiswa/i | G90: 21 | H90: Rp3.000.000 - Rp5.000.000 | I90: Uang saku | J90: > 7 tahun | K90: > Rp5.000.000 | L90: 089689108595 | M90: 5 | N90: 4 | O90: 5 | P90: 4 | Q90: 3 | R90: 4 | S90: 4 | T90: 4 | U90: 4 | V90: 4 | W90: 4 | X90: 4 | Y90: 4 | Z90: 3 | AA90: 4 | AB90: 7 | AC90: 5 | AD90: 5 | AE90: 7 | AF90: 5 | AG90: 5 | AH90: 7 | AI90: 7 | AJ90: 6 | AK90: 2 | AL90: 3 | AM90: 3 | AN90: 3 | AO90: 5 | AP90: 5 | AQ90: 5 | AR90: 6 | AS90: 2 | AT90: 2 | AU90: 6 | AV90: 2 | AW90: 3 | AX90: 1 | AY90: 1 | AZ90: 1 | BA90: 4 | BB90: 4 | BC90: 2 | BD90: 5 | BE90: 5 | BF90: 1 | BG90: 5 | BH90: 4 | BI90: 5 | BJ90: 5 | BK90: 2 | BL90: 4 | BM90: 1 | BN90: 5 | BO90: 4 | BP90: 4
A91: 45344.822 | B91: mochinoyyax@gmail.com | C91: Ya, Saya bersedia | D91: Perempuan | E91: Nanggroe Aceh Darussalam | F91: Mahasiswa/i | G91: 20 | H91: Rp1.000.000 - Rp3.000.000 | I91: Uang saku, Gaji | J91: 5 - 7 tahun | K91: > Rp5.000.000 | L91: 085157752011 | M91: 5 | N91: 5 | O91: 5 | P91: 5 | Q91: 3 | R91: 3 | S91: 3 | T91: 4 | U91: 3 | V91: 3 | W91: 4 | X91: 3 | Y91: 4 | Z91: 3 | AA91: 5 | AB91: 3 | AC91: 1 | AD91: 7 | AE91: 4 | AF91: 2 | AG91: 1 | AH91: 6 | AI91: 2 | AJ91: 3 | AK91: 6 | AL91: 7 | AM91: 7 | AN91: 7 | AO91: 3 | AP91: 7 | AQ91: 7 | AR91: 7 | AS91: 7 | AT91: 7 | AU91: 7 | AV91: 3 | AW91: 2 | AX91: 5 | AY91: 3 | AZ91: 2 | BA91: 5 | BB91: 5 | BC91: 3 | BD91: 4 | BE91: 3 | BF91: 1 | BG91: 5 | BH91: 3 | BI91: 4 | BJ91: 5 | BK91: 5 | BL91: 5 | BM91: 5 | BN91: 3 | BO91: 4 | BP91: 5
A92: 45345.42 | B92: stephanie27ing@gmail.com | C92: Ya, Saya bersedia | D92: Perempuan | E92: Jawa timur | F92: Mahasiswa/i | G92: 21 | H92: Rp1.000.000 - Rp3.000.000 | I92: Uang saku, Gaji | J92: 1 - 3 tahun | K92: Rp200.000 - Rp500.000 | L92: 085130347430 | M92: 5 | N92: 5 | O92: 5 | P92: 5 | Q92: 4 | R92: 4 | S92: 4 | T92: 4 | U92: 4 | V92: 4 | W92: 4 | X92: 4 | Y92: 4 | Z92: 4 | AA92: 4 | AB92: 4 | AC92: 2 | AD92: 6 | AE92: 3 | AF92: 2 | AG92: 2 | AH92: 6 | AI92: 2 | AJ92: 4 | AK92: 6 | AL92: 6 | AM92: 6 | AN92: 6 | AO92: 2 | AP92: 5 | AQ92: 5 | AR92: 5 | AS92: 5 | AT92: 5 | AU92: 5 | AV92: 3 | AW92: 3 | AX92: 4 | AY92: 3 | AZ92: 3 | BA92: 3 | BB92: 3 | BC92: 4 | BD92: 3 | BE92: 3 | BF92: 3 | BG92: 3 | BH92: 3 | BI92: 3 | BJ92: 3 | BK92: 3 | BL92: 4 | BM92: 3 | BN92: 3 | BO92: 3 | BP92: 3
A93: 45345.499 | B93: kenaruna123@gmail.com | C93: Ya, Saya bersedia | D93: Laki-laki | E93: Jawa Timur | F93: Karyawan Swasta | G93: 25 | H93: Rp5.000.000 - Rp8.000.000 | I93: Gaji, Fee freelance | J93: > 7 tahun | K93: Rp1.000.000 - Rp3.000.000 | L93: 085335998804 | M93: 4 | N93: 5 | O93: 5 | P93: 4 | Q93: 4 | R93: 3 | S93: 5 | T93: 5 | U93: 4 | V93: 5 | W93: 3 | X93: 2 | Y93: 3 | Z93: 2 | AA93: 2 | AB93: 6 | AC93: 4 | AD93: 3 | AE93: 5 | AF93: 4 | AG93: 3 | AH93: 7 | AI93: 5 | AJ93: 2 | AK93: 3 | AL93: 2 | AM93: 4 | AN93: 4 | AO93: 5 | AP93: 5 | AQ93: 4 | AR93: 5 | AS93: 2 | AT93: 4 | AU93: 4 | AV93: 3 | AW93: 3 | AX93: 2 | AY93: 2 | AZ93: 2 | BA93: 3 | BB93: 4 | BC93: 4 | BD93: 5 | BE93: 4 | BF93: 2 | BG93: 5 | BH93: 3 | BI93: 3 | BJ93: 4 | BK93: 4 | BL93: 4 | BM93: 2 | BN93: 3 | BO93: 4 | BP93: 4
A94: 45345.5 | B94: ardinaamhrn@gmail.com | C94: Ya, Saya bersedia | D94: Perempuan | E94: Jawa Tengah | F94: Siswa/i | G94: 17 | H94: < Rp1.000.000 | I94: Uang saku | J94: 5 - 7 tahun | K94: < Rp200.000 | L94: 082328760922 | M94: 5 | N94: 5 | O94: 3 | P94: 3 | Q94: 1 | R94: 3 | S94: 2 | T94: 3 | U94: 5 | V94: 5 | W94: 5 | X94: 5 | Y94: 5 | Z94: 3 | AA94: 5 | AB94: 7 | AC94: 5 | AD94: 6 | AE94: 3 | AF94: 2 | AG94: 2 | AH94: 7 | AI94: 5 | AJ94: 4 | AK94: 7 | AL94: 7 | AM94: 7 | AN94: 7 | AO94: 4 | AP94: 7 | AQ94: 4 | AR94: 5 | AS94: 4 | AT94: 7 | AU94: 7 | AV94: 5 | AW94: 3 | AX94: 5 | AY94: 5 | AZ94: 5 | BA94: 2 | BB94: 5 | BC94: 3 | BD94: 4 | BE94: 2 | BF94: 4 | BG94: 4 | BH94: 2 | BI94: 3 | BJ94: 4 | BK94: 5 | BL94: 3 | BM94: 5 | BN94: 2 | BO94: 3 | BP94: 1
A95: 45345.531 | B95: kimchiirell07@gmail.com | C95: Ya, Saya bersedia | D95: Perempuan | E95: Jawa barat | F95: Belum bekerja | G95: 24 | H95: < Rp1.000.000 | I95: Uang saku | J95: 3 - 5 tahun | K95: Rp200.000 - Rp500.000 | L95: 087787597433 | M95: 4 | N95: 4 | O95: 4 | P95: 4 | Q95: 4 | R95: 4 | S95: 3 | T95: 4 | U95: 4 | V95: 4 | W95: 4 | X95: 4 | Y95: 4 | Z95: 4 | AA95: 4 | AB95: 5 | AC95: 5 | AD95: 6 | AE95: 6 | AF95: 6 | AG95: 6 | AH95: 6 | AI95: 6 | AJ95: 6 | AK95: 6 | AL95: 6 | AM95: 6 | AN95: 6 | AO95: 6 | AP95: 5 | AQ95: 5 | AR95: 5 | AS95: 6 | AT95: 6 | AU95: 6 | AV95: 4 | AW95: 4 | AX95: 4 | AY95: 4 | AZ95: 4 | BA95: 4 | BB95: 4 | BC95: 4 | BD95: 4 | BE95: 4 | BF95: 4 | BG95: 4 | BH95: 4 | BI95: 4 | BJ95: 4 | BK95: 4 | BL95: 4 | BM95: 4 | BN95: 4 | BO95: 4 | BP95: 4
A96: 45345.788 | B96: griseldaavrilia@gmail.com | C96: Ya, Saya bersedia | D96: Perempuan | E96: Jawa Timur | F96: Mahasiswa/i | G96: 19 | H96: Rp1.000.000 - Rp3.000.000 | I96: Uang saku | J96: > 7 tahun | K96: > Rp5.000.000 | M96: 4 | N96: 4 | O96: 4 | P96: 4 | Q96: 3 | R96: 4 | S96: 4 | T96: 4 | U96: 4 | V96: 4 | W96: 4 | X96: 4 | Y96: 4 | Z96: 4 | AA96: 4 | AB96: 7 | AC96: 4 | AD96: 2 | AE96: 6 | AF96: 3 | AG96: 6 | AH96: 6 | AI96: 6 | AJ96: 5 | AK96: 1 | AL96: 4 | AM96: 2 | AN96: 5 | AO96: 6 | AP96: 6 | AQ96: 3 | AR96: 2 | AS96: 4 | AT96: 5 | AU96: 4 | AV96: 1 | AW96: 2 | AX96: 2 | AY96: 2 | AZ96: 2 | BA96: 3 | BB96: 4 | BC96: 2 | BD96: 5 | BE96: 5 | BF96: 2 | BG96: 5 | BH96: 5 | BI96: 5 | BJ96: 5 | BK96: 2 | BL96: 5 | BM96: 2 | BN96: 4 | BO96: 4 | BP96: 4
A97: 45345.942 | B97: fransiscacarolina19@gmail.com | C97: Ya, Saya bersedia | D97: Perempuan | E97: Jawa Barat | F97: Mahasiswa/i | G97: 21 | H97: Rp1.000.000 - Rp3.000.000 | I97: Uang saku, Upah | J97: 3 - 5 tahun | K97: Rp200.000 - Rp500.000 | M97: 5 | N97: 4 | O97: 5 | P97: 4 | Q97: 2 | R97: 4 | S97: 4 | T97: 3 | U97: 4 | V97: 4 | W97: 4 | X97: 4 | Y97: 5 | Z97: 4 | AA97: 4 | AB97: 5 | AC97: 3 | AD97: 5 | AE97: 3 | AF97: 4 | AG97: 5 | AH97: 6 | AI97: 4 | AJ97: 2 | AK97: 5 | AL97: 4 | AM97: 5 | AN97: 3 | AO97: 5 | AP97: 5 | AQ97: 4 | AR97: 3 | AS97: 3 | AT97: 4 | AU97: 5 | AV97: 4 | AW97: 3 | AX97: 4 | AY97: 4 | AZ97: 2 | BA97: 4 | BB97: 3 | BC97: 4 | BD97: 3 | BE97: 5 | BF97: 3 | BG97: 3 | BH97: 3 | BI97: 3 | BJ97: 4 | BK97: 4 | BL97: 4 | BM97: 4 | BN97: 3 | BO97: 4 | BP97: 3
A98: 45347.427 | B98: rauliyafaizah@gmail.com | C98: Ya, Saya bersedia | D98: Perempuan | E98: Jawa Timur | F98: Mahasiswa/i | G98: 22 | H98: < Rp1.000.000 | I98: Uang saku | J98: > 7 tahun | K98: < Rp200.000 | L98: 082228009984 | M98: 4 | N98: 5 | O98: 5 | P98: 5 | Q98: 4 | R98: 5 | S98: 5 | T98: 5 | U98: 5 | V98: 5 | W98: 5 | X98: 5 | Y98: 5 | Z98: 5 | AA98: 5 | AB98: 7 | AC98: 7 | AD98: 2 | AE98: 7 | AF98: 6 | AG98: 7 | AH98: 7 | AI98: 7 | AJ98: 4 | AK98: 2 | AL98: 6 | AM98: 3 | AN98: 5 | AO98: 6 | AP98: 7 | AQ98: 4 | AR98: 5 | AS98: 3 | AT98: 2 | AU98: 2 | AV98: 3 | AW98: 4 | AX98: 3 | AY98: 4 | AZ98: 3 | BA98: 4 | BB98: 3 | BC98: 4 | BD98: 3 | BE98: 4 | BF98: 4 | BG98: 3 | BH98: 2 | BI98: 4 | BJ98: 4 | BK98: 5 | BL98: 4 | BM98: 4 | BN98: 4 | BO98: 4 | BP98: 4
A99: 45347.531 | B99: elsajenita25@gmail.com | C99: Ya, Saya bersedia | D99: Perempuan | E99: Jawa Timur | F99: Karyawan Swasta | G99: 23 | H99: Rp1.000.000 - Rp3.000.000 | I99: Gaji | J99: > 7 tahun | K99: > Rp5.000.000 | M99: 4 | N99: 4 | O99: 5 | P99: 5 | Q99: 3 | R99: 2 | S99: 3 | T99: 3 | U99: 4 | V99: 3 | W99: 4 | X99: 2 | Y99: 3 | Z99: 2 | AA99: 4 | AB99: 2 | AC99: 2 | AD99: 5 | AE99: 4 | AF99: 5 | AG99: 3 | AH99: 6 | AI99: 4 | AJ99: 5 | AK99: 5 | AL99: 6 | AM99: 6 | AN99: 5 | AO99: 4 | AP99: 7 | AQ99: 5 | AR99: 5 | AS99: 4 | AT99: 4 | AU99: 5 | AV99: 2 | AW99: 3 | AX99: 3 | AY99: 2 | AZ99: 2 | BA99: 4 | BB99: 4 | BC99: 3 | BD99: 2 | BE99: 3 | BF99: 2 | BG99: 4 | BH99: 4 | BI99: 4 | BJ99: 5 | BK99: 3 | BL99: 3 | BM99: 2 | BN99: 3 | BO99: 4 | BP99: 3
A100: 45347.534 | B100: intancoups@gmail.com | C100: Ya, Saya bersedia | D100: Perempuan | E100: Jawa Tengah | F100: Mahasiswa/i | G100: 23 | H100: Rp1.000.000 - Rp3.000.000 | I100: Uang saku | J100: 5 - 7 tahun | K100: Rp200.000 - Rp500.000 | L100: 082135343709 | M100: 5 | N100: 5 | O100: 5 | P100: 5 | Q100: 4 | R100: 5 | S100: 5 | T100: 4 | U100: 5 | V100: 5 | W100: 5 | X100: 4 | Y100: 4 | Z100: 4 | AA100: 4 | AB100: 5 | AC100: 5 | AD100: 5 | AE100: 4 | AF100: 6 | AG100: 4 | AH100: 7 | AI100: 7 | AJ100: 2 | AK100: 2 | AL100: 2 | AM100: 2 | AN100: 2 | AO100: 6 | AP100: 6 | AQ100: 4 | AR100: 3 | AS100: 4 | AT100: 2 | AU100: 3 | AV100: 2 | AW100: 2 | AX100: 2 | AY100: 2 | AZ100: 2 | BA100: 4 | BB100: 5 | BC100: 1 | BD100: 5 | BE100: 5 | BF100: 1 | BG100: 5 | BH100: 4 | BI100: 4 | BJ100: 5 | BK100: 1 | BL100: 4 | BM100: 1 | BN100: 4 | BO100: 4 | BP100: 5
...

Sheet Coding
B2: Asal provinsi | E2: Usia | H2: Pendapatan perbulan | K2: Status/Pekerjaan | N2: Lama menjadi Kpopers | Q2: Total Pengeluaran | T2: Asal Pendapatan | W2: Jenis Kelamin
B3: Aceh | C3: 1 | E3: 15 | F3: 1 | H3: < Rp1.000.000 | I3: 1 | K3: Siswa/i | L3: 1 | N3: >1 Tahun | O3: 1 | Q3: < Rp200.000 | R3: 1 | T3: Gaji | U3: 1 | W3: Perempuan | X3: 1
B4: Sumatera Utara | C4: 2 | E4: 16 | F4: 2 | H4: Rp1.000.000 - Rp3.000.000 | I4: 2 | K4: Mahasiswa/i | L4: 2 | N4: 1 - 3 tahun | O4: 2 | Q4: Rp200.000 - Rp500.000 | R4: 2 | T4: Uang saku | U4: 2 | W4: Laki-laki | X4: 2
B5: Sumatera Barat | C5: 3 | E5: 17 | F5: 3 | H5: Rp3.000.000 - Rp5.000.000 | I5: 3 | K5: Pengawai Negeri | L5: 3 | N5: 3 - 5 tahun | O5: 3 | Q5: Rp500.000 - Rp1.000.000 | R5: 3 | T5: Gaji & Uang saku | U5: 3
B6: Riau | C6: 4 | E6: 18 | F6: 4 | H6: Rp5.000.000 - Rp8.000.000 | I6: 4 | K6: Karyawan Swasta | L6: 4 | N6: 5 - 7 tahun | O6: 4 | Q6: Rp1.000.000 - Rp3.000.000 | R6: 4
B7: Kepulauan Riau | C7: 5 | E7: 19 | F7: 5 | H7: Rp8.000.000 - Rp10.000.000 | I7: 5 | K7: Wiraswasta | L7: 5 | N7: > 7 tahun | O7: 5 | Q7: Rp3.000.000 - Rp5.000.000 | R7: 5
B8: Jambi | C8: 6 | E8: 20 | F8: 6 | H8: > Rp10.000.000 | I8: 6 | K8: Freelance | L8: 6 | Q8: > Rp5.000.000 | R8: 6
B9: Sumatera Selatan | C9: 7 | E9: 21 | F9: 7 | K9: Belum bekerja | L9: 7
B10: Bengkulu | C10: 8 | E10: 22 | F10: 8
B11: Bangka Belitung | C11: 9 | E11: 23 | F11: 9
B12: Lampung | C12: 10 | E12: 24 | F12: 10
B13: Jakarta | C13: 11 | E13: 25 | F13: 11
B14: Banten | C14: 12
B15: Jawa Barat | C15: 13
B16: Jawa Tengah | C16: 14
B17: Yogyakarta | C17: 15
B18: Jawa Timur | C18: 16
B19: Bali | C19: 17
B20: Nusa Tenggara Barat | C20: 18
B21: Nusa Tenggara Timur | C21: 19
B22: Kalimantan Barat | C22: 20
B23: Kalimantan Tengah | C23: 21
B24: Kalimantan Selatan | C24: 22
B25: Kalimantan Timur | C25: 23
... B35: Papua | C35: 33
B37: Perempuan | C37: 98 | D37: =TEXT(C37/111, "0.00%") -> 88.29% | H37: 0.0631 | I37: 18
B38: Laki-laki | C38: 13 | D38: =TEXT(C38/111, "0.00%") -> 11.71% | H38: 0.1622 | I38: 25
B39: Gaji & Uang saku | C39: 21 | D39: =TEXT(C39/111, "0.00%") -> 18.92% | H39: 0.2252 | I39: 22
B40: 5 - 7 tahun | C40: 18 | D40: =TEXT(C40/111, "0.00%") -> 16.22%
B41: > 7 tahun | C41: 25 | D41: =TEXT(C41/111, "0.00%") -> 22.52%
B42: > Rp5.000.000 | C42: 12 | D42: =TEXT(C42/111, "0.00%") -> 10.81%
B43: Belum bekerja | C43: 3 | D43: =TEXT(C43/111, "0.00%") -> 2.70%
B44: 22 | C44: 22 | D44: =TEXT(C44/111, "0.00%") -> 19.82%
B45: 23 | C45: 9 | D45: =TEXT(C45/111, "0.00%") -> 8.11%
B46: 24 | C46: 7 | D46: =TEXT(C46/111, "0.00%") -> 6.31%
B47: 25 | C47: 7 | D47: =TEXT(C47/111, "0.00%") -> 6.31%
B48: Sulawesi Utara | C48: 1 | D48: =TEXT(C48/111, "0.00%") -> 0.90%
B49: Sulawesi Selatan | C49: 1 | D49: =TEXT(C49/111, "0.00%") -> 0.90%
D51: =TEXT(13/111, "0.00%") -> 11.71%

Sheet Full Item
A1: No | B1: Jenis kelamin | C1: Asal Provinsi (Contoh : Jawa Timur) | D1: Status / Pekerjaan | E1: Usia (Contoh : 21) | F1: Total Pendapatan Perbulan | G1: Asal pendapatan | H1: Lama menjadi kpopers | I1: Total pengeluaran untuk pembelian barang yang berhubungan dengan idol atau selebriti korea | J1: CEC_A_1 | K1: CEC_A_2 | L1: CEC_A_3 | M1: CEC_A_4 | N1: CEC_A_5 | O1: CEC_T_1 | P1: CEC_T_2 | Q1: CEC_T_3 | R1: CEC_T_4 | S1: CEC_T_5 | T1: CEC_E_1 | U1: CEC_E_2 | V1: CEC_E_3 | W1: CEC_E_4 | X1: CEC_E_5 | Y1: IB_C_1 | Z1: IB_C_2 | AA1: IB_C_3 | AB1: IB_C_4 | AC1: IB_C_5 | AD1: IB_C_6 | AE1: IB_C_7 | AF1: IB_C_8 | AG1: IB_C_9 | AH1: IB_C_10 | AI1: IB_A_1 | AJ1: IB_A_2 | AK1: IB_A_3 | AL1: IB_A_4 | AM1: IB_A_5 | AN1: IB_A_6 | AO1: IB_A_7 | AP1: IB_A_8 | AQ1: IB_A_9 | AR1: IB_A_10 | AS1: RD_IC_1 | AT1: RD_IC_2 | AU1: RD_IC_3 | AV1: RD_IC_4 | AW1: RD_IC_5 | AX1: RD_IC_6 | AY1: RD_IC_7 | AZ1: RD_IC_8 | BA1: RD_IC_9 | BB1: RD_IC_10 | BC1: RD_IC_11 | BD1: RD_GS_1 | BE1: RD_GS_2 | BF1: RD_GS_3 | BG1: RD_GS_4 | BH1: RD_GS_5 | BI1: RD_GS_6 | BJ1: RD_GS_7 | BK1: RD_GS_8 | BL1: RD_GS_9 | BM1: RD_GS_10 | BN1: Total CEC | BO1: Total IB | BP1: Total RD
A2: R1 | B2: 1 | C2: 11 | D2: 2 | E2: 6 | F2: 2 | G2: 2 | H2: 1 | I2: 3 | J2: 4 | K2: 4 | L2: 5 | M2: 4 | N2: 5 | O2: 5 | P2: 4 | Q2: 4 | R2: 4 | S2: 5 | T2: 4 | U2: 4 | V2: 4 | W2: 5 | X2: 4 | Y2: 6 | Z2: 6 | AA2: 6 | AB2: 5 | AC2: 6 | AD2: 6 | AE2: 6 | AF2: 6 | AG2: 5 | AH2: 6 | AI2: 6 | AJ2: 6 | AK2: 2 | AL2: 2 | AM2: 6 | AN2: 6 | AO2: 6 | AP2: 6 | AQ2: 6 | AR2: 6 | AS2: 2 | AT2: 2 | AU2: 2 | AV2: 2 | AW2: 2 | AX2: 4 | AY2: 4 | AZ2: 2 | BA2: 2 | BB2: 2 | BC2: 2 | BD2: 3 | BE2: 4 | BF2: 3 | BG2: 4 | BH2: 2 | BI2: 3 | BJ2: 2 | BK2: 4 | BL2: 3 | BM2: 4 | BN2: =sum(J2:X2) -> 65 | BO2: =sum(Y2:AR2) -> 110 | BP2: =sum(AS2:BM2) -> 58
A3: R2 | B3: 2 | C3: 13 | D3: 4 | E3: 11 | F3: 1 | G3: 3 | H3: 1 | I3: 1 | J3: 4 | K3: 5 | L3: 4 | M3: 5 | N3: 3 | O3: 5 | P3: 4 | Q3: 5 | R3: 4 | S3: 5 | T3: 4 | U3: 5 | V3: 5 | W3: 3 | X3: 5 | Y3: 1 | Z3: 1 | AA3: 3 | AB3: 1 | AC3: 1 | AD3: 1 | AE3: 1 | AF3: 1 | AG3: 4 | AH3: 1 | AI3: 3 | AJ3: 1 | AK3: 6 | AL3: 1 | AM3: 5 | AN3: 5 | AO3: 1 | AP3: 1 | AQ3: 1 | AR3: 1 | AS3: 2 | AT3: 5 | AU3: 5 | AV3: 1 | AW3: 5 | AX3: 5 | AY3: 4 | AZ3: 4 | BA3: 5 | BB3: 5 | BC3: 5 | BD3: 4 | BE3: 5 | BF3: 4 | BG3: 5 | BH3: 2 | BI3: 5 | BJ3: 5 | BK3: 3 | BL3: 5 | BM3: 5 | BN3: =sum(J3:X3) -> 66 | BO3: =sum(Y3:AR3) -> 40 | BP3: =sum(AS3:BM3) -> 89
A4: R3 | B4: 1 | C4: 12 | D4: 4 | E4: 11 | F4: 3 | G4: 1 | H4: 5 | I4: 3 | J4: 5 | K4: 5 | L4: 5 | M4: 5 | N4: 5 | O4: 5 | P4: 5 | Q4: 5 | R4: 5 | S4: 5 | T4: 5 | U4: 5 | V4: 5 | W4: 5 | X4: 5 | Y4: 1 | Z4: 1 | AA4: 7 | AB4: 1 | AC4: 1 | AD4: 1 | AE4: 1 | AF4: 1 | AG4: 7 | AH4: 7 | AI4: 7 | AJ4: 7 | AK4: 6 | AL4: 6 | AM4: 7 | AN4: 7 | AO4: 7 | AP4: 7 | AQ4: 7 | AR4: 7 | AS4: 1 | AT4: 1 | AU4: 1 | AV4: 1 | AW4: 1 | AX4: 2 | AY4: 2 | AZ4: 1 | BA4: 5 | BB4: 2 | BC4: 4 | BD4: 5 | BE4: 5 | BF4: 4 | BG4: 5 | BH4: 1 | BI4: 5 | BJ4: 1 | BK4: 5 | BL4: 5 | BM4: 4 | BN4: =sum(J4:X4) -> 75 | BO4: =sum(Y4:AR4) -> 96 | BP4: =sum(AS4:BM4) -> 61
A5: R4 | B5: 1 | C5: 14 | D5: 2 | E5: 6 | F5: 2 | G5: 2 | H5: 4 | I5: 6 | J5: 5 | K5: 4 | L5: 5 | M5: 4 | N5: 5 | O5: 4 | P5: 5 | Q5: 4 | R5: 5 | S5: 4 | T5: 5 | U5: 4 | V5: 5 | W5: 4 | X5: 5 | Y5: 5 | Z5: 6 | AA5: 1 | AB5: 6 | AC5: 5 | AD5: 7 | AE5: 6 | AF5: 7 | AG5: 3 | AH5: 1 | AI5: 2 | AJ5: 1 | AK5: 3 | AL5: 6 | AM5: 3 | AN5: 1 | AO5: 3 | AP5: 1 | AQ5: 2 | AR5: 1 | AS5: 1 | AT5: 2 | AU5: 1 | AV5: 2 | AW5: 1 | AX5: 2 | AY5: 1 | AZ5: 2 | BA5: 1 | BB5: 2 | BC5: 1 | BD5: 2 | BE5: 1 | BF5: 2 | BG5: 2 | BH5: 2 | BI5: 2 | BJ5: 2 | BK5: 2 | BL5: 2 | BM5: 1 | BN5: =sum(J5:X5) -> 68 | BO5: =sum(Y5:AR5) -> 70 | BP5: =sum(AS5:BM5) -> 34
A6: R5 | B6: 1 | C6: 15 | D6: 2 | E6: 8 | F6: 1 | G6: 2 | H6: 2 | I6: 1 | J6: 5 | K6: 4 | L6: 5 | M6: 4 | N6: 5 | O6: 4 | P6: 5 | Q6: 4 | R6: 5 | S6: 4 | T6: 5 | U6: 4 | V6: 5 | W6: 4 | X6: 5 | Y6: 1 | Z6: 2 | AA6: 7 | AB6: 3 | AC6: 2 | AD6: 1 | AE6: 2 | AF6: 1 | AG6: 5 | AH6: 6 | AI6: 7 | AJ6: 6 | AK6: 7 | AL6: 3 | AM6: 6 | AN6: 7 | AO6: 6 | AP6: 6 | AQ6: 7 | AR6: 5 | AS6: 1 | AT6: 2 | AU6: 1 | AV6: 2 | AW6: 1 | AX6: 4 | AY6: 5 | AZ6: 3 | BA6: 5 | BB6: 4 | BC6: 3 | BD6: 4 | BE6: 5 | BF6: 4 | BG6: 5 | BH6: 2 | BI6: 4 | BJ6: 1 | BK6: 4 | BL6: 5 | BM6: 4 | BN6: =sum(J6:X6) -> 68 | BO6: =sum(Y6:AR6) -> 90 | BP6: =sum(AS6:BM6) -> 69
A7: R6 | B7: 1 | C7: 11 | D7: 2 | E7: 8 | F7: 2 | G7: 2 | H7: 2 | I7: 2 | J7: 4 | K7: 5 | L7: 5 | M7: 4 | N7: 4 | O7: 5 | P7: 5 | Q7: 4 | R7: 4 | S7: 5 | T7: 5 | U7: 5 | V7: 5 | W7: 4 | X7: 5 | Y7: 2 | Z7: 1 | AA7: 6 | AB7: 2 | AC7: 2 | AD7: 2 | AE7: 1 | AF7: 3 | AG7: 7 | AH7: 6 | AI7: 5 | AJ7: 7 | AK7: 5 | AL7: 2 | AM7: 6 | AN7: 7 | AO7: 6 | AP7: 5 | AQ7: 5 | AR7: 6 | AS7: 2 | AT7: 1 | AU7: 2 | AV7: 1 | AW7: 1 | AX7: 4 | AY7: 5 | AZ7: 2 | BA7: 5 | BB7: 4 | BC7: 1 | BD7: 4 | BE7: 5 | BF7: 4 | BG7: 4 | BH7: 1 | BI7: 5 | BJ7: 2 | BK7: 5 | BL7: 5 | BM7: 4 | BN7: =sum(J7:X7) -> 69 | BO7: =sum(Y7:AR7) -> 86 | BP7: =sum(AS7:BM7) -> 67
A8: R7 | B8: 1 | C8: 12 | D8: 2 | E8: 6 | F8: 2 | G8: 2 | H8: 3 | I8: 1 | J8: 4 | K8: 5 | L8: 5 | M8: 4 | N8: 4 | O8: 5 | P8: 5 | Q8: 4 | R8: 4 | S8: 5 | T8: 4 | U8: 4 | V8: 4 | W8: 5 | X8: 5 | Y8: 3 | Z8: 3 | AA8: 3 | AB8: 3 | AC8: 3 | AD8: 3 | AE8: 2 | AF8: 3 | AG8: 3 | AH8: 4 | AI8: 5 | AJ8: 6 | AK8: 6 | AL8: 6 | AM8: 5 | AN8: 5 | AO8: 5 | AP8: 5 | AQ8: 5 | AR8: 5 | AS8: 2 | AT8: 2 | AU8: 4 | AV8: 2 | AW8: 2 | AX8: 4 | AY8: 4 | AZ8: 2 | BA8: 4 | BB8: 4 | BC8: 2 | BD8: 4 | BE8: 4 | BF8: 4 | BG8: 4 | BH8: 1 | BI8: 4 | BJ8: 1 | BK8: 5 | BL8: 2 | BM8: 2 | BN8: =sum(J8:X8) -> 67 | BO8: =sum(Y8:AR8) -> 83 | BP8: =sum(AS8:BM8) -> 63
A9: R8 | B9: 1 | C9: 16 | D9: 2 | E9: 7 | F9: 1 | G9: 2 | H9: 2 | I9: 2 | J9: 4 | K9: 5 | L9: 5 | M9: 5 | N9: 4 | O9: 3 | P9: 3 | Q9: 3 | R9: 4 | S9: 4 | T9: 4 | U9: 4 | V9: 5 | W9: 4 | X9: 5 | Y9: 2 | Z9: 3 | AA9: 4 | AB9: 3 | AC9: 3 | AD9: 2 | AE9: 1 | AF9: 3 | AG9: 6 | AH9: 6 | AI9: 5 | AJ9: 6 | AK9: 6 | AL9: 3 | AM9: 6 | AN9: 5 | AO9: 7 | AP9: 6 | AQ9: 5 | AR9: 6 | AS9: 2 | AT9: 3 | AU9: 3 | AV9: 3 | AW9: 4 | AX9: 3 | AY9: 4 | AZ9: 3 | BA9: 4 | BB9: 4 | BC9: 3 | BD9: 4 | BE9: 4 | BF9: 4 | BG9: 4 | BH9: 2 | BI9: 3 | BJ9: 2 | BK9: 3 | BL9: 4 | BM9: 4 | BN9: =sum(J9:X9) -> 62 | BO9: =sum(Y9:AR9) -> 88 | BP9: =sum(AS9:BM9) -> 70
A10: R9 | B10: 1 | C10: 10 | D10: 2 | E10: 8 | F10: 1 | G10: 2 | H10: 2 | I10: 1 | J10: 4 | K10: 4 | L10: 5 | M10: 5 | N10: 5 | O10: 4 | P10: 4 | Q10: 4 | R10: 4 | S10: 4 | T10: 4 | U10: 3 | V10: 4 | W10: 2 | X10: 3 | Y10: 1 | Z10: 2 | AA10: 4 | AB10: 2 | AC10: 2 | AD10: 4 | AE10: 1 | AF10: 1 | AG10: 7 | AH10: 2 | AI10: 2 | AJ10: 2 | AK10: 6 | AL10: 3 | AM10: 7 | AN10: 7 | AO10: 4 | AP10: 3 | AQ10: 5 | AR10: 4 | AS10: 2 | AT10: 2 | AU10: 4 | AV10: 4 | AW10: 4 | AX10: 4 | AY10: 4 | AZ10: 2 | BA10: 5 | BB10: 5 | BC10: 3 | BD10: 4 | BE10: 4 | BF10: 5 | BG10: 5 | BH10: 1 | BI10: 5 | BJ10: 2 | BK10: 4 | BL10: 3 | BM10: 5 | BN10: =sum(J10:X10) -> 59 | BO10: =sum(Y10:AR10) -> 69 | BP10: =sum(AS10:BM10) -> 77
A11: R10 | B11: 1 | C11: 16 | D11: 2 | E11: 8 | F11: 1 | G11: 2 | H11: 5 | I11: 2 | J11: 4 | K11: 4 | L11: 5 | M11: 4 | N11: 4 | O11: 4 | P11: 4 | Q11: 4 | R11: 5 | S11: 4 | T11: 4 | U11: 3 | V11: 4 | W11: 3 | X11: 4 | Y11: 2 | Z11: 6 | AA11: 6 | AB11: 5 | AC11: 3 | AD11: 6 | AE11: 1 | AF11: 2 | AG11: 7 | AH11: 6 | AI11: 7 | AJ11: 7 | AK11: 7 | AL11: 6 | AM11: 7 | AN11: 7 | AO11: 5 | AP11: 6 | AQ11: 6 | AR11: 7 | AS11: 2 | AT11: 1 | AU11: 2 | AV11: 1 | AW11: 1 | AX11: 3 | AY11: 4 | AZ11: 2 | BA11: 4 | BB11: 5 | BC11: 2 | BD11: 5 | BE11: 2 | BF11: 4 | BG11: 4 | BH11: 1 | BI11: 4 | BJ11: 2 | BK11: 4 | BL11: 4 | BM11: 2 | BN11: =sum(J11:X11) -> 60 | BO11: =sum(Y11:AR11) -> 109 | BP11: =sum(AS11:BM11) -> 59
A12: R11 | B12: 2 | C12: 16 | D12: 4 | E12: 11 | F12: 3 | G12: 1 | H12: 4 | I12: 2 | J12: 4 | K12: 2 | L12: 4 | M12: 2 | N12: 4 | O12: 2 | P12: 2 | Q12: 2 | R12: 2 | S12: 2 | T12: 2 | U12: 2 | V12: 2 | W12: 2 | X12: 2 | Y12: 2 | Z12: 2 | AA12: 2 | AB12: 2 | AC12: 6 | AD12: 2 | AE12: 2 | AF12: 2 | AG12: 2 | AH12: 2 | AI12: 6 | AJ12: 6 | AK12: 6 | AL12: 2 | AM12: 6 | AN12: 6 | AO12: 2 | AP12: 6 | AQ12: 2 | AR12: 6 | AS12: 2 | AT12: 4 | AU12: 2 | AV12: 2 | AW12: 4 | AX12: 4 | AY12: 4 | AZ12: 2 | BA12: 2 | BB12: 1 | BC12: 4 | BD12: 4 | BE12: 4 | BF12: 4 | BG12: 4 | BH12: 4 | BI12: 4 | BJ12: 2 | BK12: 4 | BL12: 4 | BM12: 2 | BN12: =sum(J12:X12) -> 36 | BO12: =sum(Y12:AR12) -> 72 | BP12: =sum(AS12:BM12) -> 67
A13: R12 | B13: 2 | C13: 16 | D13: 2 | E13: 8 | F13: 2 | G13: 2 | H13: 1 | I13: 2 | J13: 3 | K13: 4 | L13: 4 | M13: 4 | N13: 5 | O13: 4 | P13: 4 | Q13: 3 | R13: 5 | S13: 5 | T13: 4 | U13: 4 | V13: 5 | W13: 4 | X13: 3 | Y13: 3 | Z13: 4 | AA13: 4 | AB13: 3 | AC13: 4 | AD13: 3 | AE13: 4 | AF13: 3 | AG13: 5 | AH13: 4 | AI13: 7 | AJ13: 6 | AK13: 6 | AL13: 4 | AM13: 6 | AN13: 6 | AO13: 5 | AP13: 5 | AQ13: 6 | AR13: 4 | AS13: 2 | AT13: 2 | AU13: 3 | AV13: 1 | AW13: 1 | AX13: 4 | AY13: 3 | AZ13: 3 | BA13: 4 | BB13: 4 | BC13: 4 | BD13: 3 | BE13: 3 | BF13: 4 | BG13: 3 | BH13: 1 | BI13: 5 | BJ13: 3 | BK13: 3 | BL13: 3 | BM13: 3 | BN13: =sum(J13:X13) -> 61 | BO13: =sum(Y13:AR13) -> 92 | BP13: =sum(AS13:BM13) -> 62
... A112: R111 | B112: 1 | C112: 11 | D112: 7 | E112: 5 | F112: 1 | G112: 2 | H112: 2 | I112: 1 | J112: 3 | K112: 4 | L112: 4 | M112: 3 | N112: 3 | O112: 4 | P112: 5 | Q112: 4 | R112: 4 | S112: 3 | T112: 4 | U112: 3 | V112: 3 | W112: 3 | X112: 3 | Y112: 2 | Z112: 4 | AA112: 6 | AB112: 4 | AC112: 4 | AD112: 4 | AE112: 4 | AF112: 5 | AG112: 5 | AH112: 6 | AI112: 6 | AJ112: 7 | AK112: 7 | AL112: 4 | AM112: 6 | AN112: 4 | AO112: 3 | AP112: 4 | AQ112: 7 | AR112: 5 | AS112: 2 | AT112: 2 | AU112: 1 | AV112: 2 | AW112: 1 | AX112: 3 | AY112: 3 | AZ112: 2 | BA112: 3 | BB112: 3 | BC112: 2 | BD112: 3 | BE112: 3 | BF112: 3 | BG112: 3 | BH112: 3 | BI112: 3 | BJ112: 3 | BK112: 3 | BL112: 4 | BM112: 4 | BN112: =sum(J112:X112) -> 53 | BO112: =sum(Y112:AR112) -> 97 | BP112: =sum(AS112:BM112) -> 56
BC113: RD_IC_11 | BN113: =sum(J113:X113) -> 0 | BO113: =sum(Y113:AR113) -> 0 | BP113: =sum(AS113:BM113) -> 0
BC114: 2 | BN114: =sum(J114:X114) -> 0 | BO114: =sum(Y114:AR114) -> 0 | BP114: =sum(AS114:BM114) -> 2
BC115: 5 | BN115: =sum(J115:X115) -> 0 | BO115: =sum(Y115:AR115) -> 0 | BP115: =sum(AS115:BM115) -> 5
BC116: 4 | BN116: =sum(J116:X116) -> 0 | BO116: =sum(Y116:AR116) -> 0 | BP116: =sum(AS116:BM116) -> 4
BC117: 1 | BN117: =sum(J117:X117) -> 0 | BO117: =sum(Y117:AR117) -> 0 | BP117: =sum(AS117:BM117) -> 1
BC118: 3 | BN118: =sum(J118:X118) -> 0 | BO118: =sum(Y118:AR118) -> 0 | BP118: =sum(AS118:BM118) -> 3
BC119: 1 | BN119: =sum(J119:X119) -> 0 | BO119: =sum(Y119:AR119) -> 0 | BP119: =sum(AS119:BM119) -> 1
BC120: 2 | BN120: =sum(J120:X120) -> 0 | BO120: =sum(Y120:AR120) -> 0 | BP120: =sum(AS120:BM120) -> 2
BC121: 3 | BN121: =sum(J121:X121) -> 0 | BO121: =sum(Y121:AR121) -> 0 | BP121: =sum(AS121:BM121) -> 3
BC122: 3 | BN122: =sum(J122:X122) -> 0 | BO122: =sum(Y122:AR122) -> 0 | BP122: =sum(AS122:BM122) -> 3
BC123: 2 | BN123: =sum(J123:X123) -> 0 | BO123: =sum(Y123:AR123) -> 0 | BP123: =sum(AS123:BM123) -> 2
BC124: 4 | BN124: =sum(J124:X124) -> 0 | BO124: =sum(Y124:AR124) -> 0 | BP124: =sum(AS124:BM124) -> 4
BC125: 4 | BN125: =sum(J125:X125) -> 0 | BO125: =sum(Y125:AR125) -> 0 | BP125: =sum(AS125:BM125) -> 4
... BC224: 2 | BN224: =sum(J224:X224) -> 0 | BO224: =sum(Y224:AR224) -> 0 | BP224: =sum(AS224:BM224) -> 2
BC225: RD_IC_11 | BN225: =sum(J225:X225) -> 0 | BO225: =sum(Y225:AR225) -> 0 | BP225: =sum(AS225:BM225) -> 0
BC226: 2 | BN226: =sum(J226:X226) -> 0 | BO226: =sum(Y226:AR226) -> 0 | BP226: =sum(AS226:BM226) -> 2
BC227: 5 | BN227: =sum(J227:X227) -> 0 | BO227: =sum(Y227:AR227) -> 0 | BP227: =sum(AS227:BM227) -> 5
BC228: 4 | BN228: =sum(J228:X228) -> 0 | BO228: =sum(Y228:AR228) -> 0 | BP228: =sum(AS228:BM228) -> 4
BC229: 1 | BN229: =sum(J229:X229) -> 0 | BO229: =sum(Y229:AR229) -> 0 | BP229: =sum(AS229:BM229) -> 1
BC230: 3 | BN230: =sum(J230:X230) -> 0 | BO230: =sum(Y230:AR230) -> 0 | BP230: =sum(AS230:BM230) -> 3
BC231: 1 | BN231: =sum(J231:X231) -> 0 | BO231: =sum(Y231:AR231) -> 0 | BP231: =sum(AS231:BM231) -> 1
BC232: 2 | BN232: =sum(J232:X232) -> 0 | BO232: =sum(Y232:AR232) -> 0 | BP232: =sum(AS232:BM232) -> 2
BC233: 3 | BN233: =sum(J233:X233) -> 0 | BO233: =sum(Y233:AR233) -> 0 | BP233: =sum(AS233:BM233) -> 3
BC234: 3 | BN234: =sum(J234:X234) -> 0 | BO234: =sum(Y234:AR234) -> 0 | BP234: =sum(AS234:BM234) -> 3
BC235: 2 | BN235: =sum(J235:X235) -> 0 | BO235: =sum(Y235:AR235) -> 0 | BP235: =sum(AS235:BM235) -> 2
BC236: 4 | BN236: =sum(J236:X236) -> 0 | BO236: =sum(Y236:AR236) -> 0 | BP236: =sum(AS236:BM236) -> 4
BC237: 4 | BN237: =sum(J237:X237) -> 0 | BO237: =sum(Y237:AR237) -> 0 | BP237: =sum(AS237:BM237) -> 4
... BC336: 2 | BN336: =sum(J336:X336) -> 0 | BO336: =sum(Y336:AR336) -> 0 | BP336: =sum(AS336:BM336) -> 2
BC337: RD_IC_11 | BN337: =sum(J337:X337) -> 0 | BO337: =sum(Y337:AR337) -> 0 | BP337: =sum(AS337:BM337) -> 0
BC338: 2 | BN338: =sum(J338:X338) -> 0 | BO338: =sum(Y338:AR338) -> 0 | BP338: =sum(AS338:BM338) -> 2
BC339: 5 | BN339: =sum(J339:X339) -> 0 | BO339: =sum(Y339:AR339) -> 0 | BP339: =sum(AS339:BM339) -> 5
BC340: 4 | BN340: =sum(J340:X340) -> 0 | BO340: =sum(Y340:AR340) -> 0 | BP340: =sum(AS340:BM340) -> 4
BC341: 1 | BN341: =sum(J341:X341) -> 0 | BO341: =sum(Y341:AR341) -> 0 | BP341: =sum(AS341:BM341) -> 1
BC342: 3 | BN342: =sum(J342:X342) -> 0 | BO342: =sum(Y342:AR342) -> 0 | BP342: =sum(AS342:BM342) -> 3
BC343: 1 | BN343: =sum(J343:X343) -> 0 | BO343: =sum(Y343:AR343) -> 0 | BP343: =sum(AS343:BM343) -> 1
BC344: 2 | BN344: =sum(J344:X344) -> 0 | BO344: =sum(Y344:AR344) -> 0 | BP344: =sum(AS344:BM344) -> 2
BC345: 3 | BN345: =sum(J345:X345) -> 0 | BO345: =sum(Y345:AR345) -> 0 | BP345: =sum(AS345:BM345) -> 3
BC346: 3 | BN346: =sum(J346:X346) -> 0 | BO346: =sum(Y346:AR346) -> 0 | BP346: =sum(AS346:BM346) -> 3
BC347: 2 | BN347: =sum(J347:X347) -> 0 | BO347: =sum(Y347:AR347) -> 0 | BP347: =sum(AS347:BM347) -> 2
BC348: 4 | BN348: =sum(J348:X348) -> 0 | BO348: =sum(Y348:AR348) -> 0 | BP348: =sum(AS348:BM348) -> 4
BC349: 4 | BN349: =sum(J349:X349) -> 0 | BO349: =sum(Y349:AR349) -> 0 | BP349: =sum(AS349:BM349) -> 4
... BC448: 2 | BN448: =sum(J448:X448) -> 0 | BO448: =sum(Y448:AR448) -> 0 | BP448: =sum(AS448:BM448) -> 2
BC449: RD_IC_11 | BN449: =sum(J449:X449) -> 0 | BO449: =sum(Y449:AR449) -> 0 | BP449: =sum(AS449:BM449) -> 0
BC450: 2 | BN450: =sum(J450:X450) -> 0 | BO450: =sum(Y450:AR450) -> 0 | BP450: =sum(AS450:BM450) -> 2
BC451: 5 | BN451: =sum(J451:X451) -> 0 | BO451: =sum(Y451:AR451) -> 0 | BP451: =sum(AS451:BM451) -> 5
BC452: 4 | BN452: =sum(J452:X452) -> 0 | BO452: =sum(Y452:AR452) -> 0 | BP452: =sum(AS452:BM452) -> 4
BC453: 1 | BN453: =sum(J453:X453) -> 0 | BO453: =sum(Y453:AR453) -> 0 | BP453: =sum(AS453:BM453) -> 1
BC454: 3 | BN454: =sum(J454:X454) -> 0 | BO454: =sum(Y454:AR454) -> 0 | BP454: =sum(AS454:BM454) -> 3
BC455: 1 | BN455: =sum(J455:X455) -> 0 | BO455: =sum(Y455:AR455) -> 0 | BP455: =sum(AS455:BM455) -> 1
BC456: 2 | BN456: =sum(J456:X456) -> 0 | BO456: =sum(Y456:AR456) -> 0 | BP456: =sum(AS456:BM456) -> 2
BC457: 3 | BN457: =sum(J457:X457) -> 0 | BO457: =sum(Y457:AR457) -> 0 | BP457: =sum(AS457:BM457) -> 3
BC458: 3 | BN458: =sum(J458:X458) -> 0 | BO458: =sum(Y458:AR458) -> 0 | BP458: =sum(AS458:BM458) -> 3
BC459: 2 | BN459: =sum(J459:X459) -> 0 | BO459: =sum(Y459:AR459) -> 0 | BP459: =sum(AS459:BM459) -> 2
BC460: 4 | BN460: =sum(J460:X460) -> 0 | BO460: =sum(Y460:AR460) -> 0 | BP460: =sum(AS460:BM460) -> 4
BC461: 4 | BN461: =sum(J461:X461) -> 0 | BO461: =sum(Y461:AR461) -> 0 | BP461: =sum(AS461:BM461) -> 4
... BC560: 2 | BN560: =sum(J560:X560) -> 0 | BO560: =sum(Y560:AR560) -> 0 | BP560: =sum(AS560:BM560) -> 2
BC561: RD_IC_11 | BN561: =sum(J561:X561) -> 0 | BO561: =sum(Y561:AR561) -> 0 | BP561: =sum(AS561:BM561) -> 0
BC562: 2 | BN562: =sum(J562:X562) -> 0 | BO562: =sum(Y562:AR562) -> 0 | BP562: =sum(AS562:BM562) -> 2
BC563: 5 | BN563: =sum(J563:X563) -> 0 | BO563: =sum(Y563:AR563) -> 0 | BP563: =sum(AS563:BM563) -> 5
BC564: 4 | BN564: =sum(J564:X564) -> 0 | BO564: =sum(Y564:AR564) -> 0 | BP564: =sum(AS564:BM564) -> 4
BC565: 1 | BN565: =sum(J565:X565) -> 0 | BO565: =sum(Y565:AR565) -> 0 | BP565: =sum(AS565:BM565) -> 1
BC566: 3 | BN566: =sum(J566:X566) -> 0 | BO566: =sum(Y566:AR566) -> 0 | BP566: =sum(AS566:BM566) -> 3
BC567: 1 | BN567: =sum(J567:X567) -> 0 | BO567: =sum(Y567:AR567) -> 0 | BP567: =sum(AS567:BM567) -> 1
BC568: 2 | BN568: =sum(J568:X568) -> 0 | BO568: =sum(Y568:AR568) -> 0 | BP568: =sum(AS568:BM568) -> 2
BC569: 3 | BN569: =sum(J569:X569) -> 0 | BO569: =sum(Y569:AR569) -> 0 | BP569: =sum(AS569:BM569) -> 3
BC570: 3 | BN570: =sum(J570:X570) -> 0 | BO570: =sum(Y570:AR570) -> 0 | BP570: =sum(AS570:BM570) -> 3
BC571: 2 | BN571: =sum(J571:X571) -> 0 | BO571: =sum(Y571:AR571) -> 0 | BP571: =sum(AS571:BM571) -> 2
BC572: 4 | BN572: =sum(J572:X572) -> 0 | BO572: =sum(Y572:AR572) -> 0 | BP572: =sum(AS572:BM572) -> 4
BC573: 4 | BN573: =sum(J573:X573) -> 0 | BO573: =sum(Y573:AR573) -> 0 | BP573: =sum(AS573:BM573) -> 4
... BC672: 2 | BN672: =sum(J672:X672) -> 0 | BO672: =sum(Y672:AR672) -> 0 | BP672: =sum(AS672:BM672) -> 2
BC673: RD_IC_11 | BN673: =sum(J673:X673) -> 0 | BO673: =sum(Y673:AR673) -> 0 | BP673: =sum(AS673:BM673) -> 0
BC674: 2 | BN674: =sum(J674:X674) -> 0 | BO674: =sum(Y674:AR674) -> 0 | BP674: =sum(AS674:BM674) -> 2
BC675: 5 | BN675: =sum(J675:X675) -> 0 | BO675: =sum(Y675:AR675) -> 0 | BP675: =sum(AS675:BM675) -> 5
BC676: 4 | BN676: =sum(J676:X676) -> 0 | BO676: =sum(Y676:AR676) -> 0 | BP676: =sum(AS676:BM676) -> 4
BC677: 1 | BN677: =sum(J677:X677) -> 0 | BO677: =sum(Y677:AR677) -> 0 | BP677: =sum(AS677:BM677) -> 1
BC678: 3 | BN678: =sum(J678:X678) -> 0 | BO678: =sum(Y678:AR678) -> 0 | BP678: =sum(AS678:BM678) -> 3
BC679: 1 | BN679: =sum(J679:X679) -> 0 | BO679: =sum(Y679:AR679) -> 0 | BP679: =sum(AS679:BM679) -> 1
BC680: 2 | BN680: =sum(J680:X680) -> 0 | BO680: =sum(Y680:AR680) -> 0 | BP680: =sum(AS680:BM680) -> 2
BC681: 3 | BN681: =sum(J681:X681) -> 0 | BO681: =sum(Y681:AR681) -> 0 | BP681: =sum(AS681:BM681) -> 3
BC682: 3 | BN682: =sum(J682:X682) -> 0 | BO682: =sum(Y682:AR682) -> 0 | BP682: =sum(AS682:BM682) -> 3
BC683: 2 | BN683: =sum(J683:X683) -> 0 | BO683: =sum(Y683:AR683) -> 0 | BP683: =sum(AS683:BM683) -> 2
BC684: 4 | BN684: =sum(J684:X684) -> 0 | BO684: =sum(Y684:AR684) -> 0 | BP684: =sum(AS684:BM684) -> 4
BC685: 4 | BN685: =sum(J685:X685) -> 0 | BO685: =sum(Y685:AR685) -> 0 | BP685: =sum(AS685:BM685) -> 4
... BC784: 2 | BN784: =sum(J784:X784) -> 0 | BO784: =sum(Y784:AR784) -> 0 | BP784: =sum(AS784:BM784) -> 2
BC785: RD_IC_11 | BN785: =sum(J785:X785) -> 0 | BO785: =sum(Y785:AR785) -> 0 | BP785: =sum(AS785:BM785) -> 0
BC786: 2 | BN786: =sum(J786:X786) -> 0 | BO786: =sum(Y786:AR786) -> 0 | BP786: =sum(AS786:BM786) -> 2
...

Sheet - 1 item
A1: No | B1: Jenis kelamin | C1: Asal Provinsi (Contoh : Jawa Timur) | D1: Status / Pekerjaan | E1: Usia (Contoh : 21) | F1: Total Pendapatan Perbulan | G1: Asal pendapatan | H1: Lama menjadi kpopers | I1: Total pengeluaran untuk pembelian barang yang berhubungan dengan idol atau selebriti korea | J1: CEC_A_1 | K1: CEC_A_2 | L1: CEC_A_4 | M1: CEC_A_5 | N1: CEC_T_1 | O1: CEC_T_2 | P1: CEC_T_3 | Q1: CEC_T_4 | R1: CEC_T_5 | S1: CEC_E_1 | T1: CEC_E_2 | U1: CEC_E_3 | V1: CEC_E_4 | W1: CEC_E_5 | X1: IB_C_1 | Y1: IB_C_2 | Z1: IB_C_3 | AA1: IB_C_4 | AB1: IB_C_5 | AC1: IB_C_6 | AD1: IB_C_7 | AE1: IB_C_8 | AF1: IB_C_9 | AG1: IB_C_10 | AH1: IB_A_1 | AI1: IB_A_2 | AJ1: IB_A_3 | AK1: IB_A_4 | AL1: IB_A_5 | AM1: IB_A_6 | AN1: IB_A_7 | AO1: IB_A_8 | AP1: IB_A_9 | AQ1: IB_A_10 | AR1: RD_IC_1 | AS1: RD_IC_2 | AT1: RD_IC_3 | AU1: RD_IC_4 | AV1: RD_IC_5 | AW1: RD_IC_6 | AX1: RD_IC_7 | AY1: RD_IC_8 | AZ1: RD_IC_9 | BA1: RD_IC_10 | BB1: RD_IC_11 | BC1: RD_GS_1 | BD1: RD_GS_2 | BE1: RD_GS_3 | BF1: RD_GS_4 | BG1: RD_GS_5 | BH1: RD_GS_6 | BI1: RD_GS_7 | BJ1: RD_GS_8 | BK1: RD_GS_9 | BL1: RD_GS_10 | BM1: Total CEC | BN1: Total IB | BO1: Total RD
A2: R1 | B2: 1 | C2: 11 | D2: 2 | E2: 6 | F2: 2 | G2: 2 | H2: 1 | I2: 3 | J2: 4 | K2: 4 | L2: 4 | M2: 5 | N2: 5 | O2: 4 | P2: 4 | Q2: 4 | R2: 5 | S2: 4 | T2: 4 | U2: 4 | V2: 5 | W2: 4 | X2: 6 | Y2: 6 | Z2: 6 | AA2: 5 | AB2: 6 | AC2: 6 | AD2: 6 | AE2: 6 | AF2: 5 | AG2: 6 | AH2: 6 | AI2: 6 | AJ2: 2 | AK2: 2 | AL2: 6 | AM2: 6 | AN2: 6 | AO2: 6 | AP2: 6 | AQ2: 6 | AR2: 2 | AS2: 2 | AT2: 2 | AU2: 2 | AV2: 2 | AW2: 4 | AX2: 4 | AY2: 2 | AZ2: 2 | BA2: 2 | BB2: 2 | BC2: 3 | BD2: 4 | BE2: 3 | BF2: 4 | BG2: 2 | BH2: 3 | BI2: 2 | BJ2: 4 | BK2: 3 | BL2: 4 | BM2: =sum(J2:W2) -> 60 | BN2: =sum(X2:AQ2) -> 110 | BO2: =sum(AR2:BL2) -> 58
A3: R2 | B3: 2 | C3: 13 | D3: 4 | E3: 11 | F3: 1 | G3: 3 | H3: 1 | I3: 1 | J3: 4 | K3: 5 | L3: 5 | M3: 3 | N3: 5 | O3: 4 | P3: 5 | Q3: 4 | R3: 5 | S3: 4 | T3: 5 | U3: 5 | V3: 3 | W3: 5 | X3: 1 | Y3: 1 | Z3: 3 | AA3: 1 | AB3: 1 | AC3: 1 | AD3: 1 | AE3: 1 | AF3: 4 | AG3: 1 | AH3: 3 | AI3: 1 | AJ3: 6 | AK3: 1 | AL3: 5 | AM3: 5 | AN3: 1 | AO3: 1 | AP3: 1 | AQ3: 1 | AR3: 2 | AS3: 5 | AT3: 5 | AU3: 1 | AV3: 5 | AW3: 5 | AX3: 4 | AY3: 4 | AZ3: 5 | BA3: 5 | BB3: 5 | BC3: 4 | BD3: 5 | BE3: 4 | BF3: 5 | BG3: 2 | BH3: 5 | BI3: 5 | BJ3: 3 | BK3: 5 | BL3: 5 | BM3: =sum(J3:W3) -> 62 | BN3: =sum(X3:AQ3) -> 40 | BO3: =sum(AR3:BL3) -> 89
A4: R3 | B4: 1 | C4: 12 | D4: 4 | E4: 11 | F4: 3 | G4: 1 | H4: 5 | I4: 3 | J4: 5 | K4: 5 | L4: 5 | M4: 5 | N4: 5 | O4: 5 | P4: 5 | Q4: 5 | R4: 5 | S4: 5 | T4: 5 | U4: 5 | V4: 5 | W4: 5 | X4: 1 | Y4: 1 | Z4: 7 | AA4: 1 | AB4: 1 | AC4: 1 | AD4: 1 | AE4: 1 | AF4: 7 | AG4: 7 | AH4: 7 | AI4: 7 | AJ4: 6 | AK4: 6 | AL4: 7 | AM4: 7 | AN4: 7 | AO4: 7 | AP4: 7 | AQ4: 7 | AR4: 1 | AS4: 1 | AT4: 1 | AU4: 1 | AV4: 1 | AW4: 2 | AX4: 2 | AY4: 1 | AZ4: 5 | BA4: 2 | BB4: 4 | BC4: 5 | BD4: 5 | BE4: 4 | BF4: 5 | BG4: 1 | BH4: 5 | BI4: 1 | BJ4: 5 | BK4: 5 | BL4: 4 | BM4: =sum(J4:W4) -> 70 | BN4: =sum(X4:AQ4) -> 96 | BO4: =sum(AR4:BL4) -> 61
A5: R4 | B5: 1 | C5: 14 | D5: 2 | E5: 6 | F5: 2 | G5: 2 | H5: 4 | I5: 6 | J5: 5 | K5: 4 | L5: 4 | M5: 5 | N5: 4 | O5: 5 | P5: 4 | Q5: 5 | R5: 4 | S5: 5 | T5: 4 | U5: 5 | V5: 4 | W5: 5 | X5: 5 | Y5: 6 | Z5: 1 | AA5: 6 | AB5: 5 | AC5: 7 | AD5: 6 | AE5: 7 | AF5: 3 | AG5: 1 | AH5: 2 | AI5: 1 | AJ5: 3 | AK5: 6 | AL5: 3 | AM5: 1 | AN5: 3 | AO5: 1 | AP5: 2 | AQ5: 1 | AR5: 1 | AS5: 2 | AT5: 1 | AU5: 2 | AV5: 1 | AW5: 2 | AX5: 1 | AY5: 2 | AZ5: 1 | BA5: 2 | BB5: 1 | BC5: 2 | BD5: 1 | BE5: 2 | BF5: 2 | BG5: 2 | BH5: 2 | BI5: 2 | BJ5: 2 | BK5: 2 | BL5: 1 | BM5: =sum(J5:W5) -> 63 | BN5: =sum(X5:AQ5) -> 70 | BO5: =sum(AR5:BL5) -> 34
A6: R5 | B6: 1 | C6: 15 | D6: 2 | E6: 8 | F6: 1 | G6: 2 | H6: 2 | I6: 1 | J6: 5 | K6: 4 | L6: 4 | M6: 5 | N6: 4 | O6: 5 | P6: 4 | Q6: 5 | R6: 4 | S6: 5 | T6: 4 | U6: 5 | V6: 4 | W6: 5 | X6: 1 | Y6: 2 | Z6: 7 | AA6: 3 | AB6: 2 | AC6: 1 | AD6: 2 | AE6: 1 | AF6: 5 | AG6: 6 | AH6: 7 | AI6: 6 | AJ6: 7 | AK6: 3 | AL6: 6 | AM6: 7 | AN6: 6 | AO6: 6 | AP6: 7 | AQ6: 5 | AR6: 1 | AS6: 2 | AT6: 1 | AU6: 2 | AV6: 1 | AW6: 4 | AX6: 5 | AY6: 3 | AZ6: 5 | BA6: 4 | BB6: 3 | BC6: 4 | BD6: 5 | BE6: 4 | BF6: 5 | BG6: 2 | BH6: 4 | BI6: 1 | BJ6: 4 | BK6: 5 | BL6: 4 | BM6: =sum(J6:W6) -> 63 | BN6: =sum(X6:AQ6) -> 90 | BO6: =sum(AR6:BL6) -> 69
A7: R6 | B7: 1 | C7: 11 | D7: 2 | E7: 8 | F7: 2 | G7: 2 | H7: 2 | I7: 2 | J7: 4 | K7: 5 | L7: 4 | M7: 4 | N7: 5 | O7: 5 | P7: 4 | Q7: 4 | R7: 5 | S7: 5 | T7: 5 | U7: 5 | V7: 4 | W7: 5 | X7: 2 | Y7: 1 | Z7: 6 | AA7: 2 | AB7: 2 | AC7: 2 | AD7: 1 | AE7: 3 | AF7: 7 | AG7: 6 | AH7: 5 | AI7: 7 | AJ7: 5 | AK7: 2 | AL7: 6 | AM7: 7 | AN7: 6 | AO7: 5 | AP7: 5 | AQ7: 6 | AR7: 2 | AS7: 1 | AT7: 2 | AU7: 1 | AV7: 1 | AW7: 4 | AX7: 5 | AY7: 2 | AZ7: 5 | BA7: 4 | BB7: 1 | BC7: 4 | BD7: 5 | BE7: 4 | BF7: 4 | BG7: 1 | BH7: 5 | BI7: 2 | BJ7: 5 | BK7: 5 | BL7: 4 | BM7: =sum(J7:W7) -> 64 | BN7: =sum(X7:AQ7) -> 86 | BO7: =sum(AR7:BL7) -> 67
A8: R7 | B8: 1 | C8: 12 | D8: 2 | E8: 6 | F8: 2 | G8: 2 | H8: 3 | I8: 1 | J8: 4 | K8: 5 | L8: 4 | M8: 4 | N8: 5 | O8: 5 | P8: 4 | Q8: 4 | R8: 5 | S8: 4 | T8: 4 | U8: 4 | V8: 5 | W8: 5 | X8: 3 | Y8: 3 | Z8: 3 | AA8: 3 | AB8: 3 | AC8: 3 | AD8: 2 | AE8: 3 | AF8: 3 | AG8: 4 | AH8: 5 | AI8: 6 | AJ8: 6 | AK8: 6 | AL8: 5 | AM8: 5 | AN8: 5 | AO8: 5 | AP8: 5 | AQ8: 5 | AR8: 2 | AS8: 2 | AT8: 4 | AU8: 2 | AV8: 2 | AW8: 4 | AX8: 4 | AY8: 2 | AZ8: 4 | BA8: 4 | BB8: 2 | BC8: 4 | BD8: 4 | BE8: 4 | BF8: 4 | BG8: 1 | BH8: 4 | BI8: 1 | BJ8: 5 | BK8: 2 | BL8: 2 | BM8: =sum(J8:W8) -> 62 | BN8: =sum(X8:AQ8) -> 83 | BO8: =sum(AR8:BL8) -> 63
A9: R8 | B9: 1 | C9: 16 | D9: 2 | E9: 7 | F9: 1 | G9: 2 | H9: 2 | I9: 2 | J9: 4 | K9: 5 | L9: 5 | M9: 4 | N9: 3 | O9: 3 | P9: 3 | Q9: 4 | R9: 4 | S9: 4 | T9: 4 | U9: 5 | V9: 4 | W9: 5 | X9: 2 | Y9: 3 | Z9: 4 | AA9: 3 | AB9: 3 | AC9: 2 | AD9: 1 | AE9: 3 | AF9: 6 | AG9: 6 | AH9: 5 | AI9: 6 | AJ9: 6 | AK9: 3 | AL9: 6 | AM9: 5 | AN9: 7 | AO9: 6 | AP9: 5 | AQ9: 6 | AR9: 2 | AS9: 3 | AT9: 3 | AU9: 3 | AV9: 4 | AW9: 3 | AX9: 4 | AY9: 3 | AZ9: 4 | BA9: 4 | BB9: 3 | BC9: 4 | BD9: 4 | BE9: 4 | BF9: 4 | BG9: 2 | BH9: 3 | BI9: 2 | BJ9: 3 | BK9: 4 | BL9: 4 | BM9: =sum(J9:W9) -> 57 | BN9: =sum(X9:AQ9) -> 88 | BO9: =sum(AR9:BL9) -> 70
A10: R9 | B10: 1 | C10: 10 | D10: 2 | E10: 8 | F10: 1 | G10: 2 | H10: 2 | I10: 1 | J10: 4 | K10: 4 | L10: 5 | M10: 5 | N10: 4 | O10: 4 | P10: 4 | Q10: 4 | R10: 4 | S10: 4 | T10: 3 | U10: 4 | V10: 2 | W10: 3 | X10: 1 | Y10: 2 | Z10: 4 | AA10: 2 | AB10: 2 | AC10: 4 | AD10: 1 | AE10: 1 | AF10: 7 | AG10: 2 | AH10: 2 | AI10: 2 | AJ10: 6 | AK10: 3 | AL10: 7 | AM10: 7 | AN10: 4 | AO10: 3 | AP10: 5 | AQ10: 4 | AR10: 2 | AS10: 2 | AT10: 4 | AU10: 4 | AV10: 4 | AW10: 4 | AX10: 4 | AY10: 2 | AZ10: 5 | BA10: 5 | BB10: 3 | BC10: 4 | BD10: 4 | BE10: 5 | BF10: 5 | BG10: 1 | BH10: 5 | BI10: 2 | BJ10: 4 | BK10: 3 | BL10: 5 | BM10: =sum(J10:W10) -> 54 | BN10: =sum(X10:AQ10) -> 69 | BO10: =sum(AR10:BL10) -> 77
A11: R10 | B11: 1 | C11: 16 | D11: 2 | E11: 8 | F11: 1 | G11: 2 | H11: 5 | I11: 2 | J11: 4 | K11: 4 | L11: 4 | M11: 4 | N11: 4 | O11: 4 | P11: 4 | Q11: 5 | R11: 4 | S11: 4 | T11: 3 | U11: 4 | V11: 3 | W11: 4 | X11: 2 | Y11: 6 | Z11: 6 | AA11: 5 | AB11: 3 | AC11: 6 | AD11: 1 | AE11: 2 | AF11: 7 | AG11: 6 | AH11: 7 | AI11: 7 | AJ11: 7 | AK11: 6 | AL11: 7 | AM11: 7 | AN11: 5 | AO11: 6 | AP11: 6 | AQ11: 7 | AR11: 2 | AS11: 1 | AT11: 2 | AU11: 1 | AV11: 1 | AW11: 3 | AX11: 4 | AY11: 2 | AZ11: 4 | BA11: 5 | BB11: 2 | BC11: 5 | BD11: 2 | BE11: 4 | BF11: 4 | BG11: 1 | BH11: 4 | BI11: 2 | BJ11: 4 | BK11: 4 | BL11: 2 | BM11: =sum(J11:W11) -> 55 | BN11: =sum(X11:AQ11) -> 109 | BO11: =sum(AR11:BL11) -> 59
A12: R11 | B12: 2 | C12: 16 | D12: 4 | E12: 11 | F12: 3 | G12: 1 | H12: 4 | I12: 2 | J12: 4 | K12: 2 | L12: 2 | M12: 4 | N12: 2 | O12: 2 | P12: 2 | Q12: 2 | R12: 2 | S12: 2 | T12: 2 | U12: 2 | V12: 2 | W12: 2 | X12: 2 | Y12: 2 | Z12: 2 | AA12: 2 | AB12: 6 | AC12: 2 | AD12: 2 | AE12: 2 | AF12: 2 | AG12: 2 | AH12: 6 | AI12: 6 | AJ12: 6 | AK12: 2 | AL12: 6 | AM12: 6 | AN12: 2 | AO12: 6 | AP12: 2 | AQ12: 6 | AR12: 2 | AS12: 4 | AT12: 2 | AU12: 2 | AV12: 4 | AW12: 4 | AX12: 4 | AY12: 2 | AZ12: 2 | BA12: 1 | BB12: 4 | BC12: 4 | BD12: 4 | BE12: 4 | BF12: 4 | BG12: 4 | BH12: 4 | BI12: 2 | BJ12: 4 | BK12: 4 | BL12: 2 | BM12: =sum(J12:W12) -> 32 | BN12: =sum(X12:AQ12) -> 72 | BO12: =sum(AR12:BL12) -> 67
A13: R12 | B13: 2 | C13: 16 | D13: 2 | E13: 8 | F13: 2 | G13: 2 | H13: 1 | I13: 2 | J13: 3 | K13: 4 | L13: 4 | M13: 5 | N13: 4 | O13: 4 | P13: 3 | Q13: 5 | R13: 5 | S13: 4 | T13: 4 | U13: 5 | V13: 4 | W13: 3 | X13: 3 | Y13: 4 | Z13: 4 | AA13: 3 | AB13: 4 | AC13: 3 | AD13: 4 | AE13: 3 | AF13: 5 | AG13: 4 | AH13: 7 | AI13: 6 | AJ13: 6 | AK13: 4 | AL13: 6 | AM13: 6 | AN13: 5 | AO13: 5 | AP13: 6 | AQ13: 4 | AR13: 2 | AS13: 2 | AT13: 3 | AU13: 1 | AV13: 1 | AW13: 4 | AX13: 3 | AY13: 3 | AZ13: 4 | BA13: 4 | BB13: 4 | BC13: 3 | BD13: 3 | BE13: 4 | BF13: 3 | BG13: 1 | BH13: 5 | BI13: 3 | BJ13: 3 | BK13: 3 | BL13: 3 | BM13: =sum(J13:W13) -> 57 | BN13: =sum(X13:AQ13) -> 92 | BO13: =sum(AR13:BL13) -> 62
... A112: R111 | B112: 1 | C112: 11 | D112: 7 | E112: 5 | F112: 1 | G112: 2 | H112: 2 | I112: 1 | J112: 3 | K112: 4 | L112: 3 | M112: 3 | N112: 4 | O112: 5 | P112: 4 | Q112: 4 | R112: 3 | S112: 4 | T112: 3 | U112: 3 | V112: 3 | W112: 3 | X112: 2 | Y112: 4 | Z112: 6 | AA112: 4 | AB112: 4 | AC112: 4 | AD112: 4 | AE112: 5 | AF112: 5 | AG112: 6 | AH112: 6 | AI112: 7 | AJ112: 7 | AK112: 4 | AL112: 6 | AM112: 4 | AN112: 3 | AO112: 4 | AP112: 7 | AQ112: 5 | AR112: 2 | AS112: 2 | AT112: 1 | AU112: 2 | AV112: 1 | AW112: 3 | AX112: 3 | AY112: 2 | AZ112: 3 | BA112: 3 | BB112: 2 | BC112: 3 | BD112: 3 | BE112: 3 | BF112: 3 | BG112: 3 | BH112: 3 | BI112: 3 | BJ112: 3 | BK112: 4 | BL112: 4 | BM112: =sum(J112:W112) -> 49 | BN112: =sum(X112:AQ112) -> 97 | BO112: =sum(AR112:BL112) -> 56
A114: =COUNTIF(E:E, 11) -> 7
A116: Perempuan | B116: =COUNTIF(B2:B112, 1) -> 98
A117: Laki-laki | B117: =COUNTIF(B2:B112, 2) -> 13
A118: Gaji & Uang saku | B118: =COUNTIF(G:G, 3) -> 21
A119: 5 - 7 tahun | B119: =COUNTIF(H:H, 4) -> 18
A120: > 7 tahun | B120: =COUNTIF(H:H, 5) -> 25
A121: > Rp5.000.000 | B121: =COUNTIF(I:I, 6) -> 12
A122: Belum bekerja | B122: =COUNTIF(D:D, 7) -> 3
BM256: =sum(J256:W256) -> 0 | BN256: =sum(X256:AQ256) -> 0 | BO256: =sum(AR256:BL256) -> 0
BM257: =sum(J257:W257) -> 0 | BN257: =sum(X257:AQ257) -> 0 | BO257: =sum(AR257:BL257) -> 0
BM258: =sum(J258:W258) -> 0 | BN258: =sum(X258:AQ258) -> 0 | BO258: =sum(AR258:BL258) -> 0
BM259: =sum(J259:W259) -> 0 | BN259: =sum(X259:AQ259) -> 0 | BO259: =sum(AR259:BL259) -> 0
BM260: =sum(J260:W260) -> 0 | BN260: =sum(X260:AQ260) -> 0 | BO260: =sum(AR260:BL260) -> 0
BM261: =sum(J261:W261) -> 0 | BN261: =sum(X261:AQ261) -> 0 | BO261: =sum(AR261:BL261) -> 0
BM262: =sum(J262:W262) -> 0 | BN262: =sum(X262:AQ262) -> 0 | BO262: =sum(AR262:BL262) -> 0
BM263: =sum(J263:W263) -> 0 | BN263: =sum(X263:AQ263) -> 0 | BO263: =sum(AR263:BL263) -> 0
BM264: =sum(J264:W264) -> 0 | BN264: =sum(X264:AQ264) -> 0 | BO264: =sum(AR264:BL264) -> 0
BM265: =sum(J265:W265) -> 0 | BN265: =sum(X265:AQ265) -> 0 | BO265: =sum(AR265:BL265) -> 0
BM266: =sum(J266:W266) -> 0 | BN266: =sum(X266:AQ266) -> 0 | BO266: =sum(AR266:BL266) -> 0
BM267: =sum(J267:W267) -> 0 | BN267: =sum(X267:AQ267) -> 0 | BO267: =sum(AR267:BL267) -> 0
... BM876: =sum(J876:W876) -> 0 | BN876: =sum(X876:AQ876) -> 0 | BO876: =sum(AR876:BL876) -> 0

Sheet Total (-1 item)
A1: No | B1: Jenis kelamin | C1: Asal Provinsi (Contoh : Jawa Timur) | D1: Status / Pekerjaan | E1: Usia (Contoh : 21) | F1: Total Pendapatan Perbulan | G1: Asal pendapatan | H1: Lama menjadi kpopers | I1: Total pengeluaran untuk pembelian barang yang berhubungan dengan idol atau selebriti korea | J1: Total CEC | K1: Total IB | L1: Total RD
A2: R1 | B2: 1 | C2: 11 | D2: 2 | E2: 6 | F2: 2 | G2: 2 | H2: 1 | I2: 3 | J2: 60 | K2: 110 | L2: 58
A3: R2 | B3: 2 | C3: 13 | D3: 4 | E3: 11 | F3: 1 | G3: 3 | H3: 1 | I3: 1 | J3: 62 | K3: 40 | L3: 89
A4: R3 | B4: 1 | C4: 12 | D4: 4 | E4: 11 | F4: 3 | G4: 1 | H4: 5 | I4: 3 | J4: 70 | K4: 96 | L4: 61
A5: R4 | B5: 1 | C5: 14 | D5: 2 | E5: 6 | F5: 2 | G5: 2 | H5: 4 | I5: 6 | J5: 63 | K5: 70 | L5: 34
A6: R5 | B6: 1 | C6: 15 | D6: 2 | E6: 8 | F6: 1 | G6: 2 | H6: 2 | I6: 1 | J6: 63 | K6: 90 | L6: 69
A7: R6 | B7: 1 | C7: 11 | D7: 2 | E7: 8 | F7: 2 | G7: 2 | H7: 2 | I7: 2 | J7: 64 | K7: 86 | L7: 67
A8: R7 | B8: 1 | C8: 12 | D8: 2 | E8: 6 | F8: 2 | G8: 2 | H8: 3 | I8: 1 | J8: 62 | K8: 83 | L8: 63
A9: R8 | B9: 1 | C9: 16 | D9: 2 | E9: 7 | F9: 1 | G9: 2 | H9: 2 | I9: 2 | J9: 57 | K9: 88 | L9: 70
A10: R9 | B10: 1 | C10: 10 | D10: 2 | E10: 8 | F10: 1 | G10: 2 | H10: 2 | I10: 1 | J10: 54 | K10: 69 | L10: 77
A11: R10 | B11: 1 | C11: 16 | D11: 2 | E11: 8 | F11: 1 | G11: 2 | H11: 5 | I11: 2 | J11: 55 | K11: 109 | L11: 59
A12: R11 | B12: 2 | C12: 16 | D12: 4 | E12: 11 | F12: 3 | G12: 1 | H12: 4 | I12: 2 | J12: 32 | K12: 72 | L12: 67
A13: R12 | B13: 2 | C13: 16 | D13: 2 | E13: 8 | F13: 2 | G13: 2 | H13: 1 | I13: 2 | J13: 57 | K13: 92 | L13: 62
... A112: R111 | B112: 1 | C112: 11 | D112: 7 | E112: 5 | F112: 1 | G112: 2 | H112: 2 | I112: 1 | J112: 49 | K112: 97 | L112: 56

Sheet Total (- 1 dimensi)
A1: No | B1: Jenis kelamin | C1: Asal Provinsi (Contoh : Jawa Timur) | D1: Status / Pekerjaan | E1: Usia (Contoh : 21) | F1: Total Pendapatan Perbulan | G1: Asal pendapatan | H1: Lama menjadi kpopers | I1: Total pengeluaran untuk pembelian barang yang berhubungan dengan idol atau selebriti korea | J1: Total CEC | K1: Total IB | L1: Total RD
A2: R1 | B2: 1 | C2: 11 | D2: 2 | E2: 6 | F2: 2 | G2: 2 | H2: 1 | I2: 3 | J2: =sum('Full Item'!O2:X2) -> 43 | K2: =sum('Full Item'!Y2:AR2) -> 110 | L2: =sum('Full Item'!AS2:BM2) -> 58
A3: R2 | B3: 2 | C3: 13 | D3: 4 | E3: 11 | F3: 1 | G3: 3 | H3: 1 | I3: 1 | J3: =sum('Full Item'!O3:X3) -> 45 | K3: =sum('Full Item'!Y3:AR3) -> 40 | L3: =sum('Full Item'!AS3:BM3) -> 89
A4: R3 | B4: 1 | C4: 12 | D4: 4 | E4: 11 | F4: 3 | G4: 1 | H4: 5 | I4: 3 | J4: =sum('Full Item'!O4:X4) -> 50 | K4: =sum('Full Item'!Y4:AR4) -> 96 | L4: =sum('Full Item'!AS4:BM4) -> 61
A5: R4 | B5: 1 | C5: 14 | D5: 2 | E5: 6 | F5: 2 | G5: 2 | H5: 4 | I5: 6 | J5: =sum('Full Item'!O5:X5) -> 45 | K5: =sum('Full Item'!Y5:AR5) -> 70 | L5: =sum('Full Item'!AS5:BM5) -> 34
A6: R5 | B6: 1 | C6: 15 | D6: 2 | E6: 8 | F6: 1 | G6: 2 | H6: 2 | I6: 1 | J6: =sum('Full Item'!O6:X6) -> 45 | K6: =sum('Full Item'!Y6:AR6) -> 90 | L6: =sum('Full Item'!AS6:BM6) -> 69
A7: R6 | B7: 1 | C7: 11 | D7: 2 | E7: 8 | F7: 2 | G7: 2 | H7: 2 | I7: 2 | J7: =sum('Full Item'!O7:X7) -> 47 | K7: =sum('Full Item'!Y7:AR7) -> 86 | L7: =sum('Full Item'!AS7:BM7) -> 67
A8: R7 | B8: 1 | C8: 12 | D8: 2 | E8: 6 | F8: 2 | G8: 2 | H8: 3 | I8: 1 | J8: =sum('Full Item'!O8:X8) -> 45 | K8: =sum('Full Item'!Y8:AR8) -> 83 | L8: =sum('Full Item'!AS8:BM8) -> 63
A9: R8 | B9: 1 | C9: 16 | D9: 2 | E9: 7 | F9: 1 | G9: 2 | H9: 2 | I9: 2 | J9: =sum('Full Item'!O9:X9) -> 39 | K9: =sum('Full Item'!Y9:AR9) -> 88 | L9: =sum('Full Item'!AS9:BM9) -> 70
A10: R9 | B10: 1 | C10: 10 | D10: 2 | E10: 8 | F10: 1 | G10: 2 | H10: 2 | I10: 1 | J10: =sum('Full Item'!O10:X10) -> 36 | K10: =sum('Full Item'!Y10:AR10) -> 69 | L10: =sum('Full Item'!AS10:BM10) -> 77
A11: R10 | B11: 1 | C11: 16 | D11: 2 | E11: 8 | F11: 1 | G11: 2 | H11: 5 | I11: 2 | J11: =sum('Full Item'!O11:X11) -> 39 | K11: =sum('Full Item'!Y11:AR11) -> 109 | L11: =sum('Full Item'!AS11:BM11) -> 59
A12: R11 | B12: 2 | C12: 16 | D12: 4 | E12: 11 | F12: 3 | G12: 1 | H12: 4 | I12: 2 | J12: =sum('Full Item'!O12:X12) -> 20 | K12: =sum('Full Item'!Y12:AR12) -> 72 | L12: =sum('Full Item'!AS12:BM12) -> 67
A13: R12 | B13: 2 | C13: 16 | D13: 2 | E13: 8 | F13: 2 | G13: 2 | H13: 1 | I13: 2 | J13: =sum('Full Item'!O13:X13) -> 41 | K13: =sum('Full Item'!Y13:AR13) -> 92 | L13: =sum('Full Item'!AS13:BM13) -> 62
... A112: R111 | B112: 1 | C112: 11 | D112: 7 | E112: 5 | F112: 1 | G112: 2 | H112: 2 | I112: 1 | J112: =sum('Full Item'!O112:X112) -> 36 | K112: =sum('Full Item'!Y112:AR112) -> 97 | L112: =sum('Full Item'!AS112:BM112) -> 56

Sheet unfav
A1: IB_C_1 | B1: IB_C_2 | D1: IB_C_4 | E1: IB_C_5 | F1: IB_C_6 | G1: IB_C_7 | H1: IB_C_8 | J1: IB_A_4 | N1: RD_IC_1 | O1: RD_IC_2 | P1: RD_IC_3 | Q1: RD_IC_4 | R1: RD_IC_5 | T1: RD_IC_8 | V1: RD_IC_11 | X1: RD_GS_5 | Z1: RD_GS_7 | AB1: Usia (Contoh : 21)
A2: 2 | B2: 2 | D2: 3 | E2: 2 | F2: 2 | G2: 2 | H2: 2 | J2: 6 | N2: 4 | O2: 4 | P2: 4 | Q2: 4 | R2: 4 | T2: 4 | V2: 4 | X2: 4 | Z2: 4 | AB2: 20
A3: 7 | B3: 7 | D3: 7 | E3: 7 | F3: 7 | G3: 7 | H3: 7 | J3: 7 | N3: 4 | O3: 1 | P3: 1 | Q3: 5 | R3: 1 | T3: 2 | V3: 1 | X3: 4 | Z3: 1 | AB3: 25
A4: 7 | B4: 7 | D4: 7 | E4: 7 | F4: 7 | G4: 7 | H4: 7 | J4: 2 | N4: 5 | O4: 5 | P4: 5 | Q4: 5 | R4: 5 | T4: 5 | V4: 2 | X4: 5 | Z4: 5 | AB4: 25
A5: 3 | B5: 2 | D5: 2 | E5: 3 | F5: 1 | G5: 2 | H5: 1 | J5: 2 | N5: 5 | O5: 4 | P5: 5 | Q5: 4 | R5: 5 | T5: 4 | V5: 5 | X5: 4 | Z5: 4 | AB5: 20
A6: 7 | B6: 6 | D6: 5 | E6: 6 | F6: 7 | G6: 6 | H6: 7 | J6: 5 | N6: 5 | O6: 4 | P6: 5 | Q6: 4 | R6: 5 | T6: 3 | V6: 3 | X6: 4 | Z6: 5 | AB6: 22
A7: 6 | B7: 7 | D7: 6 | E7: 6 | F7: 6 | G7: 7 | H7: 5 | J7: 6 | N7: 4 | O7: 5 | P7: 4 | Q7: 5 | R7: 5 | T7: 4 | V7: 5 | X7: 5 | Z7: 4 | AB7: 22
A8: 5 | B8: 5 | D8: 5 | E8: 5 | F8: 5 | G8: 6 | H8: 5 | J8: 2 | N8: 4 | O8: 4 | P8: 2 | Q8: 4 | R8: 4 | T8: 4 | V8: 4 | X8: 5 | Z8: 5 | AB8: 20
